BEGIN:VCALENDAR
VERSION:2.0
PRODID:-//jEvents 2.0 for Joomla//EN
CALSCALE:GREGORIAN
METHOD:PUBLISH
BEGIN:VEVENT
UID:c951e26899d76bc6e167bd5f0f70cc07
CATEGORIES:Polar Conferences, Meetings and Events
CREATED:20191122T123501
SUMMARY:Arctic Research Seminar Series
LOCATION:Online\, Worldwide
DESCRIPTION:The Arctic Research Consortium of the U.S. (ARCUS) announces the next Arcti
 c Research Seminar featuring Jeffrey Brooks, Social Scientist at the Bureau
  of Ocean Energy Management (BOEM). This event will be held online via Zoom
  on Wednesday, 4 December 2019 at 9:30 a.m. ASDT (1:30 p.m. EST).\nRegistra
 tion is required for this event.\nThe ARCUS Arctic Research Seminar Series 
 invites leading Arctic researchers and community leaders to share the lates
 t findings in Arctic research and what they mean for decision-making. The e
 vents are free and open to the public, and will be of particular interest t
 o the international Arctic research community, Arctic educators, non-govern
 mental organizations, federal agency officials, and the public.\nThis semin
 ar, titled Science and Traditional Knowledge in Decision-Making: A Federal 
 Agency Shares its Experience in Alaska, will be presented by Jeffrey Brooks
 , Bureau of Ocean Energy Management. Dr. Brooks began his federal career in
  1990 as a U.S. Peace Corps Volunteer in Benin, West Africa where he led pu
 blic health and rural community development projects. He earned a bachelor 
 of science in biology at Saginaw Valley State University, a master of scien
 ce in conservation ecology and sustainable development at the University of
  Georgia, and a doctorate in natural resources recreation at Colorado State
  University. In 2006, Dr. Brooks completed a post-doctoral fellowship in th
 e social sciences at the U.S. Forest Service, Rocky Mountain Research Stati
 on. He served as a social scientist for seven years with the U.S. Fish and 
 Wildlife Service, Alaska Region in the National Wildlife Refuge System and 
 the Office of Subsistence Management. Dr. Brooks has been with BOEM’s Offic
 e of Environment in Anchorage since 2015 where he serves in the Environment
 al Sciences Management and Environmental Analysis sections.\nSeminar Abstra
 ct:\nProfessionals who collect and use Traditional Knowledge to support res
 ource management decisions often are preoccupied with concerns over how and
  if Traditional Knowledge should be integrated with science. To move beyond
  the integration dilemma, we view Traditional Knowledge and science as dist
 inct and complementary knowledge systems. Dr. Brooks will share examples of
  how BOEM has applied Traditional Knowledge in decision-making in the North
  Slope Borough, Alaska, including applying information from both knowledge 
 systems to monitor subsistence whaling practices and using Traditional Know
 ledge in environmental impact assessment. Applying Traditional Knowledge pr
 oduces decisions that are more inclusive, creates mutual understanding, and
  enhances respect for Traditional Knowledge and science.\nInstructions for 
 accessing the webinar will be sent to registrants prior to the event.\nFor 
 those on Twitter, we invite you to join us in live-tweeting the event using
  the hashtag #arcuswebinar.\nTo more information and to register for the ev
 ent, go to:\n\nFor questions, contact:\nStacey Stoudt\nEmail: <a href="http
 s://www.arcus.org/sites/all/modules/civicrm/extern/url.php?u=18949&amp;qid=
 3213889">This email address is being protected from spambots. You need Java
 Script enabled to view it.
				document.getElementById('cloak887b9358904ef9
 eab2903aaa0535d849').innerHTML = '';
				var prefix = '&#109;a' + 'i&#108;'
  + '&#116;o';
				var path = 'hr' + 'ef' + '=';
				var addy887b9358904ef9e
 ab2903aaa0535d849 = 'st&#97;c&#101;y' + '&#64;';
				addy887b9358904ef9eab2
 903aaa0535d849 = addy887b9358904ef9eab2903aaa0535d849 + '&#97;rc&#117;s' + 
 '&#46;' + '&#111;rg';
				var addy_text887b9358904ef9eab2903aaa0535d849 = '
 st&#97;c&#101;y' + '&#64;' + '&#97;rc&#117;s' + '&#46;' + '&#111;rg';docume
 nt.getElementById('cloak887b9358904ef9eab2903aaa0535d849').innerHTML += '<a
  ' + path + '\'' + prefix + ':' + addy887b9358904ef9eab2903aaa0535d849 + '\
 '>'+addy_text887b9358904ef9eab2903aaa0535d849+'';
		</a>\n
X-ALT-DESC;FMTTYPE=text/html:<p>The Arctic Research Consortium of the U.S. (ARCUS) announces the next Ar
 ctic Research Seminar featuring Jeffrey Brooks, Social Scientist at the Bur
 eau of Ocean Energy Management (BOEM). This event will be held online via Z
 oom on Wednesday, 4 December 2019 at 9:30 a.m. ASDT (1:30 p.m. EST).</p><p>
 <em>Registration is required for this event.</em></p><p>The ARCUS Arctic Re
 search Seminar Series invites leading Arctic researchers and community lead
 ers to share the latest findings in Arctic research and what they mean for 
 decision-making. The events are free and open to the public, and will be of
  particular interest to the international Arctic research community, Arctic
  educators, non-governmental organizations, federal agency officials, and t
 he public.</p><p>This seminar, titled S<em>cience and Traditional Knowledge
  in Decision-Making: A Federal Agency Shares its Experience in Alaska</em>,
  will be presented by Jeffrey Brooks, Bureau of Ocean Energy Management. Dr
 . Brooks began his federal career in 1990 as a U.S. Peace Corps Volunteer i
 n Benin, West Africa where he led public health and rural community develop
 ment projects. He earned a bachelor of science in biology at Saginaw Valley
  State University, a master of science in conservation ecology and sustaina
 ble development at the University of Georgia, and a doctorate in natural re
 sources recreation at Colorado State University. In 2006, Dr. Brooks comple
 ted a post-doctoral fellowship in the social sciences at the U.S. Forest Se
 rvice, Rocky Mountain Research Station. He served as a social scientist for
  seven years with the U.S. Fish and Wildlife Service, Alaska Region in the 
 National Wildlife Refuge System and the Office of Subsistence Management. D
 r. Brooks has been with BOEM’s Office of Environment in Anchorage since 201
 5 where he serves in the Environmental Sciences Management and Environmenta
 l Analysis sections.</p><p><strong>Seminar Abstract:</strong></p><p>Profess
 ionals who collect and use Traditional Knowledge to support resource manage
 ment decisions often are preoccupied with concerns over how and if Traditio
 nal Knowledge should be integrated with science. To move beyond the integra
 tion dilemma, we view Traditional Knowledge and science as distinct and com
 plementary knowledge systems. Dr. Brooks will share examples of how BOEM ha
 s applied Traditional Knowledge in decision-making in the North Slope Borou
 gh, Alaska, including applying information from both knowledge systems to m
 onitor subsistence whaling practices and using Traditional Knowledge in env
 ironmental impact assessment. Applying Traditional Knowledge produces decis
 ions that are more inclusive, creates mutual understanding, and enhances re
 spect for Traditional Knowledge and science.</p><p>Instructions for accessi
 ng the webinar will be sent to registrants prior to the event.</p><p>For th
 ose on Twitter, we invite you to join us in live-tweeting the event using t
 he hashtag #arcuswebinar.</p><p>To more information and to register for the
  event, go to:<br /><a href="https://www.arcus.org/sites/all/modules/civicr
 m/extern/url.php?u=18948&amp;qid=3213889">Arctic Research Seminar Series ho
 mepage</a></p><p>For questions, contact:<br />Stacey Stoudt<br />Email:&nbs
 p;<a href="https://www.arcus.org/sites/all/modules/civicrm/extern/url.php?u
 =18949&amp;qid=3213889"><span id="cloak887b9358904ef9eab2903aaa0535d849">Th
 is email address is being protected from spambots. You need JavaScript enab
 led to view it.</span><script type='text/javascript'>
				document.getEleme
 ntById('cloak887b9358904ef9eab2903aaa0535d849').innerHTML = '';
				var pre
 fix = '&#109;a' + 'i&#108;' + '&#116;o';
				var path = 'hr' + 'ef' + '=';

 				var addy887b9358904ef9eab2903aaa0535d849 = 'st&#97;c&#101;y' + '&#64;';
 
				addy887b9358904ef9eab2903aaa0535d849 = addy887b9358904ef9eab2903aaa053
 5d849 + '&#97;rc&#117;s' + '&#46;' + '&#111;rg';
				var addy_text887b93589
 04ef9eab2903aaa0535d849 = 'st&#97;c&#101;y' + '&#64;' + '&#97;rc&#117;s' + 
 '&#46;' + '&#111;rg';document.getElementById('cloak887b9358904ef9eab2903aaa
 0535d849').innerHTML += '<a ' + path + '\'' + prefix + ':' + addy887b935890
 4ef9eab2903aaa0535d849 + '\'>'+addy_text887b9358904ef9eab2903aaa0535d849+'<
 \/a>';
		</script></a></p>
DTSTAMP:20260424T002244Z
DTSTART;TZID=UTC;VALUE=DATE:20191204
DTEND;TZID=UTC;VALUE=DATE:20191205
SEQUENCE:0
TRANSP:OPAQUE
END:VEVENT
END:VCALENDAR