BEGIN:VCALENDAR
VERSION:2.0
PRODID:-//jEvents 2.0 for Joomla//EN
CALSCALE:GREGORIAN
METHOD:PUBLISH
BEGIN:VEVENT
UID:d097a7e6b73fbf4f4705712c5160ce46
CATEGORIES:APECS Events
CREATED:20191122T123253
SUMMARY:USAPECS AGU Meeting 2019
LOCATION:San Francisco\, CA\, USA
DESCRIPTION:USAPECS is setting an informal meeting for members and non-members to discu
 ss research and interests in polar research.\nEvent to be held at Hotel Nik
 ko in the Monterrey II Room from 1 - 2 PM\n
X-ALT-DESC;FMTTYPE=text/html:<p><span data-sheets-value="{&quot;1&quot;:2,&quot;2&quot;:&quot;USAPECS is
  setting an informal meeting for members and non-members to discuss researc
 h and interests in polar research&quot;}" data-sheets-userformat="{&quot;2&
 quot;:513,&quot;3&quot;:{&quot;1&quot;:0},&quot;12&quot;:0}">USAPECS is set
 ting an informal meeting for members and non-members to discuss research an
 d interests in polar research.</span></p><p><span data-sheets-value="{&quot
 ;1&quot;:2,&quot;2&quot;:&quot;Event to be held at Hotel Nikko in the Monte
 rrey II Room from 1 - 2 PM&quot;}" data-sheets-userformat="{&quot;2&quot;:5
 13,&quot;3&quot;:{&quot;1&quot;:0},&quot;12&quot;:0}">Event to be held at H
 otel Nikko in the Monterrey II Room from 1 - 2 PM</span></p>
CONTACT:Lance DiAngelis, AGU Task Group, This email address is being protected from spambots. You need JavaScript enabled to view it.
				document.getElementById('cloak8225eb4ca1fbf3b5948e4a59ccfa53f8').innerHTML = '';
				var prefix = '&#109;a' + 'i&#108;' + '&#116;o';
				var path = 'hr' + 'ef' + '=';
				var addy8225eb4ca1fbf3b5948e4a59ccfa53f8 = 'l&#97;nc&#101;.d&#105;&#97;ng&#101;l&#105;s' + '&#64;';
				addy8225eb4ca1fbf3b5948e4a59ccfa53f8 = addy8225eb4ca1fbf3b5948e4a59ccfa53f8 + 'nd&#117;s' + '&#46;' + '&#101;d&#117;';
				var addy_text8225eb4ca1fbf3b5948e4a59ccfa53f8 = 'l&#97;nc&#101;.d&#105;&#97;ng&#101;l&#105;s' + '&#64;' + 'nd&#117;s' + '&#46;' + '&#101;d&#117;';document.getElementById('cloak8225eb4ca1fbf3b5948e4a59ccfa53f8').innerHTML += '<a ' + path + '\'' + prefix + ':' + addy8225eb4ca1fbf3b5948e4a59ccfa53f8 + '\'>'+addy_text8225eb4ca1fbf3b5948e4a59ccfa53f8+'';
		
DTSTAMP:20260421T233657Z
DTSTART;TZID=UTC;VALUE=DATE:20191211
DTEND;TZID=UTC;VALUE=DATE:20191212
SEQUENCE:0
TRANSP:OPAQUE
END:VEVENT
END:VCALENDAR