BEGIN:VCALENDAR
VERSION:2.0
PRODID:-//jEvents 2.0 for Joomla//EN
CALSCALE:GREGORIAN
METHOD:PUBLISH
BEGIN:VEVENT
UID:e94d60fdb51e0e808d80ae819ab16ebe
CATEGORIES:Field and Summer Schools
CREATED:20191119T091139
SUMMARY:Arctic Floating University Expedition 2020
LOCATION:Arkhangelsk\, Russia + Arctic Ocean
DESCRIPTION:Northern (Arctic) Federal University (https://www.uarctic.org/member-profil
 es/russia/8660/northern-arctic-federal-university) invites researchers, PhD
 -students, and students to take part in the marine research and education e
 xpedition in the Arctic on July 17 – August 3, 2020.\nArctic Floating Unive
 rsity is an annual scientific and education marine expedition, which brings
  together young people and experienced researchers in order to study the Ar
 ctic. For scientists it is an opportunity to conduct research in the high-l
 atitude Arctic. For students it’s a unique educational programme containing
  a multidisciplinary course of lectures and practical training together wit
 h experienced researchers.\nExpedition Dates: July 17 – August 3, 2020 (18 
 days)\nExpedition Route: Arkhangelsk - Cape Zhelaniya (Novaya Zemlya) - Gra
 ham Bell Island (Franz Josef Land - FJL) - Heiss Island (FJL) - Hooker Isla
 nd (FJL) - Northbrook (FJL) - Arkhangelsk (as agreed with organizers, corre
 ctions can be made upon request of participants before expedition) \nExpedi
 tion participants: 57 people (students, post-graduate students, researchers
  from both Russian and international scientific and academic institutions).
 \nThe expedition programme includes research and educational sections. See 
 the detailed programme <a title="AFU 2020 Call For Proposals" href="https:/
 /www.uarctic.org/media/1600197/afu-2020-call-for-proposals.pdf" target="_bl
 ank" rel="noopener" data-udi="umb://media/588eac6c4e3b4e17a5d866fd93cc5320"
 >attached</a>.\nParticipation fee: 380 000 rubles per person. The fee cover
 s accommodation (students: cabin for 3-4 persons; other participants: cabin
  for 2 persons), 4 meals a day, educational programme, landings, use of lab
 oratories on board).\nHow to apply: Online application form is available at
  https://narfu.ru/en/regforms/?ID=139.  \nApplication deadline: January 15,
  2020\nResults will be announced in February 2020.\nVisit <a href="https://
 narfu.ru/en/research/expeditions/fu/index.php?sphrase_id=149726" target="_b
 lank" rel="noopener" data-anchor="?sphrase_id=149726">our page</a> at NArFU
  website to learn more about Arctic Floating University.\nContact persons:\
 nMr. Alexander Saburov, Director of the Arctic Center for Strategic Studies
 , Northern (Arctic) Federal Univesity\nTelephone: +7 8182 21 89 39 / +7 950
  660 68 58\nE-mail: This email address is being protected from spambots. Yo
 u need JavaScript enabled to view it.
				document.getElementById('cloakf6f
 03b38579cd35fcf8f44c4170c819e').innerHTML = '';
				var prefix = '&#109;a' 
 + 'i&#108;' + '&#116;o';
				var path = 'hr' + 'ef' + '=';
				var addyf6f0
 3b38579cd35fcf8f44c4170c819e = '&#97;.s&#97;b&#117;r&#111;v' + '&#64;';
			
 	addyf6f03b38579cd35fcf8f44c4170c819e = addyf6f03b38579cd35fcf8f44c4170c819
 e + 'n&#97;rf&#117;' + '&#46;' + 'r&#117;';
				var addy_textf6f03b38579cd3
 5fcf8f44c4170c819e = '&#97;.s&#97;b&#117;r&#111;v' + '&#64;' + 'n&#97;rf&#1
 17;' + '&#46;' + 'r&#117;';document.getElementById('cloakf6f03b38579cd35fcf
 8f44c4170c819e').innerHTML += '<a ' + path + '\'' + prefix + ':' + addyf6f0
 3b38579cd35fcf8f44c4170c819e + '\'>'+addy_textf6f03b38579cd35fcf8f44c4170c8
 19e+'';
		\nMs. Umidakhon Gapurova, Arctic Center for Strategic Studies, No
 rthern (Arctic) Federal University\nTelephone: +7 996 502 41 23\nE-mail: Th
 is email address is being protected from spambots. You need JavaScript enab
 led to view it.
				document.getElementById('cloakdc5e80b5ee430dabd0cf00a9b
 3a47901').innerHTML = '';
				var prefix = '&#109;a' + 'i&#108;' + '&#116;o
 ';
				var path = 'hr' + 'ef' + '=';
				var addydc5e80b5ee430dabd0cf00a9b3
 a47901 = '&#117;.g&#97;p&#117;r&#111;v&#97;' + '&#64;';
				addydc5e80b5ee4
 30dabd0cf00a9b3a47901 = addydc5e80b5ee430dabd0cf00a9b3a47901 + 'n&#97;rf&#1
 17;' + '&#46;' + 'r&#117;';
				var addy_textdc5e80b5ee430dabd0cf00a9b3a479
 01 = '&#117;.g&#97;p&#117;r&#111;v&#97;' + '&#64;' + 'n&#97;rf&#117;' + '&#
 46;' + 'r&#117;';document.getElementById('cloakdc5e80b5ee430dabd0cf00a9b3a4
 7901').innerHTML += '<a ' + path + '\'' + prefix + ':' + addydc5e80b5ee430d
 abd0cf00a9b3a47901 + '\'>'+addy_textdc5e80b5ee430dabd0cf00a9b3a47901+'';
		
 \n
X-ALT-DESC;FMTTYPE=text/html:<div class="article-intro"><p><a title="Northern (Arctic) Federal Universit
 y" href="https://www.uarctic.org/member-profiles/russia/8660/northern-arcti
 c-federal-university" data-udi="umb://document/3f62b6091c4249ad89b243a5128d
 a68d">Northern (Arctic) Federal University</a>&nbsp;invites researchers, Ph
 D-students, and students to take part in the marine research and education 
 expedition in the Arctic on <strong>July 17 – August 3, 2020</strong>.</p><
 /div><div class="article-body"><p>Arctic Floating University is an annual s
 cientific and education marine expedition, which brings together young peop
 le and experienced researchers in order to study the Arctic. For scientists
  it is an opportunity to conduct research in the high-latitude Arctic. For 
 students it’s a unique educational programme containing a multidisciplinary
  course of lectures and practical training together with experienced resear
 chers.</p><p><strong>Expedition Dates:</strong>&nbsp;July 17 – August 3, 20
 20 (18 days)<br /><strong>Expedition Route:</strong>&nbsp;Arkhangelsk - Cap
 e Zhelaniya (Novaya Zemlya) - Graham Bell Island (Franz Josef Land - FJL) -
  Heiss Island (FJL) - Hooker Island (FJL) - Northbrook (FJL) - Arkhangelsk&
 nbsp;<em>(as agreed with organizers, corrections can be made upon request o
 f participants before expedition)&nbsp;<br /></em><strong>Expedition partic
 ipants:&nbsp;</strong>57&nbsp;people (students, post-graduate students, res
 earchers from both Russian and international scientific and academic instit
 utions).</p><p>The expedition programme includes research and educational s
 ections. See the detailed programme&nbsp;<a title="AFU 2020 Call For Propos
 als" href="https://www.uarctic.org/media/1600197/afu-2020-call-for-proposal
 s.pdf" target="_blank" rel="noopener" data-udi="umb://media/588eac6c4e3b4e1
 7a5d866fd93cc5320">attached</a>.</p><p><strong>Participation fee:</strong>&
 nbsp;380&nbsp;000 rubles per person. The fee covers&nbsp;accommodation (stu
 dents: cabin for 3-4 persons; other participants: cabin for 2 persons), 4 m
 eals a day, educational programme, landings, use of laboratories on board).
 </p><p>How to apply:&nbsp;Online application form is available at&nbsp;<a h
 ref="https://narfu.ru/en/regforms/?ID=139" target="_blank" rel="noopener" d
 ata-anchor="?ID=139">https://narfu.ru/en/regforms/?ID=139</a>.&nbsp;&nbsp;<
 /p><p><strong>Application deadline: January 15, 2020</strong></p><p>Results
  will be announced in February 2020.</p><p>Visit&nbsp;<a href="https://narf
 u.ru/en/research/expeditions/fu/index.php?sphrase_id=149726" target="_blank
 " rel="noopener" data-anchor="?sphrase_id=149726">our page</a>&nbsp;at NArF
 U website to learn more about Arctic Floating University.</p><p><strong>Con
 tact persons:</strong></p><p>Mr. Alexander Saburov, Director of the Arctic 
 Center for Strategic Studies, Northern (Arctic) Federal Univesity<br />Tele
 phone: +7 8182 21 89 39 / +7 950 660 68 58<br />E-mail:&nbsp;<span id="cloa
 kf6f03b38579cd35fcf8f44c4170c819e">This email address is being protected fr
 om spambots. You need JavaScript enabled to view it.</span><script type='te
 xt/javascript'>
				document.getElementById('cloakf6f03b38579cd35fcf8f44c41
 70c819e').innerHTML = '';
				var prefix = '&#109;a' + 'i&#108;' + '&#116;o
 ';
				var path = 'hr' + 'ef' + '=';
				var addyf6f03b38579cd35fcf8f44c417
 0c819e = '&#97;.s&#97;b&#117;r&#111;v' + '&#64;';
				addyf6f03b38579cd35fc
 f8f44c4170c819e = addyf6f03b38579cd35fcf8f44c4170c819e + 'n&#97;rf&#117;' +
  '&#46;' + 'r&#117;';
				var addy_textf6f03b38579cd35fcf8f44c4170c819e = '
 &#97;.s&#97;b&#117;r&#111;v' + '&#64;' + 'n&#97;rf&#117;' + '&#46;' + 'r&#1
 17;';document.getElementById('cloakf6f03b38579cd35fcf8f44c4170c819e').inner
 HTML += '<a ' + path + '\'' + prefix + ':' + addyf6f03b38579cd35fcf8f44c417
 0c819e + '\'>'+addy_textf6f03b38579cd35fcf8f44c4170c819e+'<\/a>';
		</scrip
 t></p><p>Ms. Umidakhon Gapurova, Arctic Center for Strategic Studies, North
 ern (Arctic) Federal University<br />Telephone: +7 996 502 41 23<br />E-mai
 l:&nbsp;<span id="cloakdc5e80b5ee430dabd0cf00a9b3a47901">This email address
  is being protected from spambots. You need JavaScript enabled to view it.<
 /span><script type='text/javascript'>
				document.getElementById('cloakdc5
 e80b5ee430dabd0cf00a9b3a47901').innerHTML = '';
				var prefix = '&#109;a' 
 + 'i&#108;' + '&#116;o';
				var path = 'hr' + 'ef' + '=';
				var addydc5e
 80b5ee430dabd0cf00a9b3a47901 = '&#117;.g&#97;p&#117;r&#111;v&#97;' + '&#64;
 ';
				addydc5e80b5ee430dabd0cf00a9b3a47901 = addydc5e80b5ee430dabd0cf00a9b
 3a47901 + 'n&#97;rf&#117;' + '&#46;' + 'r&#117;';
				var addy_textdc5e80b5
 ee430dabd0cf00a9b3a47901 = '&#117;.g&#97;p&#117;r&#111;v&#97;' + '&#64;' + 
 'n&#97;rf&#117;' + '&#46;' + 'r&#117;';document.getElementById('cloakdc5e80
 b5ee430dabd0cf00a9b3a47901').innerHTML += '<a ' + path + '\'' + prefix + ':
 ' + addydc5e80b5ee430dabd0cf00a9b3a47901 + '\'>'+addy_textdc5e80b5ee430dabd
 0cf00a9b3a47901+'<\/a>';
		</script></p></div>
DTSTAMP:20260421T210131Z
DTSTART;TZID=UTC;VALUE=DATE:20200717
DTEND;TZID=UTC;VALUE=DATE:20200804
SEQUENCE:0
TRANSP:OPAQUE
END:VEVENT
END:VCALENDAR