BEGIN:VCALENDAR
VERSION:2.0
PRODID:-//jEvents 2.0 for Joomla//EN
CALSCALE:GREGORIAN
METHOD:PUBLISH
BEGIN:VEVENT
UID:add34d9c057e020c95cb3bf04e2247cc
CATEGORIES:Polar Conferences, Meetings and Events
CREATED:20191119T090118
SUMMARY:Sámi Education Conference 2020 - postponed to 27-29 October
LOCATION:Kautokeino\, Norway
DESCRIPTION:The conference is postponed the conference until the autumn. New scheduled 
 conference time is 27'th-29'th of October 2020.\nThe themes of the conferen
 ce include the following:\n\n - Daily reality of teaching settings for chil
 dren and youth\n - Outdoor education\n - Vitalization and revitalization of
  indigenous knowledge and languages\n - Decolonization of indigenous educat
 ionThe conference welcomes educators, teachers, principals, researchers, an
 d students to share their teaching and research practices to participate.\n
 The conference languages are Sámi languages, English, and Nordic languages.
  Sámi-speaking presenters are encourages to give their presentations in Sám
 i. Presentation given in the auditorium will be interpreted.\nThe abstract 
 submission is open until December 15, 2019.\nMore information about the abs
 tract submission is available here (https://samas.no/en/a/research/academic
 -events/sami-education-conference/abstract-submissions-parallell-sessions).
 \nRegistration is also open, and the deadline for early bird registrations 
 is on December 15, 2019.\nMore information about registration is available 
 on the <a href="https://samas.no/en/node/4616" target="_blank" rel="noopene
 r">conference website</a>.\n
X-ALT-DESC;FMTTYPE=text/html:<div class="article-intro"><p><strong>The conference is postponed the confe
 rence until the autumn. New scheduled conference time is 27'th-29'th of Oct
 ober 2020.</strong></p></div><div class="article-intro"><p>The themes of th
 e conference include the following:</p></div><div class="article-body"><ul>
 <li>Daily reality of teaching settings for children and youth</li><li>Outdo
 or education</li><li>Vitalization and revitalization of indigenous knowledg
 e and languages</li><li>Decolonization of indigenous education</li></ul><p>
 The conference welcomes educators, teachers, principals, researchers, and s
 tudents to share their teaching and research practices to participate.</p><
 p>The conference languages are Sámi languages, English, and Nordic language
 s. Sámi-speaking presenters are encourages to give their presentations in S
 ámi. Presentation given in the auditorium will be interpreted.</p><p><stron
 g>The abstract submission is open until December 15, 2019</strong>.</p><p>M
 ore information about the abstract submission is available&nbsp;<a href="ht
 tps://samas.no/en/a/research/academic-events/sami-education-conference/abst
 ract-submissions-parallell-sessions" target="_blank" rel="noopener">here</a
 >.</p><p>Registration is also open, and the deadline for early bird registr
 ations is on December 15, 2019.</p><p>More information about registration i
 s available on the&nbsp;<a href="https://samas.no/en/node/4616" target="_bl
 ank" rel="noopener">conference website</a>.</p></div>
DTSTAMP:20260422T001636Z
DTSTART;TZID=UTC;VALUE=DATE:20200525
DTEND;TZID=UTC;VALUE=DATE:20200528
SEQUENCE:0
TRANSP:OPAQUE
END:VEVENT
END:VCALENDAR