BEGIN:VCALENDAR
VERSION:2.0
PRODID:-//jEvents 2.0 for Joomla//EN
CALSCALE:GREGORIAN
METHOD:PUBLISH
BEGIN:VEVENT
UID:9a1cf422740eb4fc0985be8517535c6d
CATEGORIES:Polar Conferences, Meetings and Events
CREATED:20191119T083909
SUMMARY:International Workshop "The Arctic on changes: from local challenges to global partnership"
LOCATION:Incheon\, Republic of Korea
DESCRIPTION:The workshop aims to gather scientists and experts to deliberate on current
  Arctic issues in a broad context, including climate changes and human secu
 rity in the Arctic, traditional knowledge and industrial development, colla
 boration between Arctic and non-Arctic states for pro-active response to ra
 pid Arctic changes.\n\nThe questions we aim to address are what Arctic and 
 non-Arctic states could do together for the Arctic sustainable development,
  and whether we could find effective mechanisms to preserve these sensitive
  ecosystems.\n\nThe participants are invited to discuss the following theme
 s:\n\n - Climate change and human security in the Arctic;\n - Social, econo
 mic, geopolitical transformations, ecosystem changes and\n - sustainable de
 velopment in the Arctic;\n - Indigenous and local communities in the Arctic
  changes;\n - Industrial development of the Arctic;\n - Arctic and non-Arct
 ic states: scope and perspectives of the collaboration;\n - Science diploma
 cy and Arctic changes;\n - Korea in the Arctic science and policy;\n - Othe
 rs;In order to participate in the workshop, please fill in the registration
  form and send it with your abstract (up to 700 words) to Mr. Jihoon Jeong 
 (This email address is being protected from spambots. You need JavaScript e
 nabled to view it.
				document.getElementById('cloakdb8528a58362037ca3c321
 4ccb4c88cb').innerHTML = '';
				var prefix = '&#109;a' + 'i&#108;' + '&#11
 6;o';
				var path = 'hr' + 'ef' + '=';
				var addydb8528a58362037ca3c3214
 ccb4c88cb = 'jj' + '&#64;';
				addydb8528a58362037ca3c3214ccb4c88cb = addy
 db8528a58362037ca3c3214ccb4c88cb + 'k&#111;pr&#105;' + '&#46;' + 'r&#101;' 
 + '&#46;' + 'kr';
				var addy_textdb8528a58362037ca3c3214ccb4c88cb = 'jj' 
 + '&#64;' + 'k&#111;pr&#105;' + '&#46;' + 'r&#101;' + '&#46;' + 'kr';docume
 nt.getElementById('cloakdb8528a58362037ca3c3214ccb4c88cb').innerHTML += '<a
  ' + path + '\'' + prefix + ':' + addydb8528a58362037ca3c3214ccb4c88cb + '\
 '>'+addy_textdb8528a58362037ca3c3214ccb4c88cb+'';
		) no later than 22 Nove
 mber, 2019.\n
X-ALT-DESC;FMTTYPE=text/html:<p>The workshop aims to gather scientists and experts to deliberate on curr
 ent Arctic issues in a broad context, including climate changes and human s
 ecurity in the Arctic, traditional knowledge and industrial development, co
 llaboration between Arctic and non-Arctic states for pro-active response to
  rapid Arctic changes.<br /><br />The questions we aim to address are what 
 Arctic and non-Arctic states could do together for the Arctic sustainable d
 evelopment, and whether we could find effective mechanisms to preserve thes
 e sensitive ecosystems.<br /><br />The participants are invited to discuss 
 the following themes:</p><ul><li>Climate change and human security in the A
 rctic;</li><li>Social, economic, geopolitical transformations, ecosystem ch
 anges and</li><li>sustainable development in the Arctic;</li><li>Indigenous
  and local communities in the Arctic changes;</li><li>Industrial developmen
 t of the Arctic;</li><li>Arctic and non-Arctic states: scope and perspectiv
 es of the collaboration;</li><li>Science diplomacy and Arctic changes;</li>
 <li>Korea in the Arctic science and policy;</li><li>Others;</li></ul><p>In 
 order to participate in the workshop, please fill in the&nbsp;<strong>regis
 tration form</strong>&nbsp;and send it&nbsp;<strong>with your abstract</str
 ong>&nbsp;(up to 700 words) to&nbsp;Mr. Jihoon Jeong (<span id="cloakdb8528
 a58362037ca3c3214ccb4c88cb">This email address is being protected from spam
 bots. You need JavaScript enabled to view it.</span><script type='text/java
 script'>
				document.getElementById('cloakdb8528a58362037ca3c3214ccb4c88cb
 ').innerHTML = '';
				var prefix = '&#109;a' + 'i&#108;' + '&#116;o';
				
 var path = 'hr' + 'ef' + '=';
				var addydb8528a58362037ca3c3214ccb4c88cb 
 = 'jj' + '&#64;';
				addydb8528a58362037ca3c3214ccb4c88cb = addydb8528a583
 62037ca3c3214ccb4c88cb + 'k&#111;pr&#105;' + '&#46;' + 'r&#101;' + '&#46;' 
 + 'kr';
				var addy_textdb8528a58362037ca3c3214ccb4c88cb = 'jj' + '&#64;' 
 + 'k&#111;pr&#105;' + '&#46;' + 'r&#101;' + '&#46;' + 'kr';document.getElem
 entById('cloakdb8528a58362037ca3c3214ccb4c88cb').innerHTML += '<a ' + path 
 + '\'' + prefix + ':' + addydb8528a58362037ca3c3214ccb4c88cb + '\'>'+addy_t
 extdb8528a58362037ca3c3214ccb4c88cb+'<\/a>';
		</script>)&nbsp;no later tha
 n&nbsp;<strong>22 November, 2019</strong>.</p>
DTSTAMP:20260424T041007Z
DTSTART;TZID=UTC;VALUE=DATE:20191216
DTEND;TZID=UTC;VALUE=DATE:20191218
SEQUENCE:0
TRANSP:OPAQUE
END:VEVENT
END:VCALENDAR