BEGIN:VCALENDAR
VERSION:2.0
PRODID:-//jEvents 2.0 for Joomla//EN
CALSCALE:GREGORIAN
METHOD:PUBLISH
BEGIN:VEVENT
UID:ded75f96351e62c62391ff166d6691c8
CATEGORIES:APECS Events
CREATED:20160912T062337
SUMMARY:Prospects of joint investigations in polar regions of the planet
LOCATION:Moscow\, Russia
DESCRIPTION:Institute of physico-chemical and biological problems in soil science (RAS)
 , Council of Young Scientists of RAS, Japan Consortium for Arctic Environme
 ntal Research (JCAR), APECS, Permafrost Young Researchers Network RUSSIA an
 d ANO SIC “Polar Initiative” are glad to invite you to participate in the I
 nternational Russian-Japanese conference of young polar scientists «PROSPEC
 TS OF JOINT INVESTIGATIONS IN POLAR REGIONS OF THE PLANET», October 10 – 12
 , 2016\n
X-ALT-DESC;FMTTYPE=text/html:<p>Institute of physico-chemical and biological problems in soil science (R
 AS), Council of Young Scientists of RAS, Japan Consortium for Arctic Enviro
 nmental Research (JCAR), APECS, Permafrost Young Researchers Network RUSSIA
  and ANO SIC “Polar Initiative” are glad to invite you to participate in th
 e International Russian-Japanese conference of young polar scientists «PROS
 PECTS OF JOINT INVESTIGATIONS IN POLAR REGIONS OF THE PLANET», October 10 –
  12, 2016</p>
CONTACT:Nikita Kuprikov, This email address is being protected from spambots. You need JavaScript enabled to view it.
				document.getElementById('cloak1df40ce6c113738d79f4174055251e01').innerHTML = '';
				var prefix = '&#109;a' + 'i&#108;' + '&#116;o';
				var path = 'hr' + 'ef' + '=';
				var addy1df40ce6c113738d79f4174055251e01 = 'nk&#117;pr&#105;k&#111;v' + '&#64;';
				addy1df40ce6c113738d79f4174055251e01 = addy1df40ce6c113738d79f4174055251e01 + 'gm&#97;&#105;l' + '&#46;' + 'c&#111;m';
				var addy_text1df40ce6c113738d79f4174055251e01 = 'nk&#117;pr&#105;k&#111;v' + '&#64;' + 'gm&#97;&#105;l' + '&#46;' + 'c&#111;m';document.getElementById('cloak1df40ce6c113738d79f4174055251e01').innerHTML += '<a ' + path + '\'' + prefix + ':' + addy1df40ce6c113738d79f4174055251e01 + '\'>'+addy_text1df40ce6c113738d79f4174055251e01+'';
		
DTSTAMP:20260422T004952Z
DTSTART;TZID=UTC;VALUE=DATE:20161010
DTEND;TZID=UTC;VALUE=DATE:20161013
SEQUENCE:0
TRANSP:OPAQUE
END:VEVENT
END:VCALENDAR