BEGIN:VCALENDAR
VERSION:2.0
PRODID:-//jEvents 2.0 for Joomla//EN
CALSCALE:GREGORIAN
METHOD:PUBLISH
BEGIN:VEVENT
UID:ea9ec240a3e11e60511c62cc736e46db
CATEGORIES:Polar Conferences, Meetings and Events
CREATED:20191118T163436
SUMMARY:Workshop of the Weddell Sea - Dronning Maud Land (WS-DML) regional working group of the Southern Ocean Observing System (SOOS) 
LOCATION:Delmenhorst\, Germany 
DESCRIPTION: The theme of the multidisciplinary workshop of the Weddell Sea - Dronning 
 Maud Land (WS-DML) regional working group (http://www.soos.aq/activities/re
 gional-wg/ws-dml) of the <a href="https://scar.org/science/soos/">Southern 
 Ocean Observing System (SOOS)</a> is "The Southern Ocean in the Weddell Sea
  and off Dronning Maud Land: unique oceanographic conditions shape circumpo
 lar and global processes".\nThe Weddell Sea, including the ocean off Dronni
 ng Maud Land, is regionally representative for the high-latitude Southern O
 cean due to its pronounced seasonality, circum-polar currents, deep-water f
 ormation and multi-year sea-ice cover. In addition, the Weddell Gyre connec
 ts water masses at the northern margin of the Southern Ocean (SO) in the An
 tarctic Circumpolar Current (ACC) with those shaped by the large ice shelve
 s and sea-ice formation in the southern Weddell Sea. This hydrodynamic regi
 me affects a range of physical, geochemical and biological processes.\nA sm
 aller proportion of the western Weddell Sea is already experiencing climate
 -change and related consequences, including the acceleration of mass loss f
 rom ice shelves, enhanced ocean warming and freshening, rising air temperat
 ures, and changes in wind patterns. In the eastern part, however, the envir
 onment is still relatively stable but it is predicted to experience signifi
 cant warming, sea-ice melt and ice-shelf loss until the end of the century.
  The recent re-emergence of the Weddell Polynya in this region, for not ent
 irely understood reasons and with potentially significant impact on regiona
 l water masses underscores the importance of observing and understanding th
 is region.\nThe aims of the workshop are to:\n\n - Provide an overview and 
 update of scientific findings, which underline the WS-DML as an important a
 rea for multi-disciplinary and other studies (approx. 30 presentations and 
 posters). It is also planned to publish a special volume on such results.\n
  - Inform the SOOS WS-DML community about the progress of activities in the
  area of interest.\n - Develop ideas, actions and products for the future i
 ncluding multi-national initiatives in short presentations and in a plenary
  discussion following our "additional plans and requirements" assembled dur
 ing our kick-off workshop in Tromsø, in January 2019.Experts are welcome to
  participate and contribute to the developments of this SOOS regional worki
 ng group.  There is limited funding to provide travel support for early-car
 eer researchers - applications must be made by 30 October 2019.  Registrati
 on will open in November 2019.\nFull details of the workshop are in the  pd
 f Second Announcement (169 KB)  (https://scar.org/library/science-4/scar-ot
 her-groups/southern-ocean-observing-system-soos/5388-soos-ws-dml-workshop-2
 020-2nd-announcement).\n
X-ALT-DESC;FMTTYPE=text/html:<div class="g-article-header"><div class="page-header">&nbsp;</div></div><d
 iv itemprop="articleBody"><p>The theme of the multidisciplinary workshop of
  the&nbsp;<a href="http://www.soos.aq/activities/regional-wg/ws-dml" target
 ="_blank" rel="noopener">Weddell Sea - Dronning Maud Land (WS-DML) regional
  working group</a>&nbsp;of the&nbsp;<a href="https://scar.org/science/soos/
 ">Southern Ocean Observing System (SOOS)</a>&nbsp;is "<em>The Southern Ocea
 n in the Weddell Sea and off Dronning Maud Land: unique oceanographic condi
 tions shape circumpolar and global processes".</em></p><p>The Weddell Sea, 
 including the ocean off Dronning Maud Land, is regionally representative fo
 r the high-latitude Southern Ocean due to its pronounced seasonality, circu
 m-polar currents, deep-water formation and multi-year sea-ice cover. In add
 ition, the Weddell Gyre connects water masses at the northern margin of the
  Southern Ocean (SO) in the Antarctic Circumpolar Current (ACC) with those 
 shaped by the large ice shelves and sea-ice formation in the southern Wedde
 ll Sea. This hydrodynamic regime affects a range of physical, geochemical a
 nd biological processes.</p><p>A smaller proportion of the western Weddell 
 Sea is already experiencing climate-change and related consequences, includ
 ing the acceleration of mass loss from ice shelves, enhanced ocean warming 
 and freshening, rising air temperatures, and changes in wind patterns. In t
 he eastern part, however, the environment is still relatively stable but it
  is predicted to experience significant warming, sea-ice melt and ice-shelf
  loss until the end of the century. The recent re-emergence of the Weddell 
 Polynya in this region, for not entirely understood reasons and with potent
 ially significant impact on regional water masses underscores the importanc
 e of observing and understanding this region.</p><p>The aims of the worksho
 p are to:</p><ol><li>Provide an overview and update of scientific findings,
  which underline the WS-DML as an important area for multi-disciplinary and
  other studies (approx. 30 presentations and posters). It is also planned t
 o publish a special volume on such results.</li><li>Inform the SOOS WS-DML 
 community about the progress of activities in the area of interest.</li><li
 >Develop ideas, actions and products for the future including multi-nationa
 l initiatives in short presentations and in a plenary discussion following 
 our "additional plans and requirements" assembled during our kick-off works
 hop in Tromsø, in January 2019.</li></ol><p>Experts are welcome to particip
 ate and contribute to the developments of this SOOS regional working group.
 &nbsp; There is limited funding to provide travel support for early-career 
 researchers - applications must be made by&nbsp;<strong>30 October 2019</st
 rong>.&nbsp; Registration will open in November 2019.</p><p>Full details of
  the workshop are in the&nbsp;<a class="doclink k-ui-namespace" href="https
 ://scar.org/library/science-4/scar-other-groups/southern-ocean-observing-sy
 stem-soos/5388-soos-ws-dml-workshop-2020-2nd-announcement" data-processed="
 data-processed">&nbsp;<span class="k-visually-hidden">pdf&nbsp;</span>Secon
 d Announcement&nbsp;(169 KB)&nbsp;</a>.</p></div>
DTSTAMP:20260422T000710Z
DTSTART;TZID=UTC;VALUE=DATE:20200428
DTEND;TZID=UTC;VALUE=DATE:20200501
SEQUENCE:0
TRANSP:OPAQUE
END:VEVENT
END:VCALENDAR