BEGIN:VCALENDAR
VERSION:2.0
PRODID:-//jEvents 2.0 for Joomla//EN
CALSCALE:GREGORIAN
METHOD:PUBLISH
BEGIN:VEVENT
UID:e797347de93a9ca1f7b06856d069c4ba
CATEGORIES:Polar Conferences, Meetings and Events
CREATED:20191118T162638
SUMMARY:Summit "Contemporary Issues in Education in Multicultural North"
LOCATION:Levanger and Stjørdal\, Norway
DESCRIPTION:The summit is co-organised by Nord University (https://www.uarctic.org/memb
 er-profiles/norway/8863/nord-university), <a title="UiT The Arctic Universi
 ty of Norway" href="https://www.uarctic.org/member-profiles/norway/8922/uit
 -the-arctic-university-of-norway" data-udi="umb://document/867f059d2582452f
 be0ad205f61d19b9">UiT The Arctic University of Norway</a>, Sámi University 
 of Applied Sciences and University of Lapland (https://www.uarctic.org/memb
 er-profiles/finland/8868/university-of-lapland) and is part of <a title="Te
 acher Education for Social Justice and Diversity in Education" href="https:
 //www.uarctic.org/organization/thematic-networks/teacher-education-for-soci
 al-justice-and-diversity-in-education/" data-udi="umb://document/8818fc0c7d
 b1428586f9af8001db2a57">UArctic Thematic Network on Teacher Education for S
 ocial Justice and Diversity</a> activities. \nThe event is funded by projec
 t Transformative Teacher Education for the Sustainable North, funded by UAr
 ctic Norwegian project funding. \nThe first day of two-day summit focuses o
 n themes of education for culturally and linguistically diverse children, m
 ultilingualism and worldview constructions. On the second day there will be
  a visit to a local international school.\nThe summit aims to bring togethe
 r teachers, teacher educators and policy makers to discuss contemporary iss
 ues experienced in multicultural North. The programme provides versatile vi
 ews on issues of education in multicultural north: there will be wide range
  of research presentations, but also a panel discussion that opens the pers
 pective of practitioners and master and doctoral students. All teachers, te
 acher educators, local authorities, policy makers and researchers are warml
 y welcome to participate!\nRegistration for the summit is now open. Partici
 pation fee (including lunches and coffees) is 40 EUR (~407 NOK) per partici
 pant. For students, the participation fee is 20 EUR (~203 NOK).\nLink to th
 e registration, full summit programme and other details are available on Su
 mmit webpage (https://www.ulapland.fi/EN/Webpages/Teacher-Education-for-Soc
 ial-Justice-and-Diversity/Local-Summit-Contemporary-Issues-in-Education-in-
 Multicultural-North-).\n
X-ALT-DESC;FMTTYPE=text/html:<div class="article-intro"><p>The summit is co-organised by&nbsp;<a title="
 Nord University" href="https://www.uarctic.org/member-profiles/norway/8863/
 nord-university" data-udi="umb://document/28052d79f3b240c9b1072f9882209df6"
 >Nord University</a>,&nbsp;<a title="UiT The Arctic University of Norway" h
 ref="https://www.uarctic.org/member-profiles/norway/8922/uit-the-arctic-uni
 versity-of-norway" data-udi="umb://document/867f059d2582452fbe0ad205f61d19b
 9">UiT The Arctic University of Norway</a>, Sámi University of Applied Scie
 nces and&nbsp;<a title="University of Lapland" href="https://www.uarctic.or
 g/member-profiles/finland/8868/university-of-lapland" data-udi="umb://docum
 ent/c811726c369b4fa2864bc03847df92c1">University of Lapland</a>&nbsp;and is
  part of&nbsp;<a title="Teacher Education for Social Justice and Diversity 
 in Education" href="https://www.uarctic.org/organization/thematic-networks/
 teacher-education-for-social-justice-and-diversity-in-education/" data-udi=
 "umb://document/8818fc0c7db1428586f9af8001db2a57">UArctic Thematic Network 
 on Teacher Education for Social Justice and Diversity</a>&nbsp;activities.&
 nbsp;</p></div><div class="article-body"><p>The event is funded by project 
 Transformative Teacher Education for the Sustainable North, funded by UArct
 ic Norwegian project funding.&nbsp;</p><p>The first day of two-day summit f
 ocuses on themes of education for culturally and linguistically diverse chi
 ldren, multilingualism and worldview constructions. On the second day there
  will be a visit to a local international school.</p><p>The summit aims to 
 bring together teachers, teacher educators and policy makers to discuss con
 temporary issues experienced in multicultural North. The programme provides
  versatile views on issues of education in multicultural north: there will 
 be wide range of research presentations, but also a panel discussion that o
 pens the perspective of practitioners and master and doctoral students. All
  teachers, teacher educators, local authorities, policy makers and research
 ers are warmly welcome to participate!</p><p><strong>Registration for the s
 ummit is now open</strong>. Participation fee (including lunches and coffee
 s) is 40 EUR (~407 NOK) per participant. For students, the participation fe
 e is 20 EUR (~203 NOK).</p><p>Link to the registration, full summit program
 me and other details are available on&nbsp;<a href="https://www.ulapland.fi
 /EN/Webpages/Teacher-Education-for-Social-Justice-and-Diversity/Local-Summi
 t-Contemporary-Issues-in-Education-in-Multicultural-North-" target="_blank"
  rel="noopener">Summit webpage</a>.</p></div>
DTSTAMP:20260421T061944Z
DTSTART;TZID=UTC;VALUE=DATE:20200129
DTEND;TZID=UTC;VALUE=DATE:20200131
SEQUENCE:0
TRANSP:OPAQUE
END:VEVENT
END:VCALENDAR