BEGIN:VCALENDAR
VERSION:2.0
PRODID:-//jEvents 2.0 for Joomla//EN
CALSCALE:GREGORIAN
METHOD:PUBLISH
BEGIN:VEVENT
UID:801fdb8d654d5b717cf76b78d52c647c
CATEGORIES:Polar Conferences, Meetings and Events
CREATED:20191118T151911
SUMMARY:European Maritime Day 2020 - postponed
LOCATION:Cork\, Ireland
DESCRIPTION:Due to the COVID-19 situation, the event is postponed. Please keep an eye o
 n the event website for updates.\n \nThe European Commission kindly invite 
 you to the European Maritime Day 2020. EMD is the annual EU meeting point o
 n maritime affairs and sustainable blue economy. It targets maritime profes
 sionals, entrepreneurs and ocean leaders.\nThe event and exhibition will ta
 ke place on 14-15 May 2020 in the City Hall of Cork and is co-organised by 
 the European Commission, the City of Cork and ‘Our Ocean Wealth’ Summit.\nW
 e will again offer an attractive programme and great networking opportuniti
 es.\nCall for workshops\nAs in the previous years, stakeholders’ workshops 
 are at the core of the conference. For 2020 we are planning to select 20 hi
 gh-quality workshops (four slots with 5 workshops running in parallel) and 
 we herewith launch the call for stakeholders' workshops. (https://ec.europa
 .eu/maritimeaffairs/maritimeday/en/workshops)\nPlease follow the link to <a
  href="https://ec.europa.eu/maritimeaffairs/maritimeday/en" target="_blank"
  rel="noopener">EMD website</a> for more information on the draft programme
  (https://ec.europa.eu/maritimeaffairs/maritimeday/en/conference) and about
  <a href="https://ec.europa.eu/maritimeaffairs/maritimeday/en/content/get-i
 nvolved" target="_blank" rel="noopener">how to get involved</a>.\nDeadline:
  3 December 2019\n
X-ALT-DESC;FMTTYPE=text/html:<div class="article-intro"><p><strong>Due to the COVID-19 situation, the ev
 ent is postponed. Please keep an eye on the event website for updates.</str
 ong></p><p>&nbsp;</p><p>The European Commission kindly invite you to&nbsp;t
 he European Maritime Day 2020.&nbsp;EMD is the annual EU meeting point on m
 aritime affairs and sustainable blue economy.&nbsp;It targets maritime prof
 essionals, entrepreneurs and ocean leaders.</p></div><div class="article-bo
 dy"><p>The event and exhibition will take place on 14-15 May 2020 in the Ci
 ty Hall of Cork and is co-organised by the European Commission, the City of
  Cork and ‘Our Ocean Wealth’ Summit.</p><p>We will again offer an attractiv
 e programme and great networking opportunities.</p><p><strong>Call for work
 shops</strong></p><p>As in the previous years, stakeholders’ workshops are 
 at the core of the conference. For 2020 we are planning to select 20 high-q
 uality workshops (four slots with 5 workshops running in parallel) and we h
 erewith launch the&nbsp;<a href="https://ec.europa.eu/maritimeaffairs/marit
 imeday/en/workshops" target="_blank" rel="noopener"><span style="text-decor
 ation: underline;">call for stakeholders' workshops</span>.</a></p><p>Pleas
 e follow the link to&nbsp;<a href="https://ec.europa.eu/maritimeaffairs/mar
 itimeday/en" target="_blank" rel="noopener">EMD website</a>&nbsp;for more i
 nformation on the&nbsp;<a href="https://ec.europa.eu/maritimeaffairs/mariti
 meday/en/conference" target="_blank" rel="noopener">draft programme</a>&nbs
 p;and about&nbsp;<a href="https://ec.europa.eu/maritimeaffairs/maritimeday/
 en/content/get-involved" target="_blank" rel="noopener">how to get involved
 </a>.</p><p>Deadline: <strong>3 December 2019</strong></p></div>
DTSTAMP:20260421T181827Z
DTSTART;TZID=UTC;VALUE=DATE:20200514
DTEND;TZID=UTC;VALUE=DATE:20200516
SEQUENCE:0
TRANSP:OPAQUE
END:VEVENT
END:VCALENDAR