BEGIN:VCALENDAR
VERSION:2.0
PRODID:-//jEvents 2.0 for Joomla//EN
CALSCALE:GREGORIAN
METHOD:PUBLISH
BEGIN:VEVENT
UID:8e844987a2cba011c059a0c31cea5fd3
CATEGORIES:Polar Conferences, Meetings and Events
CREATED:20191118T144852
SUMMARY:15th Polar Lows Working Group (PLWG) meeting
LOCATION:Moscow\, Russia
DESCRIPTION:The 15th Polar Lows Working Group (PLWG) workshop will focus on polar lows 
 and mesocyclones as well as extreme mesoscale phenomena. \nAbstract submiss
 ions by 20 December 2019 electronically by mail to: This email address is b
 eing protected from spambots. You need JavaScript enabled to view it.
				d
 ocument.getElementById('cloakc79426e29614d22fecf1490ae6787547').innerHTML =
  '';
				var prefix = '&#109;a' + 'i&#108;' + '&#116;o';
				var path = 'hr
 ' + 'ef' + '=';
				var addyc79426e29614d22fecf1490ae6787547 = 'plwg2020' +
  '&#64;';
				addyc79426e29614d22fecf1490ae6787547 = addyc79426e29614d22fec
 f1490ae6787547 + 's&#97;&#105;l' + '&#46;' + 'msk' + '&#46;' + 'r&#117;';
	
 			var addy_textc79426e29614d22fecf1490ae6787547 = 'plwg2020' + '&#64;' + '
 s&#97;&#105;l' + '&#46;' + 'msk' + '&#46;' + 'r&#117;';document.getElementB
 yId('cloakc79426e29614d22fecf1490ae6787547').innerHTML += '<a ' + path + '\
 '' + prefix + ':' + addyc79426e29614d22fecf1490ae6787547 + '\'>'+addy_textc
 79426e29614d22fecf1490ae6787547+'';
		 (with cc to Polina Verezemskaya: Thi
 s email address is being protected from spambots. You need JavaScript enabl
 ed to view it.
				document.getElementById('cloake83bb07d14631c7b0a61a9269b
 6647f8').innerHTML = '';
				var prefix = '&#109;a' + 'i&#108;' + '&#116;o'
 ;
				var path = 'hr' + 'ef' + '=';
				var addye83bb07d14631c7b0a61a9269b6
 647f8 = 'v&#101;r&#101;z&#101;m' + '&#64;';
				addye83bb07d14631c7b0a61a92
 69b6647f8 = addye83bb07d14631c7b0a61a9269b6647f8 + 's&#97;&#105;l' + '&#46;
 ' + 'msk' + '&#46;' + 'r&#117;';
				var addy_texte83bb07d14631c7b0a61a9269
 b6647f8 = 'v&#101;r&#101;z&#101;m' + '&#64;' + 's&#97;&#105;l' + '&#46;' + 
 'msk' + '&#46;' + 'r&#117;';document.getElementById('cloake83bb07d14631c7b0
 a61a9269b6647f8').innerHTML += '<a ' + path + '\'' + prefix + ':' + addye83
 bb07d14631c7b0a61a9269b6647f8 + '\'>'+addy_texte83bb07d14631c7b0a61a9269b66
 47f8+'';
		)\nThe workshop will not have a registration fee! If you want to
  apply for early career scientist’s travel support, please mention this wit
 h your abstract submission.\nIf you have further question, please don’t hes
 itate and contact the organisation committee:\nSergey Gulev  (mailto:gul@sa
 il.msk.ru)This email address is being protected from spambots. You need Jav
 aScript enabled to view it.
				document.getElementById('cloakbcc72bea280d2
 328a7adf0c3f0435567').innerHTML = '';
				var prefix = '&#109;a' + 'i&#108;
 ' + '&#116;o';
				var path = 'hr' + 'ef' + '=';
				var addybcc72bea280d23
 28a7adf0c3f0435567 = 'g&#117;l' + '&#64;';
				addybcc72bea280d2328a7adf0c3
 f0435567 = addybcc72bea280d2328a7adf0c3f0435567 + 's&#97;&#105;l' + '&#46;'
  + 'msk' + '&#46;' + 'r&#117;';
				var addy_textbcc72bea280d2328a7adf0c3f0
 435567 = 'g&#117;l' + '&#64;' + 's&#97;&#105;l' + '&#46;' + 'msk' + '&#46;'
  + 'r&#117;';document.getElementById('cloakbcc72bea280d2328a7adf0c3f0435567
 ').innerHTML += '<a ' + path + '\'' + prefix + ':' + addybcc72bea280d2328a7
 adf0c3f0435567 + '\'>'+addy_textbcc72bea280d2328a7adf0c3f0435567+'';
		\nPo
 lina Verezemskaya This email address is being protected from spambots. You 
 need JavaScript enabled to view it.
				document.getElementById('cloak6abe9
 c1bc4d44bfc56b36de71f548b01').innerHTML = '';
				var prefix = '&#109;a' + 
 'i&#108;' + '&#116;o';
				var path = 'hr' + 'ef' + '=';
				var addy6abe9c
 1bc4d44bfc56b36de71f548b01 = 'v&#101;r&#101;z&#101;m' + '&#64;';
				addy6a
 be9c1bc4d44bfc56b36de71f548b01 = addy6abe9c1bc4d44bfc56b36de71f548b01 + 's&
 #97;&#105;l' + '&#46;' + 'msk' + '&#46;' + 'r&#117;';
				var addy_text6abe
 9c1bc4d44bfc56b36de71f548b01 = 'v&#101;r&#101;z&#101;m' + '&#64;' + 's&#97;
 &#105;l' + '&#46;' + 'msk' + '&#46;' + 'r&#117;';document.getElementById('c
 loak6abe9c1bc4d44bfc56b36de71f548b01').innerHTML += '<a ' + path + '\'' + p
 refix + ':' + addy6abe9c1bc4d44bfc56b36de71f548b01 + '\'>'+addy_text6abe9c1
 bc4d44bfc56b36de71f548b01+'';
		 \nNatalia Tilinina <a href="mailto:tilinin
 a@sail.msk.ru"></a>This email address is being protected from spambots. You
  need JavaScript enabled to view it.
				document.getElementById('cloakd160
 e65277fabcf09a065a4a6fdd7f01').innerHTML = '';
				var prefix = '&#109;a' +
  'i&#108;' + '&#116;o';
				var path = 'hr' + 'ef' + '=';
				var addyd160e
 65277fabcf09a065a4a6fdd7f01 = 't&#105;l&#105;n&#105;n&#97;' + '&#64;';
				
 addyd160e65277fabcf09a065a4a6fdd7f01 = addyd160e65277fabcf09a065a4a6fdd7f01
  + 's&#97;&#105;l' + '&#46;' + 'msk' + '&#46;' + 'r&#117;';
				var addy_te
 xtd160e65277fabcf09a065a4a6fdd7f01 = 't&#105;l&#105;n&#105;n&#97;' + '&#64;
 ' + 's&#97;&#105;l' + '&#46;' + 'msk' + '&#46;' + 'r&#117;';document.getEle
 mentById('cloakd160e65277fabcf09a065a4a6fdd7f01').innerHTML += '<a ' + path
  + '\'' + prefix + ':' + addyd160e65277fabcf09a065a4a6fdd7f01 + '\'>'+addy_
 textd160e65277fabcf09a065a4a6fdd7f01+'';
		\nThomas Spengler This email add
 ress is being protected from spambots. You need JavaScript enabled to view 
 it.
				document.getElementById('cloak02007dfd01943870197a783fc9833097').in
 nerHTML = '';
				var prefix = '&#109;a' + 'i&#108;' + '&#116;o';
				var p
 ath = 'hr' + 'ef' + '=';
				var addy02007dfd01943870197a783fc9833097 = 'Th
 &#111;m&#97;s.Sp&#101;ngl&#101;r' + '&#64;';
				addy02007dfd01943870197a78
 3fc9833097 = addy02007dfd01943870197a783fc9833097 + '&#117;&#105;b' + '&#46
 ;' + 'n&#111;';
				var addy_text02007dfd01943870197a783fc9833097 = 'Th&#11
 1;m&#97;s.Sp&#101;ngl&#101;r' + '&#64;' + '&#117;&#105;b' + '&#46;' + 'n&#1
 11;';document.getElementById('cloak02007dfd01943870197a783fc9833097').inner
 HTML += '<a ' + path + '\'' + prefix + ':' + addy02007dfd01943870197a783fc9
 833097 + '\'>'+addy_text02007dfd01943870197a783fc9833097+'';
		\n
X-ALT-DESC;FMTTYPE=text/html:<p>The 15th Polar Lows Working Group (PLWG) workshop will focus&nbsp;on pol
 ar lows and mesocyclones as well as extreme mesoscale&nbsp;phenomena.&nbsp;
 </p><p>Abstract submissions by&nbsp;<strong>20 December</strong>&nbsp;2019 
 electronically&nbsp;by mail to:&nbsp;<span id="cloak906e43f8443fdd37fe4371e
 98785d564"><span id="cloakc79426e29614d22fecf1490ae6787547">This email addr
 ess is being protected from spambots. You need JavaScript enabled to view i
 t.</span><script type='text/javascript'>
				document.getElementById('cloak
 c79426e29614d22fecf1490ae6787547').innerHTML = '';
				var prefix = '&#109;
 a' + 'i&#108;' + '&#116;o';
				var path = 'hr' + 'ef' + '=';
				var addyc
 79426e29614d22fecf1490ae6787547 = 'plwg2020' + '&#64;';
				addyc79426e2961
 4d22fecf1490ae6787547 = addyc79426e29614d22fecf1490ae6787547 + 's&#97;&#105
 ;l' + '&#46;' + 'msk' + '&#46;' + 'r&#117;';
				var addy_textc79426e29614d
 22fecf1490ae6787547 = 'plwg2020' + '&#64;' + 's&#97;&#105;l' + '&#46;' + 'm
 sk' + '&#46;' + 'r&#117;';document.getElementById('cloakc79426e29614d22fecf
 1490ae6787547').innerHTML += '<a ' + path + '\'' + prefix + ':' + addyc7942
 6e29614d22fecf1490ae6787547 + '\'>'+addy_textc79426e29614d22fecf1490ae67875
 47+'<\/a>';
		</script></span>&nbsp;(with cc to Polina Verezemskaya:&nbsp;<
 span id="cloak74889cc6d03ad128660bf0d37ed75b51"><span id="cloake83bb07d1463
 1c7b0a61a9269b6647f8">This email address is being protected from spambots. 
 You need JavaScript enabled to view it.</span><script type='text/javascript
 '>
				document.getElementById('cloake83bb07d14631c7b0a61a9269b6647f8').inn
 erHTML = '';
				var prefix = '&#109;a' + 'i&#108;' + '&#116;o';
				var pa
 th = 'hr' + 'ef' + '=';
				var addye83bb07d14631c7b0a61a9269b6647f8 = 'v&#
 101;r&#101;z&#101;m' + '&#64;';
				addye83bb07d14631c7b0a61a9269b6647f8 = 
 addye83bb07d14631c7b0a61a9269b6647f8 + 's&#97;&#105;l' + '&#46;' + 'msk' + 
 '&#46;' + 'r&#117;';
				var addy_texte83bb07d14631c7b0a61a9269b6647f8 = 'v
 &#101;r&#101;z&#101;m' + '&#64;' + 's&#97;&#105;l' + '&#46;' + 'msk' + '&#4
 6;' + 'r&#117;';document.getElementById('cloake83bb07d14631c7b0a61a9269b664
 7f8').innerHTML += '<a ' + path + '\'' + prefix + ':' + addye83bb07d14631c7
 b0a61a9269b6647f8 + '\'>'+addy_texte83bb07d14631c7b0a61a9269b6647f8+'<\/a>'
 ;
		</script></span>)</p><p>The workshop will not have a registration fee! 
 If you want to apply for <strong>early career scientist’s travel support</s
 trong>, please mention this with your abstract submission.</p><p>If you hav
 e further question, please don’t hesitate and contact the organisation comm
 ittee:</p><p>Sergey Gulev&nbsp;<a href="mailto:gul@sail.msk.ru"></a><span i
 d="cloakbcc72bea280d2328a7adf0c3f0435567">This email address is being prote
 cted from spambots. You need JavaScript enabled to view it.</span><script t
 ype='text/javascript'>
				document.getElementById('cloakbcc72bea280d2328a7
 adf0c3f0435567').innerHTML = '';
				var prefix = '&#109;a' + 'i&#108;' + '
 &#116;o';
				var path = 'hr' + 'ef' + '=';
				var addybcc72bea280d2328a7a
 df0c3f0435567 = 'g&#117;l' + '&#64;';
				addybcc72bea280d2328a7adf0c3f0435
 567 = addybcc72bea280d2328a7adf0c3f0435567 + 's&#97;&#105;l' + '&#46;' + 'm
 sk' + '&#46;' + 'r&#117;';
				var addy_textbcc72bea280d2328a7adf0c3f043556
 7 = 'g&#117;l' + '&#64;' + 's&#97;&#105;l' + '&#46;' + 'msk' + '&#46;' + 'r
 &#117;';document.getElementById('cloakbcc72bea280d2328a7adf0c3f0435567').in
 nerHTML += '<a ' + path + '\'' + prefix + ':' + addybcc72bea280d2328a7adf0c
 3f0435567 + '\'>'+addy_textbcc72bea280d2328a7adf0c3f0435567+'<\/a>';
		</sc
 ript><br />Polina Verezemskaya&nbsp;<span id="cloak313a207f8f3ef835293ae567
 748e68b7"><span id="cloak6abe9c1bc4d44bfc56b36de71f548b01">This email addre
 ss is being protected from spambots. You need JavaScript enabled to view it
 .</span><script type='text/javascript'>
				document.getElementById('cloak6
 abe9c1bc4d44bfc56b36de71f548b01').innerHTML = '';
				var prefix = '&#109;a
 ' + 'i&#108;' + '&#116;o';
				var path = 'hr' + 'ef' + '=';
				var addy6a
 be9c1bc4d44bfc56b36de71f548b01 = 'v&#101;r&#101;z&#101;m' + '&#64;';
				ad
 dy6abe9c1bc4d44bfc56b36de71f548b01 = addy6abe9c1bc4d44bfc56b36de71f548b01 +
  's&#97;&#105;l' + '&#46;' + 'msk' + '&#46;' + 'r&#117;';
				var addy_text
 6abe9c1bc4d44bfc56b36de71f548b01 = 'v&#101;r&#101;z&#101;m' + '&#64;' + 's&
 #97;&#105;l' + '&#46;' + 'msk' + '&#46;' + 'r&#117;';document.getElementByI
 d('cloak6abe9c1bc4d44bfc56b36de71f548b01').innerHTML += '<a ' + path + '\''
  + prefix + ':' + addy6abe9c1bc4d44bfc56b36de71f548b01 + '\'>'+addy_text6ab
 e9c1bc4d44bfc56b36de71f548b01+'<\/a>';
		</script></span>&nbsp;<br />Natali
 a Tilinina&nbsp;<a href="mailto:tilinina@sail.msk.ru"></a><span id="cloakd1
 60e65277fabcf09a065a4a6fdd7f01">This email address is being protected from 
 spambots. You need JavaScript enabled to view it.</span><script type='text/
 javascript'>
				document.getElementById('cloakd160e65277fabcf09a065a4a6fdd
 7f01').innerHTML = '';
				var prefix = '&#109;a' + 'i&#108;' + '&#116;o';

 				var path = 'hr' + 'ef' + '=';
				var addyd160e65277fabcf09a065a4a6fdd7
 f01 = 't&#105;l&#105;n&#105;n&#97;' + '&#64;';
				addyd160e65277fabcf09a06
 5a4a6fdd7f01 = addyd160e65277fabcf09a065a4a6fdd7f01 + 's&#97;&#105;l' + '&#
 46;' + 'msk' + '&#46;' + 'r&#117;';
				var addy_textd160e65277fabcf09a065a
 4a6fdd7f01 = 't&#105;l&#105;n&#105;n&#97;' + '&#64;' + 's&#97;&#105;l' + '&
 #46;' + 'msk' + '&#46;' + 'r&#117;';document.getElementById('cloakd160e6527
 7fabcf09a065a4a6fdd7f01').innerHTML += '<a ' + path + '\'' + prefix + ':' +
  addyd160e65277fabcf09a065a4a6fdd7f01 + '\'>'+addy_textd160e65277fabcf09a06
 5a4a6fdd7f01+'<\/a>';
		</script><br />Thomas Spengler&nbsp;<span id="cloak
 390e6c72b9a45d04e3df3cfb4322d38f"><span id="cloak02007dfd01943870197a783fc9
 833097">This email address is being protected from spambots. You need JavaS
 cript enabled to view it.</span><script type='text/javascript'>
				documen
 t.getElementById('cloak02007dfd01943870197a783fc9833097').innerHTML = '';
	
 			var prefix = '&#109;a' + 'i&#108;' + '&#116;o';
				var path = 'hr' + 'e
 f' + '=';
				var addy02007dfd01943870197a783fc9833097 = 'Th&#111;m&#97;s.S
 p&#101;ngl&#101;r' + '&#64;';
				addy02007dfd01943870197a783fc9833097 = ad
 dy02007dfd01943870197a783fc9833097 + '&#117;&#105;b' + '&#46;' + 'n&#111;';
 
				var addy_text02007dfd01943870197a783fc9833097 = 'Th&#111;m&#97;s.Sp&#1
 01;ngl&#101;r' + '&#64;' + '&#117;&#105;b' + '&#46;' + 'n&#111;';document.g
 etElementById('cloak02007dfd01943870197a783fc9833097').innerHTML += '<a ' +
  path + '\'' + prefix + ':' + addy02007dfd01943870197a783fc9833097 + '\'>'+
 addy_text02007dfd01943870197a783fc9833097+'<\/a>';
		</script></span></p>
DTSTAMP:20260421T195931Z
DTSTART;TZID=UTC;VALUE=DATE:20200513
DTEND;TZID=UTC;VALUE=DATE:20200516
SEQUENCE:0
TRANSP:OPAQUE
END:VEVENT
END:VCALENDAR