BEGIN:VCALENDAR
VERSION:2.0
PRODID:-//jEvents 2.0 for Joomla//EN
CALSCALE:GREGORIAN
METHOD:PUBLISH
BEGIN:VEVENT
UID:977280ae36a1db4ab5656cbd2f90c556
CATEGORIES:Polar Conferences, Meetings and Events
CREATED:20191118T142340
SUMMARY:Annual Meeting of the American Association of Geographers (AAG) - Online Only
LOCATION:Denver\, Colorado\, USA
DESCRIPTION:The AAG will be held as an Online Only event, please visit the event websit
 e for additional information.\n \nWelcome to the American Association of Ge
 ographers' Annual Meeting! You will be joined by fellow geographers, GIS sp
 ecialists, environmental scientists, and other leaders for the latest in re
 search and applications in geography, sustainability, and GIScience. The me
 eting will feature over 6,900 presentations, posters, workshops, and field 
 trips by leading scholars, experts, and researchers. \n\nThe Annual Meeting
  of the AAG is quite possibly the largest geography conference in the world
 , with over 8,500 geographers converging from the U.S., Canada, and nearly 
 60 other countries in a typical year. With thousands of different papers an
 d presentations scheduled throughout the conference, you’ll find no shortag
 e of activities that reflect your specific interests within the field of ge
 ography.\nDeadline for poster abstract submissions: 31 January, 2020\nFind 
 more information on the conference website: https://www2.aag.org/aagannualm
 eeting/\n
X-ALT-DESC;FMTTYPE=text/html:<p><strong>The AAG will be held as an Online Only event, please visit the e
 vent website for additional information.</strong></p><p>&nbsp;</p><p>Welcom
 e to the American Association of Geographers' Annual Meeting! You will be j
 oined by fellow geographers, GIS specialists, environmental scientists, and
  other leaders for the latest in research and applications in geography, su
 stainability, and GIScience. The meeting will feature over 6,900 presentati
 ons, posters, workshops, and field trips by leading scholars, experts, and 
 researchers.&nbsp;</p><p><br />The Annual Meeting of the AAG is quite possi
 bly the largest geography conference in the world, with over 8,500 geograph
 ers converging from the U.S., Canada, and nearly 60 other countries in a ty
 pical year. With thousands of different papers and presentations scheduled 
 throughout the conference, you’ll find no shortage of activities that refle
 ct your specific interests within the field of geography.</p><p><strong>Dea
 dline for poster abstract submissions: <strong>31&nbsp;</strong>January, 20
 20</strong></p><p>Find more information on the conference website:&nbsp;<a 
 href="https://www2.aag.org/aagannualmeeting/">https://www2.aag.org/aagannua
 lmeeting/</a></p>
DTSTAMP:20260422T013453Z
DTSTART;TZID=UTC;VALUE=DATE:20200406
DTEND;TZID=UTC;VALUE=DATE:20200411
SEQUENCE:0
TRANSP:OPAQUE
END:VEVENT
END:VCALENDAR