BEGIN:VCALENDAR
VERSION:2.0
PRODID:-//jEvents 2.0 for Joomla//EN
CALSCALE:GREGORIAN
METHOD:PUBLISH
BEGIN:VEVENT
UID:05a137968a0517bb6831dedcc88de2e8
CATEGORIES:Polar Conferences, Meetings and Events
CREATED:20191107T093036
SUMMARY:USPA Annual Meeting
LOCATION:San Francisco\, California\, USA
DESCRIPTION:Dear PYRN members, the USPA annual meeting will occur on the Tuesday of AGU
  and PYRN members are encouraged to come:\nThe U.S. Permafrost Association 
 annual meeting returns to San Francisco, CA during AGU week on Tuesday, Dec
 ember 10, 2019. Catch up with colleagues and friends across the frozen grou
 nd community, and meet the rising generation of permafrost scientists and e
 ngineers. During the meeting we will recognize early career grant recipient
 s, share news on upcoming permafrost community events, and announce the res
 ults of USPA's 2019 board elections.\nTuesday, December 10, 7:30 - 10:30 pm
 \n\nThirstyBear Brewing Company and Spanish Tapas Restaurant\n661 Howard St
 .\nSan Francisco, CA 94105  \n
X-ALT-DESC;FMTTYPE=text/html:<p><span style="color: #000000; font-family: Helvetica;">Dear PYRN members,
  the USPA annual meeting will occur on the Tuesday of AGU and PYRN members 
 are encouraged to come:</span></p><p><span style="color: #000000; font-fami
 ly: Helvetica;">The U.S. Permafrost Association annual meeting returns to S
 an Francisco, CA during AGU week on Tuesday, December 10, 2019. Catch up wi
 th colleagues and friends across the frozen ground community, and meet the 
 rising generation of permafrost scientists and engineers. During the meetin
 g we will recognize early career grant recipients, share news on upcoming p
 ermafrost community events, and announce the results of USPA's 2019 board e
 lections.</span></p><p><span style="color: #000000; font-family: Helvetica;
 ">Tuesday, December 10, 7:30 - 10:30 pm</span></p><p><span style="color: #0
 00000; font-family: Helvetica;"></span></p><p><span style="color: #000000; 
 font-family: Helvetica;">ThirstyBear Brewing Company and Spanish Tapas Rest
 aurant</span></p><p><span style="color: #000000; font-family: Helvetica;">6
 61 Howard St.</span></p><p><span style="color: #000000; font-family: Helvet
 ica;">San Francisco, CA 94105&nbsp;&nbsp;</span></p>
DTSTAMP:20260424T010808Z
DTSTART;TZID=UTC;VALUE=DATE:20191210
DTEND;TZID=UTC;VALUE=DATE:20191211
SEQUENCE:0
TRANSP:OPAQUE
END:VEVENT
END:VCALENDAR