BEGIN:VCALENDAR
VERSION:2.0
PRODID:-//jEvents 2.0 for Joomla//EN
CALSCALE:GREGORIAN
METHOD:PUBLISH
BEGIN:VEVENT
UID:923d4ee6348a52dc81b0594754fd6ad8
CATEGORIES:APECS Events
CREATED:20191107T091202
SUMMARY:APECS-T-MOSAiC Webinar for ECRs
LOCATION:Online
DESCRIPTION:The APECS-T-MOSAiC webinar “T-MOSAiC for ECRs” will take place on November,
  19 (14:30-16:00 GMT). This webinar will provide an overview of the T-MOSAi
 C project, its goals, current activities within the Action groups and possi
 bilities for early career researchers.\nT-MOSAiC (Terrestrial Multidiscipli
 nary distributed Observatories for the Study of Arctic Connections) project
  is an IASC pan-Arctic, land-based program that will extend the activities 
 for the IASC flagship program MOSAiC.  T-MOSAiC addresses the question, wha
 t are the implications of changing sea ice, oceanography and climate of Arc
 tic seas for the surrounding land-based geosystems, ecosystems and human sy
 stems.\nRegister here for the webinar (https://zoom.us/webinar/register/WN_
 tDNBxcTVReSfFsF6CJrhXg)\n
X-ALT-DESC;FMTTYPE=text/html:<p>The APECS-T-MOSAiC webinar “T-MOSAiC&nbsp;for ECRs” will take place on N
 ovember, 19 (14:30-16:00 GMT).&nbsp;This webinar will provide an overview o
 f the&nbsp;T-MOSAiC&nbsp;project, its goals, current activities within the 
 Action groups and possibilities for early career researchers.</p><p>T-MOSAi
 C&nbsp;(Terrestrial Multidisciplinary distributed Observatories for the Stu
 dy of Arctic Connections) project&nbsp;is an IASC pan-Arctic, land-based pr
 ogram that will extend the activities for the IASC flagship program&nbsp;MO
 SAiC<strong>.&nbsp;&nbsp;</strong>T-MOSAiC<strong>&nbsp;</strong>addresses 
 the question, what are the implications of changing sea ice, oceanography a
 nd climate of Arctic seas for the surrounding land-based geosystems, ecosys
 tems and human systems.</p><p><a href="https://zoom.us/webinar/register/WN_
 tDNBxcTVReSfFsF6CJrhXg">Register here for the webinar</a></p>
DTSTAMP:20260421T231053Z
DTSTART;TZID=UTC;VALUE=DATE:20191119
DTEND;TZID=UTC;VALUE=DATE:20191120
SEQUENCE:0
TRANSP:OPAQUE
END:VEVENT
END:VCALENDAR