BEGIN:VCALENDAR
VERSION:2.0
PRODID:-//jEvents 2.0 for Joomla//EN
CALSCALE:GREGORIAN
METHOD:PUBLISH
BEGIN:VEVENT
UID:04715542d712b96ba8793e43a6ad8f31
CATEGORIES:Polar Conferences, Meetings and Events
CREATED:20191028T150839
SUMMARY:3rd International Conference on Polar Climate and Environmental Change in the Last Millennium - postponed to 23-25 November 2020
LOCATION:Toruń\, Poland
DESCRIPTION:We are sorry to announce that the 3rd International Conference on 'Polar Cl
 imate and Environmental Change in the Last Millennium' https://polarclimate
 2020.umk.pl/pages/main_page/ that was planned for 24-26 September 2020 has 
 been rescheduled for 23-25 November 2020.\n Furthermore, Important dates ht
 tps://polarclimate2020.umk.pl/pages/Important_dates/ were also postponed. \
 n Our decision was made in response to concerns about international and dom
 estic travel expressed by many of you, as well as the need to protect atten
 dees in high-risk categories. Our decision was also guided by Nicolaus Cope
 rnicus University COVID-19 policies.\n Stay safe and healthy.\n Cheers,\n p
 olarclimate2020 Committee\n Rajmund Przybylak, Andrzej Araźny, and Przemek 
 Wyszyński\n
X-ALT-DESC;FMTTYPE=text/html:<p>We are sorry to announce that the 3rd International Conference on 'Polar
  Climate and Environmental Change in the Last Millennium' https://polarclim
 ate2020.umk.pl/pages/main_page/ that was planned for 24-26 September 2020 h
 as been rescheduled for 23-25 November 2020.<br /> Furthermore, Important d
 ates https://polarclimate2020.umk.pl/pages/Important_dates/ were also postp
 oned. <br /> Our decision was made in response to concerns about internatio
 nal and domestic travel expressed by many of you, as well as the need to pr
 otect attendees in high-risk categories. Our decision was also guided by Ni
 colaus Copernicus University COVID-19 policies.<br /> Stay safe and healthy
 .<br /> Cheers,<br /> polarclimate2020 Committee<br /> Rajmund Przybylak, A
 ndrzej Araźny, and Przemek Wyszyński</p>
CONTACT:Przemysław Wyszyński, Email: This email address is being protected from spambots. You need JavaScript enabled to view it.
				document.getElementById('cloakcded4c25fde8a94b74f8e8adc53bbe95').innerHTML = '';
				var prefix = '&#109;a' + 'i&#108;' + '&#116;o';
				var path = 'hr' + 'ef' + '=';
				var addycded4c25fde8a94b74f8e8adc53bbe95 = 'p&#111;l&#97;rcl&#105;m&#97;t&#101;2020' + '&#64;';
				addycded4c25fde8a94b74f8e8adc53bbe95 = addycded4c25fde8a94b74f8e8adc53bbe95 + '&#117;mk' + '&#46;' + 'pl';
				var addy_textcded4c25fde8a94b74f8e8adc53bbe95 = 'p&#111;l&#97;rcl&#105;m&#97;t&#101;2020' + '&#64;' + '&#117;mk' + '&#46;' + 'pl';document.getElementById('cloakcded4c25fde8a94b74f8e8adc53bbe95').innerHTML += '<a ' + path + '\'' + prefix + ':' + addycded4c25fde8a94b74f8e8adc53bbe95 + '\'>'+addy_textcded4c25fde8a94b74f8e8adc53bbe95+'';
		
DTSTAMP:20260422T011505Z
DTSTART;TZID=UTC;VALUE=DATE:20200924
DTEND;TZID=UTC;VALUE=DATE:20200927
SEQUENCE:0
TRANSP:OPAQUE
END:VEVENT
END:VCALENDAR