BEGIN:VCALENDAR
VERSION:2.0
PRODID:-//jEvents 2.0 for Joomla//EN
CALSCALE:GREGORIAN
METHOD:PUBLISH
BEGIN:VEVENT
UID:1de593b9efa17dba36f0926ecb8469e7
CATEGORIES:Polar Conferences, Meetings and Events
CREATED:20191023T082022
SUMMARY:2nd All-Russian Congress of Teachers of Native Languages, Literature and Culture of Indigenous Peoples of the North, Siberia and the Far East
LOCATION:St. Petersburg\, Russia
DESCRIPTION: Russian Association of the Indigenous Peoples of the North (RAIPON) (https
 ://www.uarctic.org/member-profiles/russia/8638/raipon), Interregional socia
 l movement "Association of teachers of native languages, literature and cul
 ture of the indigenous peoples of the North, Siberia and the Far East", <a 
 title="Scientific Research Institute of National Schools of the Republic of
  Sakha (Yakutia)" href="https://www.uarctic.org/member-profiles/russia/8731
 /scientific-research-institute-of-national-schools-of-the-republic-of-sakha
 -yakutia" data-udi="umb://document/a785ed23473a49bbb2ffd9ae6ac992d0">Scient
 ific Research Institute of National Schools of the Republic of Sakha (Yakut
 ia)</a>, and Herzen State Pedagogical University of Russia (https://www.uar
 ctic.org/member-profiles/russia/8467/herzen-state-pedagogical-university-of
 -russia) invite teachers of native languages and literature, tutors, educat
 ion officials, representatives of vocational education institutions, scienc
 e, public organizations and media to participate in the Congress.\nThe Cong
 ress will focus on the following topics:\n\n - improving the implementation
  of Russian legislation to support indigenous languages ​​and measures for 
 its implementation;\n - developing educational programs and textbooks for n
 ative languages ​​and literatures at different levels of complexity and dif
 ferent focus, taking into account the needs of students;\n - discussing mea
 sures to increase motivation among indigenous children and youth to master 
 their native languages;\n - the role of indigenous culture of the North, Si
 beria and the Far East in the formation of civic and ethnocultural identity
  in children and youth;\n - presenting innovative forms and technologies fo
 r teaching indigenous children (best practices), creating conditions for  v
 arious educational institutions teaching indigenous in accordance with thei
 r needs (language "nests", nomadic schools and etc.).Applications are to be
  sent to This email address is being protected from spambots. You need Java
 Script enabled to view it.
				document.getElementById('cloakbda6b838d9744c
 581c6831dd95b2640b').innerHTML = '';
				var prefix = '&#109;a' + 'i&#108;'
  + '&#116;o';
				var path = 'hr' + 'ef' + '=';
				var addybda6b838d9744c5
 81c6831dd95b2640b = 'r&#97;&#105;p&#111;n' + '&#64;';
				addybda6b838d9744
 c581c6831dd95b2640b = addybda6b838d9744c581c6831dd95b2640b + 'r&#97;&#105;p
 &#111;n' + '&#46;' + '&#105;nf&#111;';
				var addy_textbda6b838d9744c581c6
 831dd95b2640b = 'r&#97;&#105;p&#111;n' + '&#64;' + 'r&#97;&#105;p&#111;n' +
  '&#46;' + '&#105;nf&#111;';document.getElementById('cloakbda6b838d9744c581
 c6831dd95b2640b').innerHTML += '<a ' + path + '\'' + prefix + ':' + addybda
 6b838d9744c581c6831dd95b2640b + '\'>'+addy_textbda6b838d9744c581c6831dd95b2
 640b+'';
		 before October 30, 2019.\nThe Congress delegates will be able t
 o participate in the International conference "The Reality of Ethnos" held 
 at Herzen State Pedagogical University of Russia on November 27-28, 2019. T
 he topic of this year's conference is "Native language, folklore, culture a
 nd literature of the indigenous peoples of Russia in the education system: 
 problems and prospects of preservation and development".\n
X-ALT-DESC;FMTTYPE=text/html:<div class="article-intro">&nbsp;</div><div class="article-body"><p><a titl
 e="RAIPON" href="https://www.uarctic.org/member-profiles/russia/8638/raipon
 " data-udi="umb://document/e6ca94bc44154f2e89433edc28eb23fd">Russian Associ
 ation of the Indigenous Peoples of the North (RAIPON)</a>, Interregional so
 cial movement "Association of teachers of native languages, literature and 
 culture of the indigenous peoples of the North, Siberia and the Far East",&
 nbsp;<a title="Scientific Research Institute of National Schools of the Rep
 ublic of Sakha (Yakutia)" href="https://www.uarctic.org/member-profiles/rus
 sia/8731/scientific-research-institute-of-national-schools-of-the-republic-
 of-sakha-yakutia" data-udi="umb://document/a785ed23473a49bbb2ffd9ae6ac992d0
 ">Scientific Research Institute of National Schools of the Republic of Sakh
 a (Yakutia)</a>, and&nbsp;<a title="Herzen State Pedagogical University of 
 Russia" href="https://www.uarctic.org/member-profiles/russia/8467/herzen-st
 ate-pedagogical-university-of-russia" data-udi="umb://document/7c3ed2ca7969
 4d448c5317ee54b3931b">Herzen State Pedagogical University of Russia</a>&nbs
 p;invite teachers of native languages and literature, tutors, education off
 icials, representatives of vocational education institutions, science, publ
 ic organizations and media to participate in the Congress.</p><p>The Congre
 ss will focus on the following topics:</p><ul><li>improving the implementat
 ion of Russian legislation to support indigenous languages ​​and measures f
 or its implementation;</li><li>developing educational programs and textbook
 s for native languages ​​and literatures at different levels of complexity 
 and different focus, taking into account the needs of students;</li><li>dis
 cussing measures to increase motivation among indigenous children and youth
  to master their native languages;</li><li>the role of indigenous culture o
 f the North, Siberia and the Far East in the formation of civic and ethnocu
 ltural identity in children and youth;</li><li>presenting innovative forms 
 and technologies for teaching indigenous children (best practices), creatin
 g conditions for&nbsp; various educational institutions teaching indigenous
  in accordance with their needs (language "nests", nomadic schools and etc.
 ).</li></ul><p>Applications are to be sent to&nbsp;<span id="cloakbda6b838d
 9744c581c6831dd95b2640b">This email address is being protected from spambot
 s. You need JavaScript enabled to view it.</span><script type='text/javascr
 ipt'>
				document.getElementById('cloakbda6b838d9744c581c6831dd95b2640b').
 innerHTML = '';
				var prefix = '&#109;a' + 'i&#108;' + '&#116;o';
				var
  path = 'hr' + 'ef' + '=';
				var addybda6b838d9744c581c6831dd95b2640b = '
 r&#97;&#105;p&#111;n' + '&#64;';
				addybda6b838d9744c581c6831dd95b2640b =
  addybda6b838d9744c581c6831dd95b2640b + 'r&#97;&#105;p&#111;n' + '&#46;' + 
 '&#105;nf&#111;';
				var addy_textbda6b838d9744c581c6831dd95b2640b = 'r&#9
 7;&#105;p&#111;n' + '&#64;' + 'r&#97;&#105;p&#111;n' + '&#46;' + '&#105;nf&
 #111;';document.getElementById('cloakbda6b838d9744c581c6831dd95b2640b').inn
 erHTML += '<a ' + path + '\'' + prefix + ':' + addybda6b838d9744c581c6831dd
 95b2640b + '\'>'+addy_textbda6b838d9744c581c6831dd95b2640b+'<\/a>';
		</scr
 ipt>&nbsp;before <strong>October 30, 2019</strong>.</p><p>The Congress dele
 gates will be able to participate in the International conference "The Real
 ity of Ethnos" held at Herzen State Pedagogical University of Russia on Nov
 ember 27-28, 2019. The topic of this year's conference is "Native language,
  folklore, culture and literature of the indigenous peoples of Russia in th
 e education system: problems and prospects of preservation and development"
 .</p></div>
DTSTAMP:20260423T220520Z
DTSTART;TZID=UTC;VALUE=DATE:20191126
DTEND;TZID=UTC;VALUE=DATE:20191127
SEQUENCE:0
TRANSP:OPAQUE
END:VEVENT
END:VCALENDAR