BEGIN:VCALENDAR
VERSION:2.0
PRODID:-//jEvents 2.0 for Joomla//EN
CALSCALE:GREGORIAN
METHOD:PUBLISH
BEGIN:VEVENT
UID:fded5ca37ffb9d7b9ac6201244adde18
CATEGORIES:APECS Events
CREATED:20191021T152315
SUMMARY:Webinar: Tips for a successful Bursary Application and Q+A session
LOCATION:Online
DESCRIPTION:In coordination with APECS, Antarctic Science are running a webinar to help
  potential applicants of the 2020 Antarctic Science Bursary. This bursary r
 uns every year and is for up to £6000 to support PhD or early career resear
 chers to extend the scope of an existing research project. More details her
 e: http://www.antarcticsciencebursary.org.uk/. A great opportunity to get f
 unding for that exciting idea of yours!\nThe webinar will explain more abou
 t the bursary, with advice on how to submit a successful application. This 
 will be followed by a Q+A session, where you can ask any bursary related qu
 estion to our panel of past award recipients and members of the Antarctic S
 cience bursary board.\nThe webinar will be at 3pm (UTC) and again at 8pm (U
 TC) on Monday January 20th, please register here:\n\n - 3pm slot: <a href="
 https://zoom.us/webinar/register/WN_jBR5gSnAQBCCzJN1D-Hx6Q">https://zoom.us
 /webinar/register/WN_jBR5gSnAQBCCzJN1D-Hx6Q</a>\n - 8pm slot: https://zoom.
 us/webinar/register/WN_v_fYjyOaSlmtZOkz0ZqjgA
X-ALT-DESC;FMTTYPE=text/html:<p>In coordination with APECS,&nbsp;<strong>Antarctic Science</strong>&nbsp
 ;are running a webinar to help potential applicants of the&nbsp;<strong>202
 0 Antarctic Science Bursary</strong>. This bursary runs every year and is f
 or up to £6000 to support PhD or early career researchers to extend the sco
 pe of an existing research project.&nbsp;More details here:&nbsp;<a href="h
 ttp://www.antarcticsciencebursary.org.uk/">http://www.antarcticsciencebursa
 ry.org.uk/</a>. A great opportunity to get funding for that exciting idea o
 f yours!</p><p>The webinar will explain more about the bursary, with advice
  on how to submit a successful application. This will be followed by a Q+A 
 session, where you can ask any bursary related question to our panel of pas
 t award recipients and members of the Antarctic Science bursary board.</p><
 p>The webinar will be at 3pm (UTC) and again at 8pm (UTC) on Monday January
  20th, please register here:</p><ul><li>3pm slot:&nbsp;<a href="https://zoo
 m.us/webinar/register/WN_jBR5gSnAQBCCzJN1D-Hx6Q">https://zoom.us/webinar/re
 gister/WN_jBR5gSnAQBCCzJN1D-Hx6Q</a></li></ul><ul><li>8pm slot:&nbsp;<a hre
 f="https://zoom.us/webinar/register/WN_v_fYjyOaSlmtZOkz0ZqjgA">https://zoom
 .us/webinar/register/WN_v_fYjyOaSlmtZOkz0ZqjgA</a></li></ul>
DTSTAMP:20260421T161000Z
DTSTART;TZID=UTC;VALUE=DATE:20200120
DTEND;TZID=UTC;VALUE=DATE:20200121
SEQUENCE:0
TRANSP:OPAQUE
END:VEVENT
END:VCALENDAR