BEGIN:VCALENDAR
VERSION:2.0
PRODID:-//jEvents 2.0 for Joomla//EN
CALSCALE:GREGORIAN
METHOD:PUBLISH
BEGIN:VEVENT
UID:eab76f17cf25d6822d69adb43123b8fc
CATEGORIES:APECS Events
CREATED:20191021T152218
SUMMARY:APECS: Formando el futuro de la investigación polar en Colombia.
LOCATION:Barranquilla\, Colombia
DESCRIPTION:<p><span data-sheets-value="{&quot;1&quot;:2,&quot;2&quot;:&quot;As a first
  event of the National Committee APECS Colombia, we will be going to presen
 t and describe all the great opportunities to be part of APECS. This will b
 e developed during the next SENALMAR 2019, October 22-25, in the session “L
 a Ruta Antartica”. The venue is the Centro Cultural Universidad del Atlánti
 co, Barranquilla, Colombia. Everyone is welcome to participate in our talk 
 on Tuesday, October 22 from 16:15 – 17:00 (local time), and visit our poste
 r displayed during the full week.&quot;}" data-sheets-userformat="{&quot;2&
 quot;:513,&quot;3&quot;:{&quot;1&quot;:0},&quot;12&quot;:0}">As a first eve
 nt of the National Committee APECS Colombia, we will be going to present an
 d describe all the great opportunities to be part of APECS. This will be de
 veloped during the next SENALMAR 2019, October 22-25, in the session “La Ru
 ta Antartica”. The venue is the Centro Cultural Universidad del Atlántico, 
 Barranquilla, Colombia. Everyone is welcome to participate in our talk on T
 uesday, October 22 from 16:15 – 17:00 (local time), and visit our poster di
 splayed during the full week.</span></p>
CONTACT:Jhon Mojica, This email address is being protected from spambots. You need JavaScript enabled to view it.
				document.getElementById('cloake8dd632c951e2c6fe1cb730255d75641').innerHTML = '';
				var prefix = '&#109;a' + 'i&#108;' + '&#116;o';
				var path = 'hr' + 'ef' + '=';
				var addye8dd632c951e2c6fe1cb730255d75641 = 'APECSC&#111;l&#111;mb&#105;&#97;' + '&#64;';
				addye8dd632c951e2c6fe1cb730255d75641 = addye8dd632c951e2c6fe1cb730255d75641 + 'gm&#97;&#105;l' + '&#46;' + 'c&#111;m';
				var addy_texte8dd632c951e2c6fe1cb730255d75641 = 'APECSC&#111;l&#111;mb&#105;&#97;' + '&#64;' + 'gm&#97;&#105;l' + '&#46;' + 'c&#111;m';document.getElementById('cloake8dd632c951e2c6fe1cb730255d75641').innerHTML += '<a ' + path + '\'' + prefix + ':' + addye8dd632c951e2c6fe1cb730255d75641 + '\'>'+addy_texte8dd632c951e2c6fe1cb730255d75641+'';
		
DTSTAMP:20260421T202535Z
DTSTART;TZID=UTC;VALUE=DATE:20191022
DTEND;TZID=UTC;VALUE=DATE:20191023
SEQUENCE:0
TRANSP:OPAQUE
END:VEVENT
END:VCALENDAR