BEGIN:VCALENDAR
VERSION:2.0
PRODID:-//jEvents 2.0 for Joomla//EN
CALSCALE:GREGORIAN
METHOD:PUBLISH
BEGIN:VEVENT
UID:c22f928b257a6cf53456e3f4caccc7db
CATEGORIES:APECS Events
CREATED:20191021T152118
SUMMARY:X Workshop APECS Portugal - A Scientist is Born
LOCATION:University of Coimbra\, Coimbra\, Portugal
DESCRIPTION:The X Workshop APECS Portugal will focus on the value of early career scien
 tists for science, in a research team and within scientific networks and vi
 ce-versa - a Scientist is Born. We aim to understand how early career scien
 tists can progress within research teams from the perspective of experience
 d researchers; what is the role of early career in the development of inter
 national networks such as APECS, as well as the advantages of integrating t
 hese networks; and how can involvement in educational activities and outrea
 ch can be beneficial both for the scientist developing a career and for edu
 cation. The experience and knowledge of senior researchers along with these
  kinds of collaborations are of utmost importance as feedback for young res
 earchers and students that may follow a research career path.\n\nhttps://co
 nferenciapolar.wixsite.com/conferenciapolar2019, or send an e-mail to This 
 email address is being protected from spambots. You need JavaScript enabled
  to view it.
				document.getElementById('cloak0ada951c192f9d80075424049000
 f452').innerHTML = '';
				var prefix = '&#109;a' + 'i&#108;' + '&#116;o';

 				var path = 'hr' + 'ef' + '=';
				var addy0ada951c192f9d80075424049000f
 452 = '&#97;p&#101;cs.p&#111;rt&#117;g&#97;l' + '&#64;';
				addy0ada951c19
 2f9d80075424049000f452 = addy0ada951c192f9d80075424049000f452 + 'gm&#97;&#1
 05;l' + '&#46;' + 'c&#111;m';
				var addy_text0ada951c192f9d80075424049000
 f452 = '&#97;p&#101;cs.p&#111;rt&#117;g&#97;l' + '&#64;' + 'gm&#97;&#105;l'
  + '&#46;' + 'c&#111;m';document.getElementById('cloak0ada951c192f9d8007542
 4049000f452').innerHTML += '<a ' + path + '\'' + prefix + ':' + addy0ada951
 c192f9d80075424049000f452 + '\'>'+addy_text0ada951c192f9d80075424049000f452
 +'';
		 by October 15th.\n
X-ALT-DESC;FMTTYPE=text/html:<p><span data-sheets-value="{&quot;1&quot;:2,&quot;2&quot;:&quot;The X Work
 shop APECS Portugal will focus on the value of early career scientists for 
 science, in a research team and within scientific networks and vice-versa -
  a  Scientist is Born. We aim to understand how early career scientists can
  progress within research teams from the perspective of experienced researc
 hers; what is the role of early career in the development of international 
 networks such as APECS, as well as the advantages of integrating these netw
 orks; and how can involvement in educational activities and outreach can be
  beneficial both for the scientist developing a career and for education. T
 he  experience and knowledge of senior researchers along with these kinds o
 f collaborations are of utmost importance as feedback for young researchers
  and students that may follow a research career path.n&quot;}" data-sheets-
 userformat="{&quot;2&quot;:513,&quot;3&quot;:{&quot;1&quot;:0},&quot;12&quo
 t;:0}">The X Workshop APECS Portugal will focus on the value of early caree
 r scientists for science, in a research team and within scientific networks
  and vice-versa - a Scientist is Born. We aim to understand how early caree
 r scientists can progress within research teams from the perspective of exp
 erienced researchers; what is the role of early career in the development o
 f international networks such as APECS, as well as the advantages of integr
 ating these networks; and how can involvement in educational activities and
  outreach can be beneficial both for the scientist developing a career and 
 for education. The experience and knowledge of senior researchers along wit
 h these kinds of collaborations are of utmost importance as feedback for yo
 ung researchers and students that may follow a research career path.<br /><
 /span></p><p><span data-sheets-value="{&quot;1&quot;:2,&quot;2&quot;:&quot;
 Registration is free at &lt;a href=">https://conferenciapolar.wixsite.com/c
 onferenciapolar2019, or send an e-mail to <span id="cloak0ada951c192f9d8007
 5424049000f452">This email address is being protected from spambots. You ne
 ed JavaScript enabled to view it.</span><script type='text/javascript'>
			
 	document.getElementById('cloak0ada951c192f9d80075424049000f452').innerHTML
  = '';
				var prefix = '&#109;a' + 'i&#108;' + '&#116;o';
				var path = '
 hr' + 'ef' + '=';
				var addy0ada951c192f9d80075424049000f452 = '&#97;p&#1
 01;cs.p&#111;rt&#117;g&#97;l' + '&#64;';
				addy0ada951c192f9d800754240490
 00f452 = addy0ada951c192f9d80075424049000f452 + 'gm&#97;&#105;l' + '&#46;' 
 + 'c&#111;m';
				var addy_text0ada951c192f9d80075424049000f452 = '&#97;p&#
 101;cs.p&#111;rt&#117;g&#97;l' + '&#64;' + 'gm&#97;&#105;l' + '&#46;' + 'c&
 #111;m';document.getElementById('cloak0ada951c192f9d80075424049000f452').in
 nerHTML += '<a ' + path + '\'' + prefix + ':' + addy0ada951c192f9d800754240
 49000f452 + '\'>'+addy_text0ada951c192f9d80075424049000f452+'<\/a>';
		</sc
 ript> by October 15th.</span></p>
CONTACT:Sara Pedro, This email address is being protected from spambots. You need JavaScript enabled to view it.
				document.getElementById('cloak529e6763afdf1b1159d9e58f63537d8a').innerHTML = '';
				var prefix = '&#109;a' + 'i&#108;' + '&#116;o';
				var path = 'hr' + 'ef' + '=';
				var addy529e6763afdf1b1159d9e58f63537d8a = '&#97;p&#101;cs.p&#111;rt&#117;g&#97;l' + '&#64;';
				addy529e6763afdf1b1159d9e58f63537d8a = addy529e6763afdf1b1159d9e58f63537d8a + 'gm&#97;&#105;l' + '&#46;' + 'c&#111;m';
				var addy_text529e6763afdf1b1159d9e58f63537d8a = '&#97;p&#101;cs.p&#111;rt&#117;g&#97;l' + '&#64;' + 'gm&#97;&#105;l' + '&#46;' + 'c&#111;m';document.getElementById('cloak529e6763afdf1b1159d9e58f63537d8a').innerHTML += '<a ' + path + '\'' + prefix + ':' + addy529e6763afdf1b1159d9e58f63537d8a + '\'>'+addy_text529e6763afdf1b1159d9e58f63537d8a+'';
		 
DTSTAMP:20260421T210631Z
DTSTART;TZID=UTC;VALUE=DATE:20191025
DTEND;TZID=UTC;VALUE=DATE:20191026
SEQUENCE:0
TRANSP:OPAQUE
END:VEVENT
END:VCALENDAR