BEGIN:VCALENDAR
VERSION:2.0
PRODID:-//jEvents 2.0 for Joomla//EN
CALSCALE:GREGORIAN
METHOD:PUBLISH
BEGIN:VEVENT
UID:741bbc11ec028b97a6e251cd26fbbcf0
CATEGORIES:APECS Events
CREATED:20160906T060812
SUMMARY:APECS Portugal VII Workshop of career development
LOCATION:Lisbon\, Portugal
DESCRIPTION:<p>APECS Portugal VII Workshop of career development. Annual event. The wor
 kshop will take place on the 26th October 2016 in Lisbon, and as usual it w
 ill occur near the Portuguese Conference for Polar Sciences. This year, the
  workshop theme will be the ambivalence of science and policy in polar regi
 ons. We aim to welcome new members in this workshop, and with them and the 
 old ones discuss how science and policy can work in favor of each other. Th
 e preliminary poster and programme can be found below. (Note: the title has
  been changed to Science & Policits).</p>
DTSTAMP:20260422T005400Z
DTSTART;TZID=UTC;VALUE=DATE:20161026
DTEND;TZID=UTC;VALUE=DATE:20161027
SEQUENCE:0
TRANSP:OPAQUE
END:VEVENT
END:VCALENDAR