BEGIN:VCALENDAR
VERSION:2.0
PRODID:-//jEvents 2.0 for Joomla//EN
CALSCALE:GREGORIAN
METHOD:PUBLISH
BEGIN:VEVENT
UID:a85e35e57fceade7a1181f46bda89aba
CATEGORIES:Polar Conferences, Meetings and Events
CREATED:20191016T093759
SUMMARY:2020 CICE & & ICEPACK COMMUNITY Workshop and Tutorial
LOCATION:Boulder\, Colorado\, USA
DESCRIPTION:<p>The CICE Consortium will hold a workshop and tutorial at the National Ce
 nter for Atmospheric Research in Boulder, Colorado in February 2020.</p><p>
 The purpose of the one-day user’s&nbsp;<strong>workshop</strong>&nbsp;(03 F
 ebruary 2020) will be to discuss the current and future development of the 
 community CICE and Icepack models. The aim is to coordinate future developm
 ent among users and expectations for contributing such advances to the comm
 unity model code repositories.</p><p>Immediately following the workshop is 
 a two-day&nbsp;<strong>tutorial</strong>&nbsp;(04-05 February 2020) that wi
 ll feature lectures and practical sessions. Tutorial sessions will focus on
  using the CICE and Icepack models, both on their own as well as use within
  coupled modeling systems, and the process for contributing code to the com
 munity model. With hands-on experience running the CICE and Icepack models 
 during the tutorial, participants will have extended opportunities for comm
 unity building with CICE Consortium member model developers, who will prese
 nt information and assist in the practical sessions.</p><p>Workshop and tut
 orial attendance will be limited to 30 participants.</p><p>For more informa
 tion, including graduate student travel assistance, go to:&nbsp;<a href="ht
 tps://www.arcus.org/sites/all/modules/civicrm/extern/url.php?u=17997&amp;qi
 d=3063742">Workshop homepage</a></p><p>For questions, contact:&nbsp;Alice D
 uVivier:&nbsp;Email:&nbsp;<a href="https://www.arcus.org/sites/all/modules/
 civicrm/extern/url.php?u=17998&amp;qid=3063742"><span id="cloakd18c41edce14
 7ecf83da81c809d8aa4f">This email address is being protected from spambots. 
 You need JavaScript enabled to view it.</span><script type='text/javascript
 '>
				document.getElementById('cloakd18c41edce147ecf83da81c809d8aa4f').inn
 erHTML = '';
				var prefix = '&#109;a' + 'i&#108;' + '&#116;o';
				var pa
 th = 'hr' + 'ef' + '=';
				var addyd18c41edce147ecf83da81c809d8aa4f = 'd&#
 117;v&#105;v&#105;&#101;r' + '&#64;';
				addyd18c41edce147ecf83da81c809d8a
 a4f = addyd18c41edce147ecf83da81c809d8aa4f + '&#117;c&#97;r' + '&#46;' + '&
 #101;d&#117;';
				var addy_textd18c41edce147ecf83da81c809d8aa4f = 'd&#117;
 v&#105;v&#105;&#101;r' + '&#64;' + '&#117;c&#97;r' + '&#46;' + '&#101;d&#11
 7;';document.getElementById('cloakd18c41edce147ecf83da81c809d8aa4f').innerH
 TML += '<a ' + path + '\'' + prefix + ':' + addyd18c41edce147ecf83da81c809d
 8aa4f + '\'>'+addy_textd18c41edce147ecf83da81c809d8aa4f+'<\/a>';
		</script
 ></a></p>
DTSTAMP:20260425T040400Z
DTSTART;TZID=UTC;VALUE=DATE:20200203
DTEND;TZID=UTC;VALUE=DATE:20200206
SEQUENCE:0
TRANSP:OPAQUE
END:VEVENT
END:VCALENDAR