BEGIN:VCALENDAR
VERSION:2.0
PRODID:-//jEvents 2.0 for Joomla//EN
CALSCALE:GREGORIAN
METHOD:PUBLISH
BEGIN:VEVENT
UID:e9bb31527465e0d05079cdd42b3a2437
CATEGORIES:Polar Conferences, Meetings and Events
CREATED:20191016T093448
SUMMARY:Antarctic Marine Ecosystem Futures Scientific Conference - postponed
LOCATION:Moscow\, Russia
DESCRIPTION:Due to COVID-19, the conference is postponed and tentatively planned to tak
 e place in May 2021. Please keep an eye on the event website for updates.\n
  \nAn international conference on Antarctic marine ecosystems science, ocea
 n conservation and solutions: dedicated to the 200th year anniversary of th
 e Antarctic continent discovery by F. Bellingshausen and M. Lazarev Russian
  expedition.\nThe goal of the Conference is to foster collaboration between
  scientists studying Antarctic marine ecosystems to inform policy and to hi
 ghlight the role of collaborative science in Antarctica. During the Confere
 nce the participants will discuss the state of, and emerging threats to the
  Antarctic marine ecosystems; key challenges; and possible solutions.\nThe 
 conference outputs are under consideration, with the intention to produce a
  synthesis piece for peer reviewed publication and dissemination of relevan
 t information to Southern Ocean governing bodies.\nImportant Dates: Februar
 y 15, 2020 - Registration closes\nFurther information available from the co
 nference web-page: www.antarcticfutures.org (http://www.antarcticfutures.or
 g/)  \nHow to register: Please fill out the web based form: <a href="http:/
 /www.antarcticfutures.org/">www.antarcticfutures.org</a>\nContacts: E-mail:
  This email address is being protected from spambots. You need JavaScript e
 nabled to view it.
				document.getElementById('cloak695451737567f16ec34863
 b5546c1ab5').innerHTML = '';
				var prefix = '&#109;a' + 'i&#108;' + '&#11
 6;o';
				var path = 'hr' + 'ef' + '=';
				var addy695451737567f16ec34863b
 5546c1ab5 = '&#105;nf&#111;' + '&#64;';
				addy695451737567f16ec34863b5546
 c1ab5 = addy695451737567f16ec34863b5546c1ab5 + '&#97;nt&#97;rct&#105;cf&#11
 7;t&#117;r&#101;s' + '&#46;' + '&#111;rg';
				var addy_text695451737567f16
 ec34863b5546c1ab5 = '&#105;nf&#111;' + '&#64;' + '&#97;nt&#97;rct&#105;cf&#
 117;t&#117;r&#101;s' + '&#46;' + '&#111;rg';document.getElementById('cloak6
 95451737567f16ec34863b5546c1ab5').innerHTML += '<a ' + path + '\'' + prefix
  + ':' + addy695451737567f16ec34863b5546c1ab5 + '\'>'+addy_text695451737567
 f16ec34863b5546c1ab5+'';
		\n
X-ALT-DESC;FMTTYPE=text/html:<p><strong>Due to COVID-19, the conference is postponed and tentatively pla
 nned to take place in May 2021. Please keep an eye on the event website for
  updates.</strong></p><p>&nbsp;</p><p>An international conference on Antarc
 tic marine ecosystems science, ocean conservation and solutions: dedicated 
 to the 200th year anniversary of the Antarctic continent&nbsp;discovery by 
 F. Bellingshausen and M. Lazarev Russian expedition.</p><p>The goal of the 
 Conference is to foster collaboration between scientists studying Antarctic
  marine ecosystems to inform policy and to highlight the role of collaborat
 ive science in Antarctica. During the Conference the participants will disc
 uss the state of, and emerging threats to the Antarctic marine ecosystems; 
 key challenges; and possible solutions.</p><p>The conference outputs are un
 der consideration, with the intention to produce a synthesis piece for peer
  reviewed publication and dissemination of relevant information to Southern
  Ocean governing bodies.</p><p>Important Dates:&nbsp;<strong>February 15, 2
 020</strong> - Registration closes</p><p>Further information available from
  the conference web-page:&nbsp;<a href="http://www.antarcticfutures.org/">w
 ww.antarcticfutures.org</a>&nbsp;&nbsp;</p><p>How to register:&nbsp;Please 
 fill out the web based form:&nbsp;<a href="http://www.antarcticfutures.org/
 ">www.antarcticfutures.org</a></p><p>Contacts:&nbsp;E-mail:&nbsp;<span id="
 cloakd07bb5353c65ef259cc2ed3f9b6bd8af"><span id="cloak695451737567f16ec3486
 3b5546c1ab5">This email address is being protected from spambots. You need 
 JavaScript enabled to view it.</span><script type='text/javascript'>
				do
 cument.getElementById('cloak695451737567f16ec34863b5546c1ab5').innerHTML = 
 '';
				var prefix = '&#109;a' + 'i&#108;' + '&#116;o';
				var path = 'hr'
  + 'ef' + '=';
				var addy695451737567f16ec34863b5546c1ab5 = '&#105;nf&#11
 1;' + '&#64;';
				addy695451737567f16ec34863b5546c1ab5 = addy695451737567f
 16ec34863b5546c1ab5 + '&#97;nt&#97;rct&#105;cf&#117;t&#117;r&#101;s' + '&#4
 6;' + '&#111;rg';
				var addy_text695451737567f16ec34863b5546c1ab5 = '&#10
 5;nf&#111;' + '&#64;' + '&#97;nt&#97;rct&#105;cf&#117;t&#117;r&#101;s' + '&
 #46;' + '&#111;rg';document.getElementById('cloak695451737567f16ec34863b554
 6c1ab5').innerHTML += '<a ' + path + '\'' + prefix + ':' + addy695451737567
 f16ec34863b5546c1ab5 + '\'>'+addy_text695451737567f16ec34863b5546c1ab5+'<\/
 a>';
		</script></span></p>
DTSTAMP:20260421T201303Z
DTSTART;TZID=UTC;VALUE=DATE:20200513
DTEND;TZID=UTC;VALUE=DATE:20200516
SEQUENCE:0
TRANSP:OPAQUE
END:VEVENT
END:VCALENDAR