BEGIN:VCALENDAR
VERSION:2.0
PRODID:-//jEvents 2.0 for Joomla//EN
CALSCALE:GREGORIAN
METHOD:PUBLISH
BEGIN:VEVENT
UID:ef4e5e5c10051e8e96a89d108c18ee69
CATEGORIES:Polar Conferences, Meetings and Events
CREATED:20191001T134115
SUMMARY:Arctic Frontiers Emerging Leaders
LOCATION:Bodø-Lofoten-Tromsø\, Norway
DESCRIPTION:<p>Arctic Frontiers Emerging Leaders is an Arctic early carrier and mentori
 ng program in the High North of Norway for young scientists and professiona
 ls with special interest in Arctic topics. If you are an aspiring Arctic le
 ader under 35 years and want to learn more about Arctic security, Arctic ec
 onomy and Arctic environment, you are welcome to apply!&nbsp;</p><p>Emergin
 g Leaders invite 30 selected candidates from different countries to partici
 pate in a blend of technical, social and cultural events accompanied by men
 tors from business, politics and academia. The program takes place in the N
 orwegian Arctic and starts in the city of Bodø, then continues onboard the 
 coastal cruise M/S Hurtigruten to Lofoten and ends in Tromsø, “the gateway 
 to the Arctic”.&nbsp;</p><p>The Emerging Leaders will explore topics and ad
 ventures that are specific to the Arctic mindset and engage in crucial and 
 contemporary discussions on environment, resource management, security, the
  development of business and technology in the Arctic.&nbsp;</p><p>At the A
 rctic Frontiers Policy conference in Tromsø, the mentors will challenge the
  Emerging Leaders to present a professional view on the Arctic. What are th
 e suggestions and solutions to Arctic opportunities and challenges? How sho
 uld we best define Arctic sustainability, potentials and vulnerabilities?&n
 bsp;</p><p>Be prepared to make close friends across a variety of pan-Arctic
  regions and professions.&nbsp;</p><p>Deadline&nbsp;</p><p>The call for fun
 ding and applications is now open and will be accepted until 1 October 2019
 , if the number of applications secures a satisfactory amount of qualified 
 candidates.&nbsp;</p><p>To secure sufficient diversity in institutional aff
 iliation and geography, there will be an initial limit of two participants 
 from each company or institution.&nbsp;</p><p>MARK YOUR E-MAIL "Application
  documents 2020" and SEND REQUIRED DOCUMENTS TO: E-mail:&nbsp;<span id="clo
 akce55b413d93d36507e09c6ea226653b0">This email address is being protected f
 rom spambots. You need JavaScript enabled to view it.</span><script type='t
 ext/javascript'>
				document.getElementById('cloakce55b413d93d36507e09c6ea
 226653b0').innerHTML = '';
				var prefix = '&#109;a' + 'i&#108;' + '&#116;
 o';
				var path = 'hr' + 'ef' + '=';
				var addyce55b413d93d36507e09c6ea2
 26653b0 = 'Em&#101;rg&#105;ngl&#101;&#97;d&#101;rs' + '&#64;';
				addyce55
 b413d93d36507e09c6ea226653b0 = addyce55b413d93d36507e09c6ea226653b0 + 's&#9
 7;lt' + '&#46;' + 'n&#117;';
				var addy_textce55b413d93d36507e09c6ea22665
 3b0 = 'Em&#101;rg&#105;ngl&#101;&#97;d&#101;rs' + '&#64;' + 's&#97;lt' + '&
 #46;' + 'n&#117;';document.getElementById('cloakce55b413d93d36507e09c6ea226
 653b0').innerHTML += '<a ' + path + '\'' + prefix + ':' + addyce55b413d93d3
 6507e09c6ea226653b0 + '\'>'+addy_textce55b413d93d36507e09c6ea226653b0+'<\/a
 >';
		</script>&nbsp;Phone: +47 90751275.&nbsp;</p><p>If you want to partic
 ipate in Emerging Leaders 2020, please apply by filling out the form:&nbsp;
 <a href="https://docs.google.com/forms/d/e/1FAIpQLSfwuL_v2C39uBrQwsY5J66bUA
 gib0Nh2C-imQmQlJkqvUNw_w/viewform?vc=0&amp;c=0&amp;w=1">https://docs.google
 .com/forms/d/e/1FAIpQLSfwuL_v2C39uBrQwsY5J66bUAgib0Nh2C-imQmQlJkqvUNw_w/vie
 wform?vc=0&amp;c=0&amp;w=1</a></p>
DTSTAMP:20260421T104610Z
DTSTART;TZID=UTC;VALUE=DATE:20200122
DTEND;TZID=UTC;VALUE=DATE:20200129
SEQUENCE:0
TRANSP:OPAQUE
END:VEVENT
END:VCALENDAR