BEGIN:VCALENDAR
VERSION:2.0
PRODID:-//jEvents 2.0 for Joomla//EN
CALSCALE:GREGORIAN
METHOD:PUBLISH
BEGIN:VEVENT
UID:db8e41e6637ddfbe8dc6ea6d98734820
CATEGORIES:Polar Conferences, Meetings and Events
CREATED:20191001T130411
SUMMARY:ARCTOS PhD Workshop 2020
LOCATION:Svolvær\, Lofoten\, Norway
DESCRIPTION:<p>The ARCTOS research network invites PhD candidates to a student workshop
  offering an exciting program for early career scientists working on issues
  related to the Arctic. The workshop is taking place January 26<sup>th</sup
 >&nbsp;to February 4<sup>th</sup>&nbsp;2020 in conjunction with the Arctic 
 Frontiers conference and continues afterwards in Svolvær, Lofoten. As part 
 of the workshop, participants have to attend the Arctic Frontiers conferenc
 e and give a presentation (oral or poster) during the science section of th
 e conference.</p><p>After the conference, the students will embark on a 5-d
 ay seminar to Svolvær, Lofoten, during which they will attend 10-15 lecture
 s covering proposal writing, political science, social science, marine ecol
 ogy and climate, local art, and arctic entrepreneurship. Students will also
  prepare a proposal for funding to an imaginary research grant. During the 
 workshop, there will be also some cultural events (visiting art gallery, mu
 seum, etc.). The workshop is multidisciplinary and thus suitable for studen
 ts from all scientific fields.</p><p>One main goal of the workshop is netwo
 rking. During the conference and workshop, students can meet politicians, b
 usiness people and senior researchers as well as other early career scienti
 sts, which are all interested in Arctic issues. Together, the northern area
 s are facing possibilities and challenges related to the combination of cli
 mate change, globalization, and circumpolar problems such as oil and gas de
 velopment, pollution, public health, reduced biodiversity and loss of habit
 ats. An enormous challenge to handle. The idea behind this workshop is that
  the solution to the problems ahead lies in the synergy that emerges from i
 nternational networks, cross-disciplinary cooperation and dialogue.</p><p>P
 hD students are prioritized but Master students and Post-docs may apply as 
 well. The workshop is an official PhD level course (<a href="https://uit.no
 /utdanning/emner/emne/531901/bio-8516?ar=2018&amp;semester=V" target="_blan
 k" rel="noreferrer noopener">BIO-8516</a>) at the Arctic University of Norw
 ay in Tromsø worth 4 ECTS (only PhD students can receive credits). Travel a
 nd conference funding will be available for course participants.</p><p>For 
 some impressions of previous workshops, check out the&nbsp;<a href="https:/
 /youngscientistforum.wordpress.com/">workshop-blog</a></p><p><a href="https
 ://nettskjema.uio.no/a/122753" target="_blank" rel="noreferrer noopener" ar
 ia-label="Application Form (opens in a new tab)"><strong>Application Form</
 strong></a><strong>. Application deadline extended: September 30, 2019.</st
 rong></p>
CONTACT:This email address is being protected from spambots. You need JavaScript enabled to view it.
				document.getElementById('cloak8d93591ca3827df217ad2d08af248a1a').innerHTML = '';
				var prefix = '&#109;a' + 'i&#108;' + '&#116;o';
				var path = 'hr' + 'ef' + '=';
				var addy8d93591ca3827df217ad2d08af248a1a = 'ARCTOS' + '&#64;';
				addy8d93591ca3827df217ad2d08af248a1a = addy8d93591ca3827df217ad2d08af248a1a + 'bf&#101;' + '&#46;' + '&#117;&#105;t' + '&#46;' + 'n&#111;';
				var addy_text8d93591ca3827df217ad2d08af248a1a = 'ARCTOS' + '&#64;' + 'bf&#101;' + '&#46;' + '&#117;&#105;t' + '&#46;' + 'n&#111;';document.getElementById('cloak8d93591ca3827df217ad2d08af248a1a').innerHTML += '<a ' + path + '\'' + prefix + ':' + addy8d93591ca3827df217ad2d08af248a1a + '\'>'+addy_text8d93591ca3827df217ad2d08af248a1a+'';
		  
DTSTAMP:20260421T063548Z
DTSTART;TZID=UTC;VALUE=DATE:20200126
DTEND;TZID=UTC;VALUE=DATE:20200205
SEQUENCE:0
TRANSP:OPAQUE
END:VEVENT
END:VCALENDAR