BEGIN:VCALENDAR
VERSION:2.0
PRODID:-//jEvents 2.0 for Joomla//EN
CALSCALE:GREGORIAN
METHOD:PUBLISH
BEGIN:VEVENT
UID:29699ecd60a9ccee8924136f77cf1492
CATEGORIES:Polar Conferences, Meetings and Events
CREATED:20191001T081835
SUMMARY:Arctic Frontiers Student Forum
LOCATION:Tromsø\, Norway
DESCRIPTION:The Arctic Frontiers Student Forum is back! Are you a Bachelor or Master St
 udent interested in Arctic issues? We are pleased to announce that the Arct
 ic Frontiers Student Forum will be held alongside the Arctic Frontiers Conf
 erence, from 26-30 January 2020.\nThe Arctic Frontiers Student Forum is a f
 ive-day, interdisciplinary event bringing together students from across the
  world with interest in the Arctic region. It takes place in Tromsø, Norway
  alongside the Arctic Frontiers conference. The Arctic Frontiers Student Fo
 rum goes through a broad range of topics, but all with focus on the develop
 ment of various Arctic-related issues.\nWhat to expectThe program includes 
 talks by invited scientists, politicians, business- and NGO representatives
 , as well as student presentations on selected topics.\nYou can expect a we
 ek filled with various activities, including:\nProfessional development:\n\
 n - Educational tours and talks\n - Workshops on developing your research a
 nd professional career\n - Attending Arctic Frontiers main venue conference
  eventsPersonal development:\n\n - Improving your teamwork and leadership s
 kills\n - Networking with valuable professionals and peers\n - Broadening y
 our perspectives by being in an international environmentThe goals of the f
 orum are to foster peer-based professional development as well as establish
 ing open dialogues with experts in the Arctic region. The program motivates
  participants to have a voice in their professional society in addition to 
 discussing Arctic-related topics in an international atmosphere.\nTo be con
 sidered as a participant, complete the application form here (https://www.a
 rcticfrontiers.com/young/arctic-student-forum/arctic-frontiers-student-foru
 m-2020/).\nDeadline: 3rd November 2019\nFurther information can be found he
 re: <a href="https://www.arcticfrontiers.com/young/arctic-student-forum/">h
 ttps://www.arcticfrontiers.com/young/arctic-student-forum/</a>\n
X-ALT-DESC;FMTTYPE=text/html:<div class="article-intro"><p>The Arctic Frontiers Student Forum is back! A
 re you a Bachelor or Master Student interested in Arctic issues? We are ple
 ased to announce that the Arctic Frontiers Student Forum will be held along
 side the Arctic Frontiers Conference, from 26-30 January 2020.</p></div><di
 v class="article-body"><p>The Arctic Frontiers Student Forum is a five-day,
  interdisciplinary event bringing together students from across the world w
 ith interest in the Arctic region. It takes place in Tromsø, Norway alongsi
 de the Arctic Frontiers conference. The Arctic Frontiers Student Forum goes
  through a broad range of topics, but all with focus on the development of 
 various Arctic-related issues.</p><h5><strong>What to expect</strong></h5><
 p>The program includes talks by invited scientists, politicians, business- 
 and NGO representatives, as well as student presentations on selected topic
 s.</p><p>You can expect a week filled with various activities, including:</
 p><p>Professional development:</p><ul><li>Educational tours and talks</li><
 li>Workshops on developing your research and professional career</li><li>At
 tending Arctic Frontiers main venue conference events</li></ul><p>Personal 
 development:</p><ul><li>Improving your teamwork and leadership skills</li><
 li>Networking with valuable professionals and peers</li><li>Broadening your
  perspectives by being in an international environment</li></ul><p>The goal
 s of the forum are to foster peer-based professional development as well as
  establishing open dialogues with experts in the Arctic region. The program
  motivates participants to have a voice in their professional society in ad
 dition to discussing Arctic-related topics in an international atmosphere.<
 /p><p>To be considered as a participant, complete&nbsp;<a href="https://www
 .arcticfrontiers.com/young/arctic-student-forum/arctic-frontiers-student-fo
 rum-2020/" target="_blank" rel="noopener">the application form here</a>.</p
 ><p><strong>Deadline: 3<sup>rd</sup>&nbsp;November 2019</strong></p><p>Furt
 her information can be found here:&nbsp;<a href="https://www.arcticfrontier
 s.com/young/arctic-student-forum/">https://www.arcticfrontiers.com/young/ar
 ctic-student-forum/</a></p></div>
DTSTAMP:20260421T063121Z
DTSTART;TZID=UTC;VALUE=DATE:20200126
DTEND;TZID=UTC;VALUE=DATE:20200131
SEQUENCE:0
TRANSP:OPAQUE
END:VEVENT
END:VCALENDAR