BEGIN:VCALENDAR
VERSION:2.0
PRODID:-//jEvents 2.0 for Joomla//EN
CALSCALE:GREGORIAN
METHOD:PUBLISH
BEGIN:VEVENT
UID:0b0d60067b4882e139ee1d25920f661c
CATEGORIES:Polar Conferences, Meetings and Events
CREATED:20190930T142814
SUMMARY:Northern Political Economy Symposium 2019
LOCATION:Rovaniemi\, Finland
DESCRIPTION:What is left of development in the Arctic?\nIs sustainable development a ut
 opia in the Arctic? Is development in the Arctic more unsustainable than su
 stainable?  Sustainable development, a popular idea of balanced, equal and 
 participatory development, dominates the debates about the region. Even res
 earch about the region often takes sustainable development as a starting po
 int.  However, the progress towards reaching this goal seems slow and susta
 inable development unreachable. These observations make us ask:  What makes
  development sustainable in the Arctic in different political, economic and
  social contexts? What kind of social and political imaginaries we have and
  should have for the Arctic? Do our imaginaries match our means and practic
 es? Are there any attractive, viable alternatives for sustainable developme
 nt? How do different imaginaries motivate or improve current policies and s
 trategies? What kinds of missed voices and ideas there are about developmen
 t in the Arctic? How do emotions of hope, fear and uncertainty relate to th
 e Arctic future?\n \nPapers and presentations covering different aspects of
  Arctic developments critically are welcome. The event will be organized in
  connection to the Arctic spirit conference 2019, after the conference 14-1
 5. 11.2019 at the Arctic Centre, University of Lapland, Finland.\n \nKeynot
 e speaker\nOur keynote speaker will be professor Reetta Toivanen (HELSUS, U
 niversity of Helsinki, Finland). The topic of her talk will be “European fa
 ntasies on the Arctic”.\n \nThe presentation address the paradigm that plac
 es the people  living in the Arctic area, still centuries after the voyages
  of Pytheas (325 BC) and other European explores, as the object of a Europe
 an fantasy.  Residents of the Arctic are in this paradigm framed as guardia
 ns of the treasure chest that is the Arctic and as an ancient people of ‘na
 ture’ rather than “culture” and thus doomed to the unpolitical. The present
 ation will discuss the different political, economic and military interests
  that intertwined with this fantasy and ask who could be the beneficiary of
  the development projects.\n \nReetta Toivanen is full professor in Sustain
 ability Science (Indigenous Sustainabilities) at the Helsinki Institute for
  Sustainability Science (HELSUS) and a docent in social and cultural anthro
 pology at the University of Helsinki (Finland). She is the vice-director of
  the Centre of Excellence in Law, Identity and the European Narratives (Eur
 oStrorie) funded by the Academy of Finland (2018-2025) and PI of the resear
 ch consortium ALL-YOUTH funded by the Strategic Research Council at the Aca
 demy of Finland (2018-2023). She is also a non-resident senior research fel
 low at the European Centre for Minority Issues (ECMI) in Flensburg (Germany
 ).\n \nProfessor Toivanen's major areas of research and expertise are field
  research, ethnographic methods, anthropology of law, human rights, ethnic 
 and national minorities, Arctic research, human rights teaching, multilingu
 alism and language policy, and critical feminist theory. Her recent publica
 tions: European Fantasy of the Arctic Region and the Rise of Indigenous Sám
 i Voices in the Global Arena, in Sellheim et al. eds Arctic Triumph, Spring
 er 2019; Towards Openly Multilingual Policies and Practices Assessing Minor
 ity Language Maintenance Across Europe, Multilingual Matters 2016 (authored
  together with J. Laakso, S. Spiliopoulou-Åkermark &amp; A. Sarhimaa) and L
 inguistic Genocide or Superdiversity? (edited with J. Saarikivi), Multiling
 ual Matters 2016.\n \n \nDeadline for proposals \nPlease send your abstract
  (max. 250-words) with your name, title, affiliation and contact informatio
 n before September 15, 2019 by email to Monica Tennberg (monica.tennberg@ul
 apland.fi).\n \nProgramme\nThe programme will include a keynote talk, prese
 ntations by the participants and discussions on the basis of presentations.
  A symposium dinner will be organized.\n \nThe accepted papers and programm
 e will be announced by October 1, 2019.\n \nDeadline for registration\nIf y
 ou prefer to participate to the symposium without presenting a paper, pleas
 e register your participation before 31.10.2019. by sending an email to Mon
 ica Tennberg (<a>This email address is being protected from spambots. You n
 eed JavaScript enabled to view it.
				document.getElementById('cloak263332
 e460d32deaea52652ca46f2435').innerHTML = '';
				var prefix = '&#109;a' + '
 i&#108;' + '&#116;o';
				var path = 'hr' + 'ef' + '=';
				var addy263332e
 460d32deaea52652ca46f2435 = 'm&#111;n&#105;c&#97;.t&#101;nnb&#101;rg' + '&#
 64;';
				addy263332e460d32deaea52652ca46f2435 = addy263332e460d32deaea5265
 2ca46f2435 + '&#117;l&#97;pl&#97;nd' + '&#46;' + 'fI';
				var addy_text263
 332e460d32deaea52652ca46f2435 = 'm&#111;n&#105;c&#97;.t&#101;nnb&#101;rg' +
  '&#64;' + '&#117;l&#97;pl&#97;nd' + '&#46;' + 'fI';document.getElementById
 ('cloak263332e460d32deaea52652ca46f2435').innerHTML += '<a ' + path + '\'' 
 + prefix + ':' + addy263332e460d32deaea52652ca46f2435 + '\'>'+addy_text2633
 32e460d32deaea52652ca46f2435+'';
		</a>)\n \nTravel and accommodation\nPlea
 se note that the symposium participants will to cover their own travel and 
 accommodation costs. There is no participation fee. Let us know if you have
  any wishes about the diet.\n \nMore information\nSymposium organizer, rese
 arch professor Monica Tennberg, research professor, Northern political econ
 omy research group, Arctic Centre, University of Lapland ().\n \nWELCOME!\n
X-ALT-DESC;FMTTYPE=text/html:<p><strong>What is left of development in the Arctic?</strong><br />Is sust
 ainable development a utopia in the Arctic? Is development in the Arctic mo
 re unsustainable than sustainable?&nbsp; Sustainable development, a popular
  idea of balanced, equal and participatory&nbsp;development,&nbsp;dominates
  the debates about the region. Even research about the region often takes s
 ustainable development as a starting point.&nbsp; However, the progress tow
 ards reaching this goal seems slow and sustainable development unreachable.
  These observations make us ask:&nbsp; What makes development sustainable i
 n the Arctic in different political, economic and social contexts?&nbsp;Wha
 t kind of social and political imaginaries we have and should have for the 
 Arctic? Do our imaginaries match our means and practices? Are there any att
 ractive, viable alternatives for sustainable development? How do different 
 imaginaries motivate or improve current policies and strategies? What kinds
  of missed voices and ideas there are about development in the Arctic? How 
 do emotions of hope, fear and uncertainty relate to the Arctic future?<br /
 >&nbsp;<br />Papers and presentations covering different aspects of Arctic 
 developments critically are welcome. The event will be organized in connect
 ion to the Arctic spirit conference 2019, after the conference 14-15. 11.20
 19 at the Arctic Centre, University of Lapland, Finland.<br />&nbsp;<br /><
 strong>Keynote speaker</strong><br />Our keynote speaker will be professor 
 Reetta Toivanen (HELSUS, University of Helsinki, Finland). The topic of her
  talk will be “European fantasies on the Arctic”.<br />&nbsp;<br />The pres
 entation address the paradigm that places the people&nbsp; living in the Ar
 ctic area, still centuries after the voyages of Pytheas (325 BC) and other 
 European explores, as the object of a European fantasy.&nbsp; Residents of 
 the Arctic are in this paradigm framed as guardians of the treasure chest t
 hat is the Arctic and as an ancient people of ‘nature’ rather than “culture
 ” and thus doomed to the unpolitical. The presentation will discuss the dif
 ferent political, economic and military interests that intertwined with thi
 s fantasy and ask who could be the beneficiary of the development projects.
 <br />&nbsp;<br />Reetta Toivanen is full professor in Sustainability Scien
 ce (Indigenous Sustainabilities) at the Helsinki Institute for Sustainabili
 ty Science (HELSUS) and a docent in social and cultural anthropology at the
  University of Helsinki (Finland). She is the vice-director of the Centre o
 f Excellence in Law, Identity and the European Narratives (EuroStrorie) fun
 ded by the Academy of Finland (2018-2025) and PI of the research consortium
  ALL-YOUTH funded by the Strategic Research Council at the Academy of Finla
 nd (2018-2023). She is also a non-resident senior research fellow at the Eu
 ropean Centre for Minority Issues (ECMI) in Flensburg (Germany).<br />&nbsp
 ;<br />Professor Toivanen's major areas of research and expertise are field
  research, ethnographic methods, anthropology of law, human rights, ethnic 
 and national minorities, Arctic research, human rights teaching, multilingu
 alism and language policy, and critical feminist theory. Her recent publica
 tions: European Fantasy of the Arctic Region and the Rise of Indigenous Sám
 i Voices in the Global Arena, in Sellheim et al. eds Arctic Triumph, Spring
 er 2019; Towards Openly Multilingual Policies and Practices Assessing Minor
 ity Language Maintenance Across Europe, Multilingual Matters 2016 (authored
  together with J. Laakso, S. Spiliopoulou-Åkermark &amp; A. Sarhimaa) and L
 inguistic Genocide or Superdiversity? (edited with J. Saarikivi), Multiling
 ual Matters 2016.<br />&nbsp;<br />&nbsp;<br /><strong>Deadline for proposa
 ls</strong>&nbsp;<br />Please send your abstract (max. 250-words) with your
  name, title, affiliation and contact information before <strong>September 
 15, 2019</strong> by email to Monica Tennberg (<a>monica.tennberg@ulapland.
 f</a>i).<br />&nbsp;<br /><strong>Programme</strong><br />The programme wil
 l include a keynote talk, presentations by the participants and discussions
  on the basis of presentations. A symposium dinner will be organized.<br />
 &nbsp;<br />The accepted papers and programme will be announced by October 
 1, 2019.<br />&nbsp;<br /><strong>Deadline for registration</strong><br />I
 f you prefer to participate to the symposium without presenting a paper, pl
 ease register your participation before <strong>31.10.2019</strong>. by sen
 ding an email to Monica Tennberg (<a><span id="cloak263332e460d32deaea52652
 ca46f2435">This email address is being protected from spambots. You need Ja
 vaScript enabled to view it.</span><script type='text/javascript'>
				docu
 ment.getElementById('cloak263332e460d32deaea52652ca46f2435').innerHTML = ''
 ;
				var prefix = '&#109;a' + 'i&#108;' + '&#116;o';
				var path = 'hr' +
  'ef' + '=';
				var addy263332e460d32deaea52652ca46f2435 = 'm&#111;n&#105;
 c&#97;.t&#101;nnb&#101;rg' + '&#64;';
				addy263332e460d32deaea52652ca46f2
 435 = addy263332e460d32deaea52652ca46f2435 + '&#117;l&#97;pl&#97;nd' + '&#4
 6;' + 'fI';
				var addy_text263332e460d32deaea52652ca46f2435 = 'm&#111;n&#
 105;c&#97;.t&#101;nnb&#101;rg' + '&#64;' + '&#117;l&#97;pl&#97;nd' + '&#46;
 ' + 'fI';document.getElementById('cloak263332e460d32deaea52652ca46f2435').i
 nnerHTML += '<a ' + path + '\'' + prefix + ':' + addy263332e460d32deaea5265
 2ca46f2435 + '\'>'+addy_text263332e460d32deaea52652ca46f2435+'<\/a>';
		</s
 cript></a>)<br />&nbsp;<br /><strong>Travel and accommodation</strong><br /
 >Please note that the symposium participants will to cover their own travel
  and accommodation costs. There is no participation fee.&nbsp;Let us know i
 f you have any wishes about the diet.<br />&nbsp;<br /><strong>More informa
 tion</strong><br />Symposium organizer, research professor Monica Tennberg,
  research professor, Northern political economy research group, Arctic Cent
 re, University of Lapland (<a><span id="cloakc5a9c79a0af8b8c1895bc1a271ddaf
 bb">This email address is being protected from spambots. You need JavaScrip
 t enabled to view it.</span><script type='text/javascript'>
				document.ge
 tElementById('cloakc5a9c79a0af8b8c1895bc1a271ddafbb').innerHTML = '';
				v
 ar prefix = '&#109;a' + 'i&#108;' + '&#116;o';
				var path = 'hr' + 'ef' +
  '=';
				var addyc5a9c79a0af8b8c1895bc1a271ddafbb = 'm&#111;n&#105;c&#97;.
 t&#101;nnb&#101;rg' + '&#64;';
				addyc5a9c79a0af8b8c1895bc1a271ddafbb = a
 ddyc5a9c79a0af8b8c1895bc1a271ddafbb + '&#117;l&#97;pl&#97;nd' + '&#46;' + '
 f&#105;';
				var addy_textc5a9c79a0af8b8c1895bc1a271ddafbb = 'm&#111;n&#10
 5;c&#97;.t&#101;nnb&#101;rg' + '&#64;' + '&#117;l&#97;pl&#97;nd' + '&#46;' 
 + 'f&#105;';document.getElementById('cloakc5a9c79a0af8b8c1895bc1a271ddafbb'
 ).innerHTML += '<a ' + path + '\'' + prefix + ':' + addyc5a9c79a0af8b8c1895
 bc1a271ddafbb + '\'>'+addy_textc5a9c79a0af8b8c1895bc1a271ddafbb+'<\/a>';
		
 </script></a>).<br />&nbsp;<br /><strong>WELCOME!</strong></p>
DTSTAMP:20260424T041025Z
DTSTART;TZID=UTC;VALUE=DATE:20191114
DTEND;TZID=UTC;VALUE=DATE:20191116
SEQUENCE:0
TRANSP:OPAQUE
END:VEVENT
END:VCALENDAR