BEGIN:VCALENDAR
VERSION:2.0
PRODID:-//jEvents 2.0 for Joomla//EN
CALSCALE:GREGORIAN
METHOD:PUBLISH
BEGIN:VEVENT
UID:e3335beef2bf5d819d57e0eeb0de86f1
CATEGORIES:Polar Conferences, Meetings and Events
CREATED:20190828T102055
SUMMARY:10th International Congress of Arctic Social Sciences (ICASS X) - postponed to 15-19 June 2021
LOCATION:Arkhangelsk\, Russia
DESCRIPTION:<p><strong>Due to the COVID-19 pandemic, the IASSA Council has voted unanim
 ously to postpone ICASS X to 15-19 June 2021.</strong></p><p>ICASS&nbsp;X w
 ill mark the 30th anniversary of&nbsp;IASSA.&nbsp;ICASS&nbsp;is held every 
 three years, bringing together people from all over the world to share idea
 s about social science and humanities research in the Arctic.&nbsp;ICASS&nb
 sp;IX, held in June 2017 in Umea, Sweden, attracted 800 participants from 2
 5 different countries.<br />&nbsp;<br />ICASS&nbsp;X's theme is&nbsp;<stron
 g>Arctic Generations: Looking Back and Looking Forward</strong>. Research o
 n social sciences and humanities have a great responsibility to address the
  challenges for sustainable development in the Arctic, with a specific focu
 s on past, present and future generations of Arctic residents. The generati
 onal nature of changes and responses have lately become more recognized by 
 many policy makers and researchers. A focus on generations highlights the l
 ong-term, fundamental nature and scope of changes, impacts and adaptation s
 trategies. Another focus of&nbsp;ICASS&nbsp;X is Indigenous knowledge and i
 nter- and transdisciplinary research in the Arctic.<br /><br />ICASS&nbsp;w
 ill welcome sessions and papers on all facets of the Arctic and Sub-Arctic.
  And, as always,&nbsp;ICASS&nbsp;will also welcome contributions on all oth
 er subjects of relevance to&nbsp;IASSA&nbsp;members.<br />&nbsp;<br />We en
 courage the participation of Indigenous peoples, northern residents, and de
 cision-makers, as well as academics, so that&nbsp;ICASS&nbsp;X provides a r
 ich environment in which to advance discussions on sustainabilities in the 
 Arctic and the North and on other Northern matters.<br />&nbsp;<br />If you
  need a visa, please check&nbsp;&nbsp;<a href="https://icass.uni.edu/visa-s
 upport">https://icass.uni.edu/visa-support</a>&nbsp;&nbsp;</p><p>Limited fu
 nds may be available to support travel by <strong>early career and Indigeno
 us scholars</strong>.&nbsp;</p><p>June 20 will be reserved for additional e
 xcursions, such as the Solovetsky Islands.</p><p>For more information, go t
 o: <a href="https://icass.uni.edu">https://icass.uni.edu</a></p><p>If you h
 ave any questions please contact: Andrey Petrov (<span id="cloakba26d89ccf8
 4d2d3880c90a7370c3383">This email address is being protected from spambots.
  You need JavaScript enabled to view it.</span><script type='text/javascrip
 t'>
				document.getElementById('cloakba26d89ccf84d2d3880c90a7370c3383').in
 nerHTML = '';
				var prefix = '&#109;a' + 'i&#108;' + '&#116;o';
				var p
 ath = 'hr' + 'ef' + '=';
				var addyba26d89ccf84d2d3880c90a7370c3383 = '&#
 97;ndr&#101;y.p&#101;tr&#111;v.&#105;&#97;ss&#97;' + '&#64;';
				addyba26d
 89ccf84d2d3880c90a7370c3383 = addyba26d89ccf84d2d3880c90a7370c3383 + 'gm&#9
 7;&#105;l' + '&#46;' + 'c&#111;m';
				var addy_textba26d89ccf84d2d3880c90a
 7370c3383 = '&#97;ndr&#101;y.p&#101;tr&#111;v.&#105;&#97;ss&#97;' + '&#64;'
  + 'gm&#97;&#105;l' + '&#46;' + 'c&#111;m';document.getElementById('cloakba
 26d89ccf84d2d3880c90a7370c3383').innerHTML += '<a ' + path + '\'' + prefix 
 + ':' + addyba26d89ccf84d2d3880c90a7370c3383 + '\'>'+addy_textba26d89ccf84d
 2d3880c90a7370c3383+'<\/a>';
		</script>&nbsp;) and CC to Elena Golosova (<
 span id="cloak0c7b387f8e4f4e314cef61251cfd0591">This email address is being
  protected from spambots. You need JavaScript enabled to view it.</span><sc
 ript type='text/javascript'>
				document.getElementById('cloak0c7b387f8e4f
 4e314cef61251cfd0591').innerHTML = '';
				var prefix = '&#109;a' + 'i&#108
 ;' + '&#116;o';
				var path = 'hr' + 'ef' + '=';
				var addy0c7b387f8e4f4
 e314cef61251cfd0591 = 'g&#111;l&#111;s&#111;v&#101;' + '&#64;';
				addy0c7
 b387f8e4f4e314cef61251cfd0591 = addy0c7b387f8e4f4e314cef61251cfd0591 + '&#1
 17;n&#105;' + '&#46;' + '&#101;d&#117;';
				var addy_text0c7b387f8e4f4e314
 cef61251cfd0591 = 'g&#111;l&#111;s&#111;v&#101;' + '&#64;' + '&#117;n&#105;
 ' + '&#46;' + '&#101;d&#117;';document.getElementById('cloak0c7b387f8e4f4e3
 14cef61251cfd0591').innerHTML += '<a ' + path + '\'' + prefix + ':' + addy0
 c7b387f8e4f4e314cef61251cfd0591 + '\'>'+addy_text0c7b387f8e4f4e314cef61251c
 fd0591+'<\/a>';
		</script>&nbsp;).&nbsp;</p>
CONTACT:Andrey Petrov, Email: This email address is being protected from spambots. You need JavaScript enabled to view it.
				document.getElementById('cloakecd13ed4f9b4a7d2c56efa4a42e5eb19').innerHTML = '';
				var prefix = '&#109;a' + 'i&#108;' + '&#116;o';
				var path = 'hr' + 'ef' + '=';
				var addyecd13ed4f9b4a7d2c56efa4a42e5eb19 = '&#97;ndr&#101;y.p&#101;tr&#111;v' + '&#64;';
				addyecd13ed4f9b4a7d2c56efa4a42e5eb19 = addyecd13ed4f9b4a7d2c56efa4a42e5eb19 + '&#117;n&#105;' + '&#46;' + '&#101;d&#117;';
				var addy_textecd13ed4f9b4a7d2c56efa4a42e5eb19 = '&#97;ndr&#101;y.p&#101;tr&#111;v' + '&#64;' + '&#117;n&#105;' + '&#46;' + '&#101;d&#117;';document.getElementById('cloakecd13ed4f9b4a7d2c56efa4a42e5eb19').innerHTML += '<a ' + path + '\'' + prefix + ':' + addyecd13ed4f9b4a7d2c56efa4a42e5eb19 + '\'>'+addy_textecd13ed4f9b4a7d2c56efa4a42e5eb19+'';
		, Phone: 319-464-9966
DTSTAMP:20260422T044744Z
DTSTART;TZID=UTC;VALUE=DATE:20200615
DTEND;TZID=UTC;VALUE=DATE:20200620
SEQUENCE:0
TRANSP:OPAQUE
END:VEVENT
END:VCALENDAR