BEGIN:VCALENDAR
VERSION:2.0
PRODID:-//jEvents 2.0 for Joomla//EN
CALSCALE:GREGORIAN
METHOD:PUBLISH
BEGIN:VEVENT
UID:a6710e16a78a4147a840de864309a6bd
CATEGORIES:Polar Conferences, Meetings and Events
CREATED:20190813T100249
SUMMARY:CodeRefinery hackathon
LOCATION:Stockholm\, Sweden
DESCRIPTION:<p><strong>CodeRefinery hackathon in Stockholm</strong><br />Building a Nor
 dic community of research software engineers</p><p>More information about t
 he registration procedure.<br /><strong>November 6-7, 2019, KTH Main Campus
 </strong></p><p>We start Wednesday morning and conclude Thursday after lunc
 h.</p><p>Location: KTH Library, Osquars backe 31, KTH Main Campus.<br />Wel
 come to the first CodeRefinery hackathon!</p><p>The idea behind this event 
 is to bring together people who are working with code and/or data in resear
 ch, in an informal environment where ideas can be exchanged, expertise shar
 ed and real work done!</p><p><strong>What you can do at the hackathon:</str
 ong></p><p>Bring your own code or data and get suggestions/help on how to b
 etter organize, test, document, and share your code.<br /> Participate at a
  ReproHack where we try to reproduce a nominated paper and learn how to mak
 e software papers better reproducible. You can nominate your own paper and 
 then you get feedback about how to improve your own work.<br /> Work on new
  or existing CodeRefinery lessons.<br /> Share your expertise with others a
 nd learn many new tricks and tools from others.</p><p><strong>What we will 
 ask you to provide when registering:</strong></p><p>Nominate two papers for
  the ReproHack (can be your papers or somebody else’s).<br /> Suggest at le
 ast one project that you would like to work on with others.<br /> If you br
 ing your own code or data where you would like to get expert suggestions, p
 lease give us some background information.</p><p><strong>Schedule</strong><
 /p><p>Wednesday, November 6<br /> morning:<br /> Welcome and practical info
 rmation<br /> Brainstorming<br /> Presentation of group projects and formin
 g of groups<br /> afternoon:<br /> Group work part I<br /> Morning break<br
  /> Group work part II</p><p><br /> Thursday, November 7<br /> morning:<br 
 /> Group work part III<br /> Short presentations of results<br /> Concludin
 g remarks<br /> afternoon:<br /> Departure</p><p><strong>Organizers</strong
 ></p><p>Thor Wikfeldt<br /> Anne-Claire Fouilloux<br /> Radovan Bast</p><p>
 Contact: <span id="cloakeedc9367ff669825b507789561e4c9a7">This email addres
 s is being protected from spambots. You need JavaScript enabled to view it.
 </span><script type='text/javascript'>
				document.getElementById('cloakee
 dc9367ff669825b507789561e4c9a7').innerHTML = '';
				var prefix = '&#109;a'
  + 'i&#108;' + '&#116;o';
				var path = 'hr' + 'ef' + '=';
				var addyeed
 c9367ff669825b507789561e4c9a7 = 's&#117;pp&#111;rt' + '&#64;';
				addyeedc
 9367ff669825b507789561e4c9a7 = addyeedc9367ff669825b507789561e4c9a7 + 'c&#1
 11;d&#101;r&#101;f&#105;n&#101;ry' + '&#46;' + '&#111;rg';
				var addy_tex
 teedc9367ff669825b507789561e4c9a7 = 's&#117;pp&#111;rt' + '&#64;' + 'c&#111
 ;d&#101;r&#101;f&#105;n&#101;ry' + '&#46;' + '&#111;rg';document.getElement
 ById('cloakeedc9367ff669825b507789561e4c9a7').innerHTML += '<a ' + path + '
 \'' + prefix + ':' + addyeedc9367ff669825b507789561e4c9a7 + '\'>'+addy_text
 eedc9367ff669825b507789561e4c9a7+'<\/a>';
		</script></p>
X-EXTRAINFO:https://coderefinery.org/events/2019-11-06-stockholm/
DTSTAMP:20260425T232750Z
DTSTART;TZID=UTC;VALUE=DATE:20191106
DTEND;TZID=UTC;VALUE=DATE:20191108
SEQUENCE:0
TRANSP:OPAQUE
END:VEVENT
END:VCALENDAR