BEGIN:VCALENDAR
VERSION:2.0
PRODID:-//jEvents 2.0 for Joomla//EN
CALSCALE:GREGORIAN
METHOD:PUBLISH
BEGIN:VEVENT
UID:047c74ce440f5bb48eebcf92d964cc98
CATEGORIES:Polar Conferences, Meetings and Events
CREATED:20190806T125155
SUMMARY:Webinar: What is an Atmospheric River and How do Alaska National Weather Service Forecasters Monitor these Impactful Events on Communities and the Hydrologic Cycle?
DESCRIPTION:What is an Atmospheric River and How do Alaska National Weather Service For
 ecasters Monitor these Impactful Events on Communities and the Hydrologic C
 ycle?\nAaron Jacobs, National Weather Service Juneau and Martin Ralph, Scri
 pps Institution of Oceanography\nWednesday, 21 August 2019\n11:00 a.m. AKDT
 \nAtmospheric rivers (ARs) have the ability to transport large amounts of w
 ater vapor from the tropics poleward into the upper latitudes that can have
  positive and negative effects on the environment and society. For example,
  ARs events can cause dangerous flooding, debris flows, and large amounts o
 f snowfall but at the same time can be beneficial to the environment, espec
 ially areas that are in a drought. More than 20 years of research have incr
 eased our understanding of the dynamics of ARs. At the same time the improv
 ed remote sensing and better numerical weather prediction has given forecas
 ters increased ability to monitor atmospheric rivers, although forecast cha
 llenges associated with ARs remain. This talk will review what is known of 
 ARs, how forecasters monitor these events, what type of impacts they can ha
 ve on communities of Alaska, and ongoing research particular to Alaska.\nFo
 r more information about this webinar, including registration and instructi
 ons on how to join, go to:\nWebinar webpage (https://accap.uaf.edu/webinar/
 Atmospheric_River)\n
X-ALT-DESC;FMTTYPE=text/html:<p><strong>What is an Atmospheric River and How do Alaska National Weather 
 Service Forecasters Monitor these Impactful Events on Communities and the H
 ydrologic Cycle?</strong><br />Aaron Jacobs, National Weather Service Junea
 u and Martin Ralph, Scripps Institution of Oceanography<br /><strong>Wednes
 day, 21 August 2019</strong><br /><strong>11:00 a.m. AKDT</strong></p><p>At
 mospheric rivers (ARs) have the ability to transport large amounts of water
  vapor from the tropics poleward into the upper latitudes that can have pos
 itive and negative effects on the environment and society. For example, ARs
  events can cause dangerous flooding, debris flows, and large amounts of sn
 owfall but at the same time can be beneficial to the environment, especiall
 y areas that are in a drought. More than 20 years of research have increase
 d our understanding of the dynamics of ARs. At the same time the improved r
 emote sensing and better numerical weather prediction has given forecasters
  increased ability to monitor atmospheric rivers, although forecast challen
 ges associated with ARs remain. This talk will review what is known of ARs,
  how forecasters monitor these events, what type of impacts they can have o
 n communities of Alaska, and ongoing research particular to Alaska.</p><p>F
 or more information about this webinar, including registration and instruct
 ions on how to join, go to:<br /><a href="https://accap.uaf.edu/webinar/Atm
 ospheric_River">Webinar webpage</a></p>
DTSTAMP:20260421T102137Z
DTSTART;TZID=UTC:20190821T110000
DTEND;TZID=UTC:20190821T120000
SEQUENCE:0
TRANSP:OPAQUE
END:VEVENT
END:VCALENDAR