BEGIN:VCALENDAR
VERSION:2.0
PRODID:-//jEvents 2.0 for Joomla//EN
CALSCALE:GREGORIAN
METHOD:PUBLISH
BEGIN:VEVENT
UID:275cea7353644c3dd138db0db88d1bc1
CATEGORIES:Polar Conferences, Meetings and Events
CREATED:20190801T064219
SUMMARY:U.S. Antarctic Deep Field Camp Planning Workshop
LOCATION:Julian\, CA\, USA
DESCRIPTION:The major goal of the workshop is to identify key scientific research topic
 s that will help determine the highest priority sites for the next potentia
 l multidisciplinary U.S. Antarctic deep field camp and to facilitate commun
 ication between new and veteran scientists. Such a camp is not guaranteed, 
 but depends on interest and proposal pressure from our research community i
 n the context of NSF priorities and Antarctic logistical constraints. The u
 ltimate goal is not to choose a single site, but provide NSF a portfolio of
  the highest priority sites, along with justification for each (see below f
 or meeting details and logistics).\nApplication for registration waiver: Au
 g. 5\nRegistration deadline:  Aug. 23\nPoster (not abstract) submission dea
 dline:  Sept. 20\nMore information can be found here: https://tamcamp.org/m
 eeting/2019/overview\n
X-ALT-DESC;FMTTYPE=text/html:<p>The major goal of the workshop is to identify key scientific research to
 pics that will help determine the highest priority sites for the next poten
 tial multidisciplinary U.S. Antarctic deep field camp and to facilitate com
 munication between new and veteran scientists. Such a camp is not guarantee
 d, but depends on interest and proposal pressure from our research communit
 y in the context of NSF priorities and Antarctic logistical constraints. Th
 e ultimate goal is not to choose a single site, but provide NSF a portfolio
  of the highest priority sites, along with justification for each (see belo
 w for meeting details and logistics).</p><p><strong><em>Application for reg
 istration waiver</em>: Aug. 5</strong></p><p><strong><em>Registration deadl
 ine</em>: &nbsp;Aug. 23</strong></p><p><strong><em>Poster (not abstract) su
 bmission deadline</em>: &nbsp;Sept. 20</strong></p><p>More information can 
 be found here:&nbsp;<a href="https://tamcamp.org/meeting/2019/overview">htt
 ps://tamcamp.org/meeting/2019/overview</a></p>
DTSTAMP:20260422T003223Z
DTSTART;TZID=UTC;VALUE=DATE:20191015
DTEND;TZID=UTC;VALUE=DATE:20191017
SEQUENCE:0
TRANSP:OPAQUE
END:VEVENT
END:VCALENDAR