BEGIN:VCALENDAR
VERSION:2.0
PRODID:-//jEvents 2.0 for Joomla//EN
CALSCALE:GREGORIAN
METHOD:PUBLISH
BEGIN:VEVENT
UID:eb8c4da9f803d63b275989c87158a899
CATEGORIES:Polar Conferences, Meetings and Events
CREATED:20190801T064053
SUMMARY:4th Interdisciplinary Antarctic Earth Sciences conference
LOCATION:Julian\, CA\, USA
DESCRIPTION:The meeting is intended to provide a forum to present and discuss results o
 f exciting new Antarctic research across the spectrum of the Earth Sciences
  and to encourage conversations about future interdisciplinary collaboratio
 ns. As with the previous meetings, we will follow a single session format t
 hat will include invited and contributed presentations, poster sessions, an
 d informal discussion time to explore new collaborative research opportunit
 ies. The program will be guided by an interdisciplinary organizing committe
 e that will identify unifying session themes based on community interest al
 ong with the critical questions identified by the U.S. Polar Research Board
  and the International Scientific Committee on Antarctic Research. More det
 ails about session themes, registration cost, travel support, etc., will fo
 llow in the coming weeks. Both food and lodging will be available for all a
 s part of the registration cost  at Camp Cedar Glen. We anticipate the abst
 ract deadline will be in early August. The meeting will immediately precede
  the West Antarctic ice sheet (WAIS) meeting, which will be held Oct. 16-18
 .\nThis biennial conference is intended to provide a forum to present and d
 iscuss the results of your exciting new Antarctic research across the spect
 rum of the Earth Sciences from deep time and deep earth to modern biologica
 l interaction with surficial processes.  We will have multidisciplinary ses
 sions for talks and posters (see below for meeting details and logistics).\
 nOverarching Theme:  Intersecting Spheres \n\n - Cause and Effect: Inferrin
 g Process from Pattern in Antarctic Earth History\n\n - Intentional &amp; U
 nintentional Collisions: Outcomes of Targeted and Serendipitous Collaborati
 on\n\n - Sticky Edges: Transformative Science at the Margins of Emerging or
  Existing Disciplines\nAbstract deadline: Aug. 16\nRegistration deadline:  
 Aug. 23\nMore information can be found here: https://tamcamp.org/meeting/20
 19/overview\n
X-ALT-DESC;FMTTYPE=text/html:<p>The meeting is intended to provide a forum to present and discuss result
 s of exciting new Antarctic research across the spectrum of the Earth Scien
 ces and to encourage conversations about future interdisciplinary collabora
 tions. As with the previous meetings, we will follow a single session forma
 t that will include invited and contributed presentations, poster sessions,
  and informal discussion time to explore new collaborative research opportu
 nities. The program will be guided by an interdisciplinary organizing commi
 ttee that will identify unifying session themes based on community interest
  along with the critical questions identified by the U.S. Polar Research Bo
 ard and the&nbsp;International Scientific Committee on Antarctic Research. 
 More details about session themes, registration cost, travel support, etc.,
  will follow in the coming weeks. Both food and lodging will be available&n
 bsp;for all&nbsp;as part of the registration cost &nbsp;at Camp Cedar Glen.
 &nbsp;We anticipate the abstract deadline will be in early August.&nbsp;The
  meeting will immediately&nbsp;<em>precede&nbsp;</em>the West Antarctic ice
  sheet (WAIS) meeting, which will be held Oct. 16-18.</p><p>This biennial c
 onference is intended to provide a forum to present and discuss the results
  of your exciting new Antarctic research across the spectrum of the Earth S
 ciences from deep time and deep earth to modern biological interaction with
  surficial processes. &nbsp;We will have multidisciplinary sessions for tal
 ks and posters (see below for meeting details and logistics).</p><p><em><st
 rong>Overarching Theme: &nbsp;Intersecting Spheres&nbsp;</strong></em></p><
 ul><li><p><em>Cause and Effect</em>: Inferring Process from Pattern in Anta
 rctic Earth History</p></li><li><p><em>Intentional &amp; Unintentional Coll
 isions:</em>&nbsp;Outcomes of Targeted and Serendipitous Collaboration</p><
 /li><li><p><em>Sticky Edges:</em>&nbsp;Transformative Science at the Margin
 s of Emerging or Existing Disciplines</p></li></ul><p><strong><em>Abstract 
 deadline</em>: Aug. 16</strong></p><p><strong><em>Registration deadline: &n
 bsp;Aug. 23</em></strong></p><p>More information can be found here:&nbsp;<a
  href="https://tamcamp.org/meeting/2019/overview">https://tamcamp.org/meeti
 ng/2019/overview</a></p>
DTSTAMP:20260421T230510Z
DTSTART;TZID=UTC;VALUE=DATE:20191013
DTEND;TZID=UTC;VALUE=DATE:20191016
SEQUENCE:0
TRANSP:OPAQUE
END:VEVENT
END:VCALENDAR