BEGIN:VCALENDAR
VERSION:2.0
PRODID:-//jEvents 2.0 for Joomla//EN
CALSCALE:GREGORIAN
METHOD:PUBLISH
BEGIN:VEVENT
UID:9356c9920cb0b279f12930677c8d2881
CATEGORIES:Polar Conferences, Meetings and Events
CREATED:20190801T063807
SUMMARY:UK Sea Ice Group Meeting
LOCATION:Exeter\, UK
DESCRIPTION:<p>The UK Sea Ice Group Meeting 2019 will be hosted by the Met Office in Ex
 eter in the afternoon of Thursday 19th and the morning of Friday 20th Septe
 mber 2019.<br />Lunch will be provided on both days as well as tea and coff
 ee breaks. Refreshments have been part-funded by the Challenger Society as 
 part of the Sea Ice Special Interest Group.</p><p>The format will be much t
 he same as previous years with an informal feel and oral/poster presentatio
 ns available to all.<br /><br />If you would like to attend then please com
 plete following online questionnaire to let us know the relevant informatio
 n:&nbsp;<a href="https://docs.google.com/forms/d/e/1FAIpQLScJa1MpGv1aySyWDC
 H0HWZKlg5SMzqrA9hxHCAfI_nawz4u7A/viewform" target="_blank" rel="noopener no
 referrer" data-saferedirecturl="https://www.google.com/url?q=https://docs.g
 oogle.com/forms/d/e/1FAIpQLScJa1MpGv1aySyWDCH0HWZKlg5SMzqrA9hxHCAfI_nawz4u7
 A/viewform&amp;source=gmail&amp;ust=1564726782578000&amp;usg=AFQjCNELUnoa7j
 tkuVgP0kQOupgrGc5Vmw">https://docs.google.com/forms/d/e/1FAIpQLScJa1MpGv1ay
 SyWDCH0HWZKlg5SMzqrA9hxHCAfI_nawz4u7A/viewform</a></p>
DTSTAMP:20260422T070254Z
DTSTART;TZID=UTC;VALUE=DATE:20190919
DTEND;TZID=UTC;VALUE=DATE:20190921
SEQUENCE:0
TRANSP:OPAQUE
END:VEVENT
END:VCALENDAR