BEGIN:VCALENDAR
VERSION:2.0
PRODID:-//jEvents 2.0 for Joomla//EN
CALSCALE:GREGORIAN
METHOD:PUBLISH
BEGIN:VEVENT
UID:05336b662372c506a323f6aaa7e5fb0c
CATEGORIES:APECS Events
CREATED:20160902T091552
SUMMARY:First APECS Germany workshop with Panel discussion
LOCATION:Rostock\, Germany
DESCRIPTION:The workshop is composed of 2 aspects:\n1) APECS Germany - Who are we? What
  are we doing? Why join us?\n2) Panel Discussion on "How to write a success
 ful proposal?"\n
X-ALT-DESC;FMTTYPE=text/html:<p>The workshop is composed of 2 aspects:<br />1) APECS Germany - Who are w
 e? What are we doing? Why join us?<br />2) Panel Discussion on "How to writ
 e a successful proposal?"</p>
CONTACT:Heike Link, This email address is being protected from spambots. You need JavaScript enabled to view it.
				document.getElementById('cloak6e6328d7ef3a83d4a62aecd6412beb50').innerHTML = '';
				var prefix = '&#109;a' + 'i&#108;' + '&#116;o';
				var path = 'hr' + 'ef' + '=';
				var addy6e6328d7ef3a83d4a62aecd6412beb50 = 'hl&#105;nk' + '&#64;';
				addy6e6328d7ef3a83d4a62aecd6412beb50 = addy6e6328d7ef3a83d4a62aecd6412beb50 + '&#101;c&#111;l&#111;gy' + '&#46;' + '&#117;n&#105;-k&#105;&#101;l' + '&#46;' + 'd&#101;';
				var addy_text6e6328d7ef3a83d4a62aecd6412beb50 = 'hl&#105;nk' + '&#64;' + '&#101;c&#111;l&#111;gy' + '&#46;' + '&#117;n&#105;-k&#105;&#101;l' + '&#46;' + 'd&#101;';document.getElementById('cloak6e6328d7ef3a83d4a62aecd6412beb50').innerHTML += '<a ' + path + '\'' + prefix + ':' + addy6e6328d7ef3a83d4a62aecd6412beb50 + '\'>'+addy_text6e6328d7ef3a83d4a62aecd6412beb50+'';
		
X-EXTRAINFO:The workshop is held prior to the DFG Priority Program for Antarctic Resear
 ch Meeting 
DTSTAMP:20260421T174317Z
DTSTART;TZID=UTC:20160914T180000
DTEND;TZID=UTC;VALUE=DATE:20160915
SEQUENCE:0
TRANSP:OPAQUE
END:VEVENT
END:VCALENDAR