BEGIN:VCALENDAR
VERSION:2.0
PRODID:-//jEvents 2.0 for Joomla//EN
CALSCALE:GREGORIAN
METHOD:PUBLISH
BEGIN:VEVENT
UID:1cccf26b0191b3907418310857efc860
CATEGORIES:Polar Conferences, Meetings and Events
CREATED:20190722T174132
SUMMARY:2020 Arctic Frontiers
LOCATION:Tromsø\, Norway
DESCRIPTION:Four themes:\n\n - Arctic Food Security\n - Knowledge-based development in 
 the Arctic\n - Disruptive technologies\n - Local or Global Arctic? Multi-sc
 aled considerations of connections and remoteness in climate-impacted commu
 nitiesOn a Call for Papers page you can read more about each topic and the 
 scientific committees, as well as a possibility to contribute to the Spring
 er book volume "BUILDING COMMON INTERESTS IN THE ARCTIC OCEAN WITH GLOBAL I
 NCLUSION", to be published in conjunction with the conference. Deadline is 
 8 August 2019.\nYou can read the full Call for Papers here https://www.arct
 icfrontiers.com/call-for-papers-arctic-frontiers-science-2020/. The abstrac
 t submission deadline has been extended to 8 October 2019.\nSee also confer
 ence website: <a href="https://www.arcticfrontiers.com">https://www.arcticf
 rontiers.com</a>\n
X-ALT-DESC;FMTTYPE=text/html:<p>Four themes:</p><ul><li>Arctic Food Security</li><li>Knowledge-based dev
 elopment in the Arctic</li><li>Disruptive technologies</li><li>Local or Glo
 bal Arctic? Multi-scaled considerations of connections and remoteness in cl
 imate-impacted communities</li></ul><p>On a Call for Papers page you can re
 ad more about each topic and the scientific committees, as well as a possib
 ility to contribute to the Springer book volume "BUILDING COMMON INTERESTS 
 IN THE ARCTIC OCEAN WITH GLOBAL INCLUSION", to be published in conjunction 
 with the conference. <strong>Deadline&nbsp;is 8 August 2019.</strong></p><p
 >You can read the full Call for Papers here <a href="https://www.arcticfron
 tiers.com/call-for-papers-arctic-frontiers-science-2020/">https://www.arcti
 cfrontiers.com/call-for-papers-arctic-frontiers-science-2020/</a>. <strong>
 <span lang="EN-US">The abstract submission deadline has been extended to 8 
 October 2019.</span></strong></p><p>See also conference website:&nbsp;<a hr
 ef="https://www.arcticfrontiers.com">https://www.arcticfrontiers.com</a></p
 >
DTSTAMP:20260421T063115Z
DTSTART;TZID=UTC;VALUE=DATE:20200128
DTEND;TZID=UTC;VALUE=DATE:20200131
SEQUENCE:0
TRANSP:OPAQUE
END:VEVENT
END:VCALENDAR