BEGIN:VCALENDAR
VERSION:2.0
PRODID:-//jEvents 2.0 for Joomla//EN
CALSCALE:GREGORIAN
METHOD:PUBLISH
BEGIN:VEVENT
UID:6e7cefce1d6cb6abda8a21a1292c466a
CATEGORIES:Polar Conferences, Meetings and Events
CREATED:20190711T134436
SUMMARY:Third Polar Data Forum
LOCATION:Helsinki\, Finland
DESCRIPTION:<p>Third Polar Data Forum (PDF III) will be a two-day, conference-style mee
 ting in support of information exchange, with the remainder of the week usi
 ng a “hackathon” approach that will build on the development work done in p
 revious meetings.&nbsp;</p><p><strong>Abstract submission deadline: 6 Septe
 mber</strong><br /><strong>Registration deadline: 18 October</strong></p><p
 >More information is available on the conference website:&nbsp;<span style=
 "text-decoration: underline;"><a href="https://scar.us7.list-manage.com/tra
 ck/click?u=a611f6f7c375923d8563a8821&amp;id=6c78f6a2c0&amp;e=356aed7045">ht
 tps://polar-data-forum.org/</a></span></p>
DTSTAMP:20260424T150038Z
DTSTART;TZID=UTC;VALUE=DATE:20191118
DTEND;TZID=UTC;VALUE=DATE:20191123
SEQUENCE:0
TRANSP:OPAQUE
END:VEVENT
END:VCALENDAR