BEGIN:VCALENDAR
VERSION:2.0
PRODID:-//jEvents 2.0 for Joomla//EN
CALSCALE:GREGORIAN
METHOD:PUBLISH
BEGIN:VEVENT
UID:c1342aefaf9e6ac3e0e6c2d6862784fb
CATEGORIES:Polar Conferences, Meetings and Events
CREATED:20190702T124247
SUMMARY:International Symposium on Plastics in the Arctic and Sub-Arctic Region - postponed to 28-30 September 2020
LOCATION:Reykjavik\, Iceland
DESCRIPTION:The  International Symposium on Plastics in the Arctic and Sub-Arctic Regio
 n will be postponed to 28-30 September 2020.\n \nThe Government of Iceland 
 in collaboration with the Nordic Council of Ministers is hosting an Interna
 tional Symposium on Plastics in the Arctic and Sub-Arctic Region in April 2
 020 in connection with the Icelandic Chairmanship of the Arctic Council.\nI
 celand holds the Chairmanship of the Arctic Council from May 2019 to May 20
 21 and intends during this period to promote discussion on ways and means t
 hat may reduce the impact of plastics in the Arctic Marine Environment.\nIc
 eland holds the Presidency of the Nordic Council of Ministers in 2019. The 
 Icelandic Presidency prioritizes the ocean with a focus on the fight agains
 t plastic in the marine environment, one of our times biggest challenges. T
 he Presidency project NordMar Plastic runs for three years, up until 2021 a
 nd is in joint partnership of all eight Nordic countries.\nThe Internationa
 l Symposium will focus on scientific knowledge of the problem and the best 
 practices to deal with the huge challenge. In this way the symposium is exp
 ected to build a foundation of science and deliver information and advice f
 or decision makers.\nThe symposium is furthermore expected to contribute to
  the Arctic Council's work on plastic litter during the Icelandic Chairmans
 hip.\nCall for Abstracts is open and a direct link to the abstract submissi
 ons form is here (https://www.arcticplastics2020.is/index.php/en/abstract-s
 ubmissions). The deadline for abstract submissions is 1 December 2019.\nReg
 istration is open and a direct link to the registration site is <a href="ht
 tps://www.arcticplastics2020.is/index.php/en/registration" target="_blank" 
 rel="noopener">here</a>. The deadline for an early bird registration is 1 N
 ovember 2019\nFor further information see this webpage: https://www.arcticp
 lastics2020.is/index.php/en/\n
X-ALT-DESC;FMTTYPE=text/html:<p><strong>The&nbsp;&nbsp;<strong>International Symposium on Plastics in th
 e Arctic and Sub-Arctic Region</strong> will be postponed to 28-30 Septembe
 r 2020.</strong></p><p>&nbsp;</p><p><em>The Government of Iceland</em>&nbsp
 ;in collaboration with the&nbsp;<em>Nordic Council of Ministers</em>&nbsp;i
 s hosting an&nbsp;<strong>International Symposium on Plastics in the Arctic
  and Sub-Arctic Region</strong>&nbsp;in April 2020 in connection with the I
 celandic Chairmanship of the Arctic Council.</p><p>Iceland holds the Chairm
 anship of the Arctic Council from May 2019 to May 2021 and intends during t
 his period to promote discussion on ways and means that may reduce the impa
 ct of plastics in the Arctic Marine Environment.</p><p>Iceland holds the Pr
 esidency of the Nordic Council of Ministers in 2019. The Icelandic Presiden
 cy prioritizes the ocean with a focus on the fight against plastic in the m
 arine environment, one of our times biggest challenges. The Presidency proj
 ect NordMar Plastic runs for three years, up until 2021 and is in joint par
 tnership of all eight Nordic countries.</p><p>The International Symposium w
 ill focus on scientific knowledge of the problem and the best practices to 
 deal with the huge challenge. In this way the symposium is expected to buil
 d a foundation of science and deliver information and advice for decision m
 akers.</p><p>The symposium is furthermore expected to contribute to the Arc
 tic Council's work on plastic litter during the Icelandic Chairmanship.</p>
 <p><strong>Call for Abstracts is open</strong>&nbsp;and a direct link to th
 e abstract submissions form is&nbsp;<a href="https://www.arcticplastics2020
 .is/index.php/en/abstract-submissions" target="_blank" rel="noopener">here<
 /a>. The deadline for abstract submissions is&nbsp;<strong>1 December 2019.
 </strong></p><p><strong>Registration is open</strong>&nbsp;and a direct lin
 k to the registration site is&nbsp;<a href="https://www.arcticplastics2020.
 is/index.php/en/registration" target="_blank" rel="noopener">here</a>. The 
 deadline for an early bird registration is&nbsp;<strong>1 November 2019</st
 rong></p><p>For further information see this webpage:&nbsp;<a href="https:/
 /www.arcticplastics2020.is/index.php/en/">https://www.arcticplastics2020.is
 /index.php/en/</a></p>
DTSTAMP:20260422T001621Z
DTSTART;TZID=UTC;VALUE=DATE:20200421
DTEND;TZID=UTC;VALUE=DATE:20200424
SEQUENCE:0
TRANSP:OPAQUE
END:VEVENT
END:VCALENDAR