BEGIN:VCALENDAR
VERSION:2.0
PRODID:-//jEvents 2.0 for Joomla//EN
CALSCALE:GREGORIAN
METHOD:PUBLISH
BEGIN:VEVENT
UID:156cce9d88676ffd7fe5fb22e3e45a5b
CATEGORIES:Field and Summer Schools
CREATED:20190626T081317
SUMMARY:Arctic Summer School
LOCATION:Yakutsk \, Russia
DESCRIPTION:<p>The Arctic Summer School is hosted by the North Eastern Federal Universi
 ty in Yakutsk. This is a great opportunity to learn and experience first ha
 nd Arctic region expertise from a multidisciplinary standpoint: from course
 s on folklore to a practical crash-course in the diamond industry. Besides,
  the school also offers educational eco-tours to the world’s most famous lo
 cations and marvels such as the Lena Pillars (Lena Pillars Nature Park is l
 isted as UNESCO World Heritage site.), glacier of Lake Buluus, together wit
 h Kyuryulyur Waterfalls, the Permafrost Museum, , and many more other uniqu
 e sights.</p><p><strong>Application Deadline:</strong>&nbsp;June 28</p><p><
 strong>Why one should consider:</strong></p><ul><li>Experts with local and 
 international experience of teaching in the top world universities (Univers
 ity of Cambridge, University of Illinois, Urbana-Champaign, University of C
 alifornia, Berkeley)</li><li>Learn the way Climate Change influences nature
  and people (reindeer-husbandry) of Yakutia</li><li>Gain knowledge of survi
 val in the Arctic wilderness</li><li>Get your perspective on gold, oil, and
  diamond-mining in the time of technological innovations and environmental 
 awareness</li></ul><p><strong>Budget, Transportation, and Accommodation:</s
 trong></p><p>Neat and modernized dorms, as well as guesthouses, are going t
 o be provided as well as transportation and some meals. A one-time tuition 
 fee of 950 euros covers all.</p><p>For the detailed schedule information an
 d further inquiries:&nbsp;Please contact, the senior coordinator of the bra
 nch office of the University of Arctic in Yakutsk, Ms Veronika Postnikova&n
 bsp;<span id="cloakd910964a2d766cd44fdbb2563f552664">This email address is 
 being protected from spambots. You need JavaScript enabled to view it.</spa
 n><script type='text/javascript'>
				document.getElementById('cloakd910964
 a2d766cd44fdbb2563f552664').innerHTML = '';
				var prefix = '&#109;a' + 'i
 &#108;' + '&#116;o';
				var path = 'hr' + 'ef' + '=';
				var addyd910964a
 2d766cd44fdbb2563f552664 = 'vv.p&#111;stn&#105;k&#111;v&#97;' + '&#64;';
		
 		addyd910964a2d766cd44fdbb2563f552664 = addyd910964a2d766cd44fdbb2563f5526
 64 + 's-vf&#117;' + '&#46;' + 'r&#117;';
				var addy_textd910964a2d766cd44
 fdbb2563f552664 = 'vv.p&#111;stn&#105;k&#111;v&#97;' + '&#64;' + 's-vf&#117
 ;' + '&#46;' + 'r&#117;';document.getElementById('cloakd910964a2d766cd44fdb
 b2563f552664').innerHTML += '<a ' + path + '\'' + prefix + ':' + addyd91096
 4a2d766cd44fdbb2563f552664 + '\'>'+addy_textd910964a2d766cd44fdbb2563f55266
 4+'<\/a>';
		</script><em>.</em></p>
DTSTAMP:20260425T232749Z
DTSTART;TZID=UTC;VALUE=DATE:20190729
DTEND;TZID=UTC;VALUE=DATE:20190816
SEQUENCE:0
TRANSP:OPAQUE
END:VEVENT
END:VCALENDAR