BEGIN:VCALENDAR
VERSION:2.0
PRODID:-//jEvents 2.0 for Joomla//EN
CALSCALE:GREGORIAN
METHOD:PUBLISH
BEGIN:VEVENT
UID:7d4d45b4331a16bd72fdfad806221b21
CATEGORIES:Polar Conferences, Meetings and Events
CREATED:20190626T080849
SUMMARY:2019 AGU Annual Meeting
LOCATION:San Francisco\, California\, USA
DESCRIPTION:As AGU marks its Centennial in 2019, we return to San Francisco, the home o
 f the AGU Fall Meeting for more than 40 years. Join our diverse community a
 t the newly renovated Moscone Center as we collaborate across borders and b
 oundaries to explore and develop our research. Don’t miss this once-in-a-li
 fetime opportunity to participate in Centennial presentations and special e
 vents that will bring to life the past, present and the future of our scien
 ce.\n\nToday we stand at the intersection of history and our future. Fall M
 eeting 2019 will prepare you for what’s ahead: rapid developments in our sc
 ience, new approaches to observing our Earth and beyond, the introduction o
 f new data streams, growing demand for accessible science, the expansion of
  convergent science, and more. AGU will celebrate our past and inspire the 
 future by bringing together the people, the imagination, and the science th
 at will ignite our next hundred years to make our planet safer, cleaner, an
 d more sustainable. \nDeadline for abstract submission: 31 July\nFind more 
 information here: https://www2.agu.org/fall-meeting\n
X-ALT-DESC;FMTTYPE=text/html:<p>As AGU marks its Centennial in 2019, we return to San Francisco, the hom
 e of the AGU Fall Meeting for more than 40 years. Join our diverse communit
 y at the newly renovated Moscone Center as we collaborate across borders an
 d boundaries to explore and develop our research. Don’t miss this once-in-a
 -lifetime opportunity to participate in Centennial presentations and specia
 l events that will bring to life the past, present and the future of our sc
 ience.<br /><br />Today we stand at the intersection of history and our fut
 ure. Fall Meeting 2019 will prepare you for what’s ahead: rapid development
 s in our science, new approaches to observing our Earth and beyond, the int
 roduction of new data streams, growing demand for accessible science, the e
 xpansion of convergent science, and more. AGU will celebrate our past and i
 nspire the future by bringing together the people, the imagination, and the
  science that will ignite our next hundred years to make our planet safer, 
 cleaner, and more sustainable.&nbsp;</p><p><strong>Deadline for abstract su
 bmission: 31 July</strong></p><p>Find more information here:&nbsp;<a href="
 https://www2.agu.org/fall-meeting">https://www2.agu.org/fall-meeting</a></p
 >
DTSTAMP:20260424T010751Z
DTSTART;TZID=UTC;VALUE=DATE:20191209
DTEND;TZID=UTC;VALUE=DATE:20191214
SEQUENCE:0
TRANSP:OPAQUE
END:VEVENT
END:VCALENDAR