BEGIN:VCALENDAR
VERSION:2.0
PRODID:-//jEvents 2.0 for Joomla//EN
CALSCALE:GREGORIAN
METHOD:PUBLISH
BEGIN:VEVENT
UID:2b0f5a58d736571989cd02aa653dc7dc
CATEGORIES:Polar Conferences, Meetings and Events
CREATED:20190607T123811
SUMMARY:Symposium on the Impacts of an Ice-Diminishing Arctic on Naval and Maritime Operations
LOCATION:Washington\, D.C.\, USA
DESCRIPTION:<p>The 8th biennial Ice-Diminishing Arctic Symposium, co-hosted by the&nbsp
 ;<strong><a href="https://www.arctic.gov/">U.S. Arctic Research Commission<
 /a></strong>, the Wilson Center's&nbsp;<strong><a href="https://www.wilsonc
 enter.org/program/polar-institute">Polar Institute</a></strong>, the&nbsp;<
 strong><a href="https://www.natice.noaa.gov/">U.S. National Ice Center</a><
 /strong>, the&nbsp;<strong><a href="https://www.paxpartnership.org/">Patuxe
 nt Partnership</a></strong>, and&nbsp;<a href="http://www.smcm.edu/democrac
 y/"><strong>St. Mary's College of Maryland</strong></a>&nbsp;will be held o
 n July 17 and 18, 2019 at the Ronald Reagan Building Amphitheater.</p><p>Th
 is two-day event will feature experts speaking on Arctic marine operations,
  ocean and environmental issues, science, policy, law, and governance. Part
 icipants will learn about the impacts of an ice-diminishing Arctic Ocean on
  marine transportation, resource development, scientific research, federal,
  state, local, and international operations, and policy implications in the
  rapidly evolving Arctic. The symposium will be webcast and recorded, and a
  reception will be held at the conclusion of the first day.</p><p>For more 
 information see this link:&nbsp;<a href="https://www.wilsoncenter.org/event
 /8th-symposium-the-impacts-ice-diminishing-arctic-naval-and-maritime-operat
 ions">https://www.wilsoncenter.org/event/8th-symposium-the-impacts-ice-dimi
 nishing-arctic-naval-and-maritime-operations</a></p>
DTSTAMP:20260421T104853Z
DTSTART;TZID=UTC;VALUE=DATE:20190717
DTEND;TZID=UTC;VALUE=DATE:20190720
SEQUENCE:0
TRANSP:OPAQUE
END:VEVENT
END:VCALENDAR