BEGIN:VCALENDAR
VERSION:2.0
PRODID:-//jEvents 2.0 for Joomla//EN
CALSCALE:GREGORIAN
METHOD:PUBLISH
BEGIN:VEVENT
UID:13ebf19c1279d2a679fc7c336e38b952
CATEGORIES:Field and Summer Schools
CREATED:20160818T074525
SUMMARY:3rd Snow Science Winter School
LOCATION:Sodankylä\, Finland
DESCRIPTION:The 3rd Snow Science Winter School will be arranged 12-18 February 2017 by 
 WSL Institute for Snow and Avalanche Research SLF and Finnish Meteorologica
 l Institute at the FMI Arctic Research Centre in Sodankylä, Finland. The sc
 hool will teach advanced field techniques and relate these measurements to 
 microwave and spectral albedo measurements. The course will consist of fiel
 d and laboratory measurements combined with theoretical lessons in the clas
 sroom.\nAny graduate student or post-doc working on snow or in some snow re
 lated field, this year especially in remote sensing of the cryosphere, is w
 elcome to participate. Those fields include everybody interested in cryosph
 eric sciences. More information and details for applying: http://www.slf.ch
 /dienstleistungen/events/snowschool/index_DE. The application will open in 
 September 2016. The course fee is approximately 350 Euro.\n
X-ALT-DESC;FMTTYPE=text/html:<p style="text-align: justify;">The 3rd Snow Science Winter School will be 
 arranged <strong>12-18 February 2017</strong> by WSL Institute for Snow and
  Avalanche Research SLF and Finnish Meteorological Institute at the FMI Arc
 tic Research Centre in Sodankylä, Finland. The school will teach advanced f
 ield techniques and relate these measurements to microwave and spectral alb
 edo measurements. The course will consist of field and laboratory measureme
 nts combined with theoretical lessons in the classroom.</p><p style="text-a
 lign: justify;">Any graduate student or post-doc working on snow or in some
  snow related field, this year especially in remote sensing of the cryosphe
 re, is welcome to participate. Those fields include everybody interested in
  cryospheric sciences. More information and details for applying: <a href="
 http://www.slf.ch/dienstleistungen/events/snowschool/index_DE">http://www.s
 lf.ch/dienstleistungen/events/snowschool/index_DE</a>. The application will
  open in September 2016. The course fee is approximately 350 Euro.</p>
DTSTAMP:20260422T185637Z
DTSTART;TZID=UTC;VALUE=DATE:20170212
DTEND;TZID=UTC;VALUE=DATE:20170219
SEQUENCE:0
TRANSP:OPAQUE
END:VEVENT
END:VCALENDAR