BEGIN:VCALENDAR
VERSION:2.0
PRODID:-//jEvents 2.0 for Joomla//EN
CALSCALE:GREGORIAN
METHOD:PUBLISH
BEGIN:VEVENT
UID:a40c4cf62309260da8404261ae2d1d78
CATEGORIES:Polar Conferences, Meetings and Events
CREATED:20190606T120356
SUMMARY:International Tundra Experiment Meeting
LOCATION:Parma\, Italy
DESCRIPTION:<p>The International Tundra Experiment (ITEX) is a network of researchers e
 xamining the impacts of warming on tundra ecosystems.&nbsp; The power of IT
 EX is the ability to perform quantitative synthesis of observations across 
 many sites because the network of researchers agreed upon common protocols.
 &nbsp;This meeting will have the theme of&nbsp;<em>Documenting and Understa
 nding Tundra Ecosystem Changes</em>, and will focus on ecological research 
 in Arctic and alpine environments.</p><p>For further details see:&nbsp;<a h
 ref="http://www.itex2019.unipr.it">http://www.itex2019.unipr.it</a></p>
CONTACT:Alessandro Petraglia Email: This email address is being protected from spambots. You need JavaScript enabled to view it.
				document.getElementById('cloak9df14a7516419fa0e1157d542c311874').innerHTML = '';
				var prefix = '&#109;a' + 'i&#108;' + '&#116;o';
				var path = 'hr' + 'ef' + '=';
				var addy9df14a7516419fa0e1157d542c311874 = '&#97;l&#101;ss&#97;ndr&#111;.p&#101;tr&#97;gl&#105;&#97;' + '&#64;';
				addy9df14a7516419fa0e1157d542c311874 = addy9df14a7516419fa0e1157d542c311874 + '&#117;n&#105;pr' + '&#46;' + '&#105;t';
				var addy_text9df14a7516419fa0e1157d542c311874 = '&#97;l&#101;ss&#97;ndr&#111;.p&#101;tr&#97;gl&#105;&#97;' + '&#64;' + '&#117;n&#105;pr' + '&#46;' + '&#105;t';document.getElementById('cloak9df14a7516419fa0e1157d542c311874').innerHTML += '<a ' + path + '\'' + prefix + ':' + addy9df14a7516419fa0e1157d542c311874 + '\'>'+addy_text9df14a7516419fa0e1157d542c311874+'';
		
DTSTAMP:20260425T195328Z
DTSTART;TZID=UTC;VALUE=DATE:20190909
DTEND;TZID=UTC;VALUE=DATE:20190914
SEQUENCE:0
TRANSP:OPAQUE
END:VEVENT
END:VCALENDAR