BEGIN:VCALENDAR
VERSION:2.0
PRODID:-//jEvents 2.0 for Joomla//EN
CALSCALE:GREGORIAN
METHOD:PUBLISH
BEGIN:VEVENT
UID:59c8b28783d26ccf8283ad3910d54ac1
CATEGORIES:Field and Summer Schools
CREATED:20190512T100307
SUMMARY:High Altitude Geo-Biology Summer School Course in the Swiss Alps
LOCATION:Swiss Alps
DESCRIPTION:Please find detailed information on the “High Altitude Geo-Biology" Summer 
 School Course in the Swiss Alps here: http://www.microeco.ethz.ch/geobio/Ge
 oBiology_field_courses_Kurt_Hanselmann_ETHZ.html\n
X-ALT-DESC;FMTTYPE=text/html:<p>Please find detailed information on the “High Altitude Geo-Biology" Summ
 er School Course in the Swiss Alps here: <a href="http://www.microeco.ethz.
 ch/geobio/GeoBiology_field_courses_Kurt_Hanselmann_ETHZ.html">http://www.mi
 croeco.ethz.ch/geobio/GeoBiology_field_courses_Kurt_Hanselmann_ETHZ.html</a
 ></p>
DTSTAMP:20260421T150133Z
DTSTART;TZID=UTC:20190902T080000
DTEND;TZID=UTC:20190907T170000
SEQUENCE:0
TRANSP:OPAQUE
END:VEVENT
END:VCALENDAR