BEGIN:VCALENDAR
VERSION:2.0
PRODID:-//jEvents 2.0 for Joomla//EN
CALSCALE:GREGORIAN
METHOD:PUBLISH
BEGIN:VEVENT
UID:080f575d902eff5871fc444f133e30e9
CATEGORIES:Polar Conferences, Meetings and Events
CREATED:20160818T074234
SUMMARY:ESSAS International Open Science Meeting
LOCATION:Tromsø\, Norway
DESCRIPTION:Ecosystem Studies of Subarctic and Arctic Seas (ESSAS) will be holding thei
 r 3rd Open Science Meeting in Tromsø, Norway, on 11-15 June, 2017. The atta
 ched file (images/sultanbaeva/OSM_Announcement.pdf) provides information on
  the OSM.\nThe registration is now open on the ESSAS website (http://www.im
 r.no/essas/international_conference_on_subarctic_and_arctic_science/en).\nN
 ote that the registration, accommodation, and financial support information
  is on the right-hand side of the page. If you are planning on attending, p
 lease pre-register as soon as possible as it will help with our planning. Y
 ou do not have to submit an abstract or pay at the time you pre-register al
 though you may. \nThe deadline for abstract submissions and financial suppo
 rt applications has been changed from 15 to 30 January 2017.  They can be s
 ubmitted, along with the registration, on the ESSAS website (<a href="http:
 //www.imr.no/essas/international_conference_on_subarctic_and_arctic_science
 /en">http://www.imr.no/essas/international_conference_on_subarctic_and_arct
 ic_science/en</a>).   If you plan to attend, you can pre-register, which wo
 uld help with our planning.  You do not have to submit an abstract or pay a
 t the time you pre-register, although you may.  Notification of abstract ac
 ceptance will send out by the 15 February. \n \n
X-ALT-DESC;FMTTYPE=text/html:<p>Ecosystem Studies of Subarctic and Arctic Seas (ESSAS) will be holding t
 heir 3rd Open Science Meeting in <strong>Tromsø, Norway, on 11-15 June, 201
 7</strong>. The <a href="images/sultanbaeva/OSM_Announcement.pdf">attached 
 file</a> provides information on the OSM.</p><p>The registration is now ope
 n on the ESSAS website (http://www.imr.no/essas/international_conference_on
 _subarctic_and_arctic_science/en).</p><p>Note that the registration, accomm
 odation, and financial support information is on the right-hand side of the
  page. If you are planning on attending, please pre-register as soon as pos
 sible as it will help with our planning. You do not have to submit an abstr
 act or pay at the time you pre-register although you may. </p><p class="p1"
 ><span class="s1">The deadline for abstract submissions and financial suppo
 rt applications has been changed from 15 to <strong>30 January 2017</strong
 >.  They can be submitted, along with the registration, on the ESSAS websit
 e (<a href="http://www.imr.no/essas/international_conference_on_subarctic_a
 nd_arctic_science/en"><span class="s2">http://www.imr.no/essas/internationa
 l_conference_on_subarctic_and_arctic_science/en</span></a>).   If you plan 
 to attend, you can pre-register, which would help with our planning.  You d
 o not have to submit an abstract or pay at the time you pre-register, altho
 ugh you may.  Notification of abstract acceptance will send out by the 15 F
 ebruary. </span></p><p> </p>
DTSTAMP:20260424T143452Z
DTSTART;TZID=UTC;VALUE=DATE:20170611
DTEND;TZID=UTC;VALUE=DATE:20170616
SEQUENCE:0
TRANSP:OPAQUE
END:VEVENT
END:VCALENDAR