BEGIN:VCALENDAR
VERSION:2.0
PRODID:-//jEvents 2.0 for Joomla//EN
CALSCALE:GREGORIAN
METHOD:PUBLISH
BEGIN:VEVENT
UID:1f485f777df8453d8f766c99de2c8f38
CATEGORIES:Polar Conferences, Meetings and Events
CREATED:20190512T094330
SUMMARY:Byrd Women's Symposium
LOCATION:Ohio State University\, Ohio\, US
DESCRIPTION:A symposium that celebrates the 50th anniversary of the first all-women res
 earch team in Antarctica. Led by Dr. Lois Jones, this team of four women fr
 om The Ohio State University made polar history when they went to Antarctic
 a in 1969. The symposium will look at women’s past, present, and future in 
 science, research, discovery, and leadership.\nEarly Byrd Registration: 1Ma
 y - 30 June \nRegular Registration: 1 July - 4 October\nBanquet Fee: 1 May 
 - 4 October\nFind more information here: https://byrd.osu.edu/celebrate-wom
 en\n
X-ALT-DESC;FMTTYPE=text/html:<div id="b-header"><p>A&nbsp;symposium that celebrates the 50th anniversary
  of the first all-women research team in Antarctica.&nbsp;Led by Dr. Lois J
 ones, this team of four women from The Ohio State University made polar his
 tory when they went to Antarctica in 1969. The symposium will look at women
 ’s past, present, and future in science, research, discovery, and leadershi
 p.</p><p>Early Byrd Registration: 1May - 30 June&nbsp;</p><p>Regular Regist
 ration: 1 July - 4 October</p><p>Banquet Fee: 1 May - 4 October</p></div><p
 >Find more information here: <a href="https://byrd.osu.edu/celebrate-women"
 >https://byrd.osu.edu/celebrate-women</a></p>
DTSTAMP:20260422T001615Z
DTSTART;TZID=UTC;VALUE=DATE:20191017
DTEND;TZID=UTC;VALUE=DATE:20191019
SEQUENCE:0
TRANSP:OPAQUE
END:VEVENT
END:VCALENDAR