BEGIN:VCALENDAR
VERSION:2.0
PRODID:-//jEvents 2.0 for Joomla//EN
CALSCALE:GREGORIAN
METHOD:PUBLISH
BEGIN:VEVENT
UID:969c2ee66abeae24e17fc54ba35b6df4
CATEGORIES:APECS Events
CREATED:20190428T163642
SUMMARY:Science Policy Workshop 2019: "Raising awareness and building capacity for science-based policy-making"
LOCATION:Reykjavik\, Iceland
DESCRIPTION:The Workshop "Raising awareness and building capacity for science-based pol
 icy-making" will take place on 8 - 9 October 2019 in Reykjavik, Iceland, or
 ganized by the Association of Polar Early Career Scientists (APECS), the Ge
 rman Arctic Office of the Alfred Wegener Institute, Helmholtz Centre for Po
 lar and Marine Research (AWI), and the Icelandic Center for Research (RANNI
 S), in cooperation with the German Embassy in Reykjavik and supported by th
 e German Federal Foreign Office.\nFor more information, visit the workshop 
 website (events/upcoming-event-highlights/science-policy-workshop-2019.html
 ).\n
X-ALT-DESC;FMTTYPE=text/html:<p>The Workshop "Raising awareness and building capacity for science-based 
 policy-making" will take place on 8 - 9 October 2019 in Reykjavik, Iceland,
  organized by the Association of Polar Early Career Scientists (APECS), the
  German Arctic Office of the Alfred Wegener Institute, Helmholtz Centre for
  Polar and Marine Research (AWI), and the Icelandic Center for Research (RA
 NNIS), in cooperation with the German Embassy in Reykjavik and supported by
  the German Federal Foreign Office.</p><p>For more information, visit the <
 a href="events/upcoming-event-highlights/science-policy-workshop-2019.html"
 >workshop website</a>.</p>
CONTACT:This email address is being protected from spambots. You need JavaScript enabled to view it.
				document.getElementById('cloak2dd95c8a4c094534e21434eaca38ae17').innerHTML = '';
				var prefix = '&#109;a' + 'i&#108;' + '&#116;o';
				var path = 'hr' + 'ef' + '=';
				var addy2dd95c8a4c094534e21434eaca38ae17 = '&#105;nf&#111;' + '&#64;';
				addy2dd95c8a4c094534e21434eaca38ae17 = addy2dd95c8a4c094534e21434eaca38ae17 + '&#97;p&#101;cs' + '&#46;' + '&#105;s';
				var addy_text2dd95c8a4c094534e21434eaca38ae17 = '&#105;nf&#111;' + '&#64;' + '&#97;p&#101;cs' + '&#46;' + '&#105;s';document.getElementById('cloak2dd95c8a4c094534e21434eaca38ae17').innerHTML += '<a ' + path + '\'' + prefix + ':' + addy2dd95c8a4c094534e21434eaca38ae17 + '\'>'+addy_text2dd95c8a4c094534e21434eaca38ae17+'';
		
DTSTAMP:20260421T214406Z
DTSTART;TZID=UTC;VALUE=DATE:20191008
DTEND;TZID=UTC;VALUE=DATE:20191010
SEQUENCE:0
TRANSP:OPAQUE
END:VEVENT
END:VCALENDAR