BEGIN:VCALENDAR
VERSION:2.0
PRODID:-//jEvents 2.0 for Joomla//EN
CALSCALE:GREGORIAN
METHOD:PUBLISH
BEGIN:VEVENT
UID:8e1d27e2cc2aea8b84379d23d5da894b
CATEGORIES:Polar Conferences, Meetings and Events
CREATED:20190423T151858
SUMMARY:12th Polar Law Symposium
LOCATION:Hobart\, Australia
DESCRIPTION:The Institute for Marine and Antarctic Studies (University of Tasmania, Aus
 tralia) is proud to join the Polar Law Institute (University of Akureyri, I
 celand), the Northern Institute for Environmental and Minority Law – Arctic
  Centre (University of Lapland, Finland), the University of the Arctic and 
 its Arctic Law Thematic Network (Finland) to host the 12th Polar Law Sympos
 ium. This will be the second time the event has been held in Tasmania, foll
 owing the successful 7th Symposium held in 2014.\nAcademics, students and p
 ractitioners from around the world will attend and participate in this even
 t, which will include sessions on topics:\n\n - Developments in polar law\n
  - Polar marine resources\n - Climate law\n - Native peoples and human righ
 ts\n - The Antarctic Treaty system\n - Arctic Council\n - Developments in i
 nternational law\n - Asian interests in polar affairs\n - Polar economies a
 nd industryAbstract deadline: 30 April\nFor more information see this websi
 te: https://www.conferences.com.au/2019-polarlaw/\n
X-ALT-DESC;FMTTYPE=text/html:<p>The&nbsp;<strong>Institute for Marine and Antarctic Studies</strong>&nbs
 p;(University of Tasmania, Australia) is proud to join the&nbsp;<strong>Pol
 ar Law Institute</strong>&nbsp;(University of Akureyri, Iceland), the&nbsp;
 <strong>Northern Institute for Environmental and Minority Law – Arctic Cent
 re</strong>&nbsp;(University of Lapland, Finland), the&nbsp;<strong>Univers
 ity of the Arctic</strong>&nbsp;and its&nbsp;<strong>Arctic Law Thematic Ne
 twork</strong>&nbsp;(Finland) to host the 12th Polar Law Symposium. This wi
 ll be the second time the event has been held in Tasmania, following the su
 ccessful 7th Symposium held in 2014.</p><p>Academics, students and practiti
 oners from around the world will attend and participate in this event, whic
 h will include sessions on topics:</p><ul class="li-standard"><li>Developme
 nts in polar law</li><li>Polar marine resources</li><li>Climate law</li><li
 >Native peoples and human rights</li><li>The Antarctic Treaty system</li><l
 i>Arctic Council</li><li>Developments in international law</li><li>Asian in
 terests in polar affairs</li><li>Polar economies and industry</li></ul><p><
 strong>Abstract deadline: 30 April</strong></p><p>For more information see 
 this website:&nbsp;<a href="https://www.conferences.com.au/2019-polarlaw/">
 https://www.conferences.com.au/2019-polarlaw/</a></p>
DTSTAMP:20260423T222416Z
DTSTART;TZID=UTC;VALUE=DATE:20191201
DTEND;TZID=UTC;VALUE=DATE:20191205
SEQUENCE:0
TRANSP:OPAQUE
END:VEVENT
END:VCALENDAR