BEGIN:VCALENDAR
VERSION:2.0
PRODID:-//jEvents 2.0 for Joomla//EN
CALSCALE:GREGORIAN
METHOD:PUBLISH
BEGIN:VEVENT
UID:e259f1df7f1c9801f753178f3c58bd9f
CATEGORIES:Polar Conferences, Meetings and Events
CREATED:20190418T081049
SUMMARY:2nd REKLIM conference "Our Climate Our Future"
LOCATION:Berlin\, Germany
DESCRIPTION:One of the declared goals of the Paris Agreement is to limit global warming
  to no more than 1.5 °C above pre-industrial levels, changing the context f
 or policy-relevant research and posing a major challenge for researchers. I
 n response, today’s climate research is largely focused on analysing and un
 derstanding the regional effects of global climate change, especially to de
 scribe the impacts of climate change on a socially relevant scale.This is w
 here the Helmholtz Climate Initiative REKLIM (https://www.reklim.de/) comes
  in: since October 2009, experts from the nine centres in the <a href="http
 s://www.helmholtz.de/forschung/erde_und_umwelt/" target="_blank" rel="noope
 ner">Helmholtz Association’s research field Earth and Environment</a> have 
 been collaborating on eight research topics. Working hand in hand with univ
 ersity partners, the Helmholtz Research Centres can effectively pool their 
 regional climate change expertise. Regional observations and process studie
 s, together with simulations, will help to refine regional and global clima
 te models, which in turn provide a solid basis for informed climate-related
  decision-making. In addition, REKLIM fosters interdisciplinary regional cl
 imate research in Germany.Looking back on ten successful years and looking 
 ahead to the next funding period, REKLIM will host the 2nd International Co
 nference.The conference’s main goal is to provide a forum where scientists 
 from around the globe can present and discuss the latest findings on region
 al climate research in connection with REKLIM’s focus areas.The scientific 
 conference will be followed by a public engagement day on 26 September 2019
 , which will focus on promoting dialogue (in German) between scientists and
  decision-makers from the political and administrative sectors, and at prof
 essional associations.The Public Engagement Day will be on 26 September.Dea
 dline for submitting abstracts: 31 May 2019Deadline for travel grant applic
 ations: 31 May 2019Letter of acceptance: 17 June 2019Deadline for Early Bir
 d registration (online): 30 June 2019Deadline for online registration: 8 Se
 ptember 2019See further information here: https://www.reklim-conference-201
 9.de
X-ALT-DESC;FMTTYPE=text/html:<div class="e113-6 x-text">One of the declared goals of the Paris Agreement
  is to limit global warming to no more than 1.5&nbsp;°C above pre-industria
 l levels, changing the context for policy-relevant research and posing a ma
 jor challenge for researchers. In response, today’s climate research is lar
 gely focused on analysing and understanding the regional effects of global 
 climate change, especially to describe the impacts of climate change on a s
 ocially relevant scale.</div><div class="e113-7 x-text">This is where the&n
 bsp;<a href="https://www.reklim.de/" target="_blank" rel="noopener">Helmhol
 tz Climate Initiative REKLIM</a>&nbsp;comes in: since October 2009, experts
  from the nine centres in the&nbsp;<a href="https://www.helmholtz.de/forsch
 ung/erde_und_umwelt/" target="_blank" rel="noopener">Helmholtz Association’
 s research field Earth and Environment</a>&nbsp;have been collaborating on 
 eight research topics. Working hand in hand with university partners, the H
 elmholtz Research Centres can effectively pool their regional climate chang
 e expertise. Regional observations and process studies, together with simul
 ations, will help to refine regional and global climate models, which in tu
 rn provide a solid basis for informed climate-related decision-making. In a
 ddition, REKLIM fosters interdisciplinary regional climate research in Germ
 any.</div><div class="e113-8 x-text">Looking back on ten successful years a
 nd looking ahead to the next funding period, REKLIM will host the 2nd Inter
 national Conference.</div><div></div><div><div class="e113-10 x-text">The c
 onference’s main goal is to provide a forum where scientists from around th
 e globe can present and discuss the latest findings on regional climate res
 earch in connection with REKLIM’s focus areas.</div><div class="e113-11 x-t
 ext">The scientific conference will be followed by a public engagement day 
 on 26 September 2019, which will focus on promoting dialogue (in German) be
 tween scientists and decision-makers from the political and administrative 
 sectors, and at professional associations.</div><div></div><div>The Public 
 Engagement Day will be on 26 September.</div><div></div><div><div class="e1
 29-6 x-text"><strong>Deadline for submitting abstracts:</strong>&nbsp;31 Ma
 y 2019</div><div class="e129-7 x-text"><strong>Deadline for travel grant ap
 plications:</strong>&nbsp;31 May 2019</div><div class="e129-8 x-text"><stro
 ng>Letter of acceptance:</strong>&nbsp;17 June 2019</div><div class="e129-9
  x-text"><strong>Deadline for Early Bird registration (online):</strong>&nb
 sp;30 June 2019</div><div class="e129-10 x-text"><strong>Deadline for onlin
 e registration:</strong>&nbsp;8 September 2019</div></div><div></div><div>S
 ee further information here:&nbsp;<a href="https://www.reklim-conference-20
 19.de">https://www.reklim-conference-2019.de</a></div></div>
DTSTAMP:20260422T050134Z
DTSTART;TZID=UTC;VALUE=DATE:20190923
DTEND;TZID=UTC;VALUE=DATE:20190926
SEQUENCE:0
TRANSP:OPAQUE
END:VEVENT
END:VCALENDAR