BEGIN:VCALENDAR
VERSION:2.0
PRODID:-//jEvents 2.0 for Joomla//EN
CALSCALE:GREGORIAN
METHOD:PUBLISH
BEGIN:VEVENT
UID:92bfb89057752228f03d786442c7e20c
CATEGORIES:Polar Conferences, Meetings and Events
CREATED:20190410T134403
SUMMARY:1st RMetS Climate Change Forum
LOCATION:London\, UK
DESCRIPTION:The 1st Royal Meteorological Society Climate Change Forum runs under the th
 eme “Risks and Resilience: Emerging challenges in a post Paris world” and t
 akes place at Coin Street Conference Centre, London on the 4th June 2019. T
 his event brings together the UK climate science community and is a unique 
 chance to discuss current needs, research challenges and policy requirement
 s in an interdisciplinary way.\n\nThe interactive format of the day consist
 s of keynote lectures in the morning, an extended poster and networking ses
 sion over lunch and interactive round table discussions in the afternoon. \
 n\nSpeakers in the morning from government, parliament and advisory bodies 
 help to understand recent challenges of the UK society and government. The 
 poster session features recent highlights in climate change research includ
 ing natural, social sciences and interdisciplinary research approaches. It 
 also covers climate actions from the private and public sector, science com
 munication and the science-policy dialogue. This session provides an opport
 unity for exchanging knowledge from within the UK climate research communit
 y in interdisciplinary ways. The round tables in the afternoon explore scie
 nce challenges for future research and society as well as current challenge
 s the climate science community is facing.\nAbstract Submission Deadline: 2
 6 April\nFurther information regarding registration etc you'll find here: h
 ttps://www.rmets.org/event/1st-rmets-climate-change-forum\n
X-ALT-DESC;FMTTYPE=text/html:<p>The 1st Royal Meteorological Society Climate Change Forum runs under the
  theme “Risks and Resilience: Emerging challenges in a post Paris world” an
 d takes place at Coin Street Conference Centre, London on the 4th June 2019
 . This event brings together the UK climate science community and is a uniq
 ue chance to discuss current needs, research challenges and policy requirem
 ents in an interdisciplinary way.<br /><br />The interactive format of the 
 day consists of keynote lectures in the morning, an extended poster and net
 working session over lunch and interactive round table discussions in the a
 fternoon.&nbsp;<br /><br />Speakers in the morning from government, parliam
 ent and advisory bodies help to understand recent challenges of the UK soci
 ety and government. The poster session features recent highlights in climat
 e change research including natural, social sciences and interdisciplinary 
 research approaches. It also covers climate actions from the private and pu
 blic sector, science communication and the science-policy dialogue. This se
 ssion provides an opportunity for exchanging knowledge from within the UK c
 limate research community in interdisciplinary ways. The round tables in th
 e afternoon explore science challenges for future research and society as w
 ell as current challenges the climate science community is facing.</p><p><s
 trong>Abstract Submission Deadline: 26 April</strong></p><p>Further informa
 tion regarding registration etc you'll find here:&nbsp;<a href="https://www
 .rmets.org/event/1st-rmets-climate-change-forum">https://www.rmets.org/even
 t/1st-rmets-climate-change-forum</a></p>
DTSTAMP:20260421T160901Z
DTSTART;TZID=UTC:20190604T100000
DTEND;TZID=UTC:20190604T180000
SEQUENCE:0
TRANSP:OPAQUE
END:VEVENT
END:VCALENDAR