BEGIN:VCALENDAR
VERSION:2.0
PRODID:-//jEvents 2.0 for Joomla//EN
CALSCALE:GREGORIAN
METHOD:PUBLISH
BEGIN:VEVENT
UID:af56c5673fa05e6cd7f183cc3c1107db
CATEGORIES:Polar Conferences, Meetings and Events
CREATED:20160811T082619
SUMMARY:International research and practice conference "Arctic Polar Routes"
LOCATION:Murmansk\, Russia
DESCRIPTION:<p>Murmansk Arctic State University has the honor to invite you to the <str
 ong>international research and practice conference "Arctic Polar Routes"</s
 trong>.</p><p>The conference will be held on <strong>November 15, 2016</str
 ong> as part of the Murmansk Business Week.</p><p><strong> The main themes 
 of the conference are:</strong><br />• Historical and geographic expedition
 s and research in the Arctic;<br />• Ecosystems and the environmental condi
 tion of the Arctic territories;<br />• Social, economic and investment acti
 vities in the polar regions.</p><p>The main initiators of the conference ar
 e the Government of the Murmansk Region and Murmansk Arctic State Universit
 y. Politicians and leading scientists from Russia, Finland, Norway and othe
 r countries will attend the conference.</p><p><strong>Additional Informatio
 n:</strong></p><p>- Participation in the Conference is without payment of r
 egistration fee.<br />- Conducting of the Conference will be provided by si
 multaneous interpreting from the Russian language into the English language
 . <br />- It is necessary to confirm your participation and send a paper pr
 oposal at the Conference to the email address: <span id="cloak91355e710a3f6
 ab685cf6590cace70eb">This email address is being protected from spambots. Y
 ou need JavaScript enabled to view it.</span><script type='text/javascript'
 >
				document.getElementById('cloak91355e710a3f6ab685cf6590cace70eb').inne
 rHTML = '';
				var prefix = '&#109;a' + 'i&#108;' + '&#116;o';
				var pat
 h = 'hr' + 'ef' + '=';
				var addy91355e710a3f6ab685cf6590cace70eb = 'Sc&#
 105;&#101;nc&#101;' + '&#64;';
				addy91355e710a3f6ab685cf6590cace70eb = a
 ddy91355e710a3f6ab685cf6590cace70eb + 'msp&#117;' + '&#46;' + '&#101;d&#117
 ;' + '&#46;' + 'r&#117;';
				var addy_text91355e710a3f6ab685cf6590cace70eb
  = 'Sc&#105;&#101;nc&#101;' + '&#64;' + 'msp&#117;' + '&#46;' + '&#101;d&#1
 17;' + '&#46;' + 'r&#117;';document.getElementById('cloak91355e710a3f6ab685
 cf6590cace70eb').innerHTML += '<a ' + path + '\'' + prefix + ':' + addy9135
 5e710a3f6ab685cf6590cace70eb + '\'>'+addy_text91355e710a3f6ab685cf6590cace7
 0eb+'<\/a>';
		</script> on or before <strong>01.10.2016</strong></p><p><st
 rong>For more information: <a href="images/sultanbaeva/Concept_of_the_Confe
 rence_Eng.docx">conference concept</a></strong>.</p>
DTSTAMP:20260422T193637Z
DTSTART;TZID=UTC;VALUE=DATE:20161115
DTEND;TZID=UTC;VALUE=DATE:20161116
SEQUENCE:0
TRANSP:OPAQUE
END:VEVENT
END:VCALENDAR