BEGIN:VCALENDAR
VERSION:2.0
PRODID:-//jEvents 2.0 for Joomla//EN
CALSCALE:GREGORIAN
METHOD:PUBLISH
BEGIN:VEVENT
UID:b9fbad8cecb6bf8665d2c7392fdfadd9
CATEGORIES:Polar Conferences, Meetings and Events
CREATED:20190405T121835
SUMMARY:UK Arctic Science Conference
LOCATION: Loughborough\, UK
DESCRIPTION:The 2019 UK Arctic Science Conference will be hosted by Loughborough Univer
 sity with financial and administrative support from the NERC Arctic Office 
 (http://www.arctic.ac.uk/). This three day conference brings together UK Ar
 ctic scientists from all natural and social science disciplines to present 
 and discuss recent findings.\nMore information you can find here: <a href="
 https://www.arctic.ac.uk/ukarcticconf/">https://www.arctic.ac.uk/ukarcticco
 nf/</a>\n \n
X-ALT-DESC;FMTTYPE=text/html:<p>The 2019 UK Arctic Science Conference will be hosted by Loughborough Uni
 versity with financial and administrative support from the&nbsp;<a href="ht
 tp://www.arctic.ac.uk/" target="_blank" rel="nofollow noopener noreferrer">
 NERC Arctic Office</a>. This three day conference brings together UK Arctic
  scientists from all natural and social science disciplines to present and 
 discuss recent findings.</p><p>More information you can find here:&nbsp;<a 
 href="https://www.arctic.ac.uk/ukarcticconf/">https://www.arctic.ac.uk/ukar
 cticconf/</a></p><p>&nbsp;</p>
DTSTAMP:20260422T003541Z
DTSTART;TZID=UTC;VALUE=DATE:20190911
DTEND;TZID=UTC;VALUE=DATE:20190914
SEQUENCE:0
TRANSP:OPAQUE
END:VEVENT
END:VCALENDAR