BEGIN:VCALENDAR
VERSION:2.0
PRODID:-//jEvents 2.0 for Joomla//EN
CALSCALE:GREGORIAN
METHOD:PUBLISH
BEGIN:VEVENT
UID:8c73156ae0621786edcaf08c2488d453
CATEGORIES:Polar Conferences, Meetings and Events
CREATED:20190405T120902
SUMMARY:WAIS Workshop 2019
LOCATION:Julian\, California\, USA
DESCRIPTION:This NSF- and NASA-sponsored meeting hosts transdisciplinary and societally
  critical science focused on marine ice-sheet and adjacent earth systems, w
 ith particular emphasis on the West Antarctic Ice Sheet (WAIS). Similar to 
 past years, registration and abstraction submission will open in early July
  and the abstract deadline will be in August. The WAIS Workshop will immedi
 ately follow the 2019 Interdisciplinary Antarctic Earth Sciences meeting fr
 om October 13-15, also at Camp Cedar Glen.\nThe meeting will follow a simil
 ar format as past meetings with a single session style and panel discussion
 s following each scientific program session. This year we will be adding ne
 w features to the WAIS Workshop to increase accessibility for the wider com
 munity and to continue and push forward our community’s ongoing discussions
  surrounding diversity, inclusion, and retention. More details on these pro
 grams will be announced along with session themes, and registration, travel
  support, and abstract deadlines in the coming months.\nWe want to encourag
 e the participation of graduate students and early career scientists, as we
 ll as scientists in fields relevant to West Antarctic Ice Sheet system, suc
 h as biologists, atmospheric scientists, computer scientists, and engineers
 .\nRegistration is open until 10 September. \nFind more information at: htt
 ps://www.waisworkshop.org/2019-wais-workshop\n
X-ALT-DESC;FMTTYPE=text/html:<p>This NSF- and NASA-sponsored meeting hosts transdisciplinary and societa
 lly critical science focused on marine ice-sheet and adjacent earth systems
 , with particular emphasis on the West Antarctic Ice Sheet (WAIS). Similar 
 to past years, registration and abstraction submission will open in early J
 uly and the abstract deadline will be in August. The WAIS Workshop will imm
 ediately follow the 2019 Interdisciplinary Antarctic Earth Sciences meeting
  from October 13-15, also at Camp Cedar Glen.</p><p>The meeting will follow
  a similar format as past meetings with a single session style and panel di
 scussions following each scientific program session. This year we will be a
 dding new features to the WAIS Workshop to increase accessibility for the w
 ider community and to continue and push forward our community’s ongoing dis
 cussions surrounding diversity, inclusion, and retention. More details on t
 hese programs will be announced along with session themes, and registration
 , travel support, and abstract deadlines in the coming months.</p><p>We wan
 t to encourage the participation of graduate students and early career scie
 ntists, as well as scientists in fields relevant to West Antarctic Ice Shee
 t system, such as biologists, atmospheric scientists, computer scientists, 
 and engineers.</p><p><strong>Registration is open until 10 September. </str
 ong></p><p>Find more information at:&nbsp;<a style="font-family: inherit; f
 ont-size: 1rem;" href="https://www.waisworkshop.org/2019-wais-workshop">htt
 ps://www.waisworkshop.org/2019-wais-workshop</a></p>
DTSTAMP:20260422T001522Z
DTSTART;TZID=UTC;VALUE=DATE:20191016
DTEND;TZID=UTC;VALUE=DATE:20191019
SEQUENCE:0
TRANSP:OPAQUE
END:VEVENT
END:VCALENDAR